BEGIN:VCALENDAR
VERSION:2.0
PRODID:-//SAYVA - ECPv6.15.20//NONSGML v1.0//EN
CALSCALE:GREGORIAN
METHOD:PUBLISH
X-ORIGINAL-URL:https://sayva.us
X-WR-CALDESC:Events for SAYVA
REFRESH-INTERVAL;VALUE=DURATION:PT1H
X-Robots-Tag:noindex
X-PUBLISHED-TTL:PT1H
BEGIN:VTIMEZONE
TZID:UTC
BEGIN:STANDARD
TZOFFSETFROM:+0000
TZOFFSETTO:+0000
TZNAME:UTC
DTSTART:20250101T000000
END:STANDARD
END:VTIMEZONE
BEGIN:VEVENT
DTSTART;TZID=UTC:20260202T143000
DTEND;TZID=UTC:20260202T163000
DTSTAMP:20260424T163031
CREATED:20251218T175232Z
LAST-MODIFIED:20251218T175232Z
UID:10000694-1770042600-1770049800@sayva.us
SUMMARY:Wise Aging in Everyday Life
DESCRIPTION:6 sessions\, Mondays from 2:30-4:30pm (PT)\nJan 12\, Jan 19\, Jan 26\, Feb 2\, Feb 9\, Feb 16\, 2026\nOn ZOOM only \nParticipants must have taken “Introduction to Wise Aging” or its equivalent in order to be accepted into this class. \nAnyone who isn’t sure whether they’ve met the necessary prerequisites for this class should contact Valerie Edwards at valerie.edwards9999@gmail.com to discuss their individual situation.  Those who register for the class but don’t attend the first session may be dropped from the class. \nZOOM link sent upon registration.
URL:https://sayva.us/event/wise-aging-in-everyday-life/2026-02-02/
ATTACH;FMTTYPE=image/png:https://sayva.us/wp-content/uploads/2025/08/1dfd49d7d1d58bbb4779dcfd2cd2fbda8722140c.png
END:VEVENT
BEGIN:VEVENT
DTSTART;TZID=UTC:20260204T103000
DTEND;TZID=UTC:20260204T113000
DTSTAMP:20260424T163031
CREATED:20250612T183359Z
LAST-MODIFIED:20250612T183359Z
UID:10000403-1770201000-1770204600@sayva.us
SUMMARY:Kibbitz Korner
DESCRIPTION:Wednesdays at Temple Ramat Zion \nCelebrate the spirit of togetherness with us! Our Kibbitz Korner meets every Wednesday at 10:30AM. A different type of program each week: karaoke\, card games\, trivia and more. \n10:30-11:30AM \nFun Games\nCommunity\nEntertainment\nTreats and Beverages
URL:https://sayva.us/event/kibbitz-korner/2026-02-04/
LOCATION:Temple RAMAT ZION\, 17655 Devonshire Street\, Northridge\, CA\, 91325\, United States
CATEGORIES:SAYVA Partner/Network
ATTACH;FMTTYPE=image/png:https://sayva.us/wp-content/uploads/2025/06/KibbitzKornerTRZ.png
END:VEVENT
BEGIN:VEVENT
DTSTART;TZID=UTC:20260209T143000
DTEND;TZID=UTC:20260209T163000
DTSTAMP:20260424T163031
CREATED:20251218T175232Z
LAST-MODIFIED:20251218T175232Z
UID:10000695-1770647400-1770654600@sayva.us
SUMMARY:Wise Aging in Everyday Life
DESCRIPTION:6 sessions\, Mondays from 2:30-4:30pm (PT)\nJan 12\, Jan 19\, Jan 26\, Feb 2\, Feb 9\, Feb 16\, 2026\nOn ZOOM only \nParticipants must have taken “Introduction to Wise Aging” or its equivalent in order to be accepted into this class. \nAnyone who isn’t sure whether they’ve met the necessary prerequisites for this class should contact Valerie Edwards at valerie.edwards9999@gmail.com to discuss their individual situation.  Those who register for the class but don’t attend the first session may be dropped from the class. \nZOOM link sent upon registration.
URL:https://sayva.us/event/wise-aging-in-everyday-life/2026-02-09/
ATTACH;FMTTYPE=image/png:https://sayva.us/wp-content/uploads/2025/08/1dfd49d7d1d58bbb4779dcfd2cd2fbda8722140c.png
END:VEVENT
BEGIN:VEVENT
DTSTART;TZID=UTC:20260211T103000
DTEND;TZID=UTC:20260211T113000
DTSTAMP:20260424T163031
CREATED:20250612T183359Z
LAST-MODIFIED:20250612T183359Z
UID:10000404-1770805800-1770809400@sayva.us
SUMMARY:Kibbitz Korner
DESCRIPTION:Wednesdays at Temple Ramat Zion \nCelebrate the spirit of togetherness with us! Our Kibbitz Korner meets every Wednesday at 10:30AM. A different type of program each week: karaoke\, card games\, trivia and more. \n10:30-11:30AM \nFun Games\nCommunity\nEntertainment\nTreats and Beverages
URL:https://sayva.us/event/kibbitz-korner/2026-02-11/
LOCATION:Temple RAMAT ZION\, 17655 Devonshire Street\, Northridge\, CA\, 91325\, United States
CATEGORIES:SAYVA Partner/Network
ATTACH;FMTTYPE=image/png:https://sayva.us/wp-content/uploads/2025/06/KibbitzKornerTRZ.png
END:VEVENT
BEGIN:VEVENT
DTSTART;TZID=UTC:20260212T160000
DTEND;TZID=UTC:20260212T170000
DTSTAMP:20260424T163031
CREATED:20260208T210448Z
LAST-MODIFIED:20260208T210458Z
UID:10000703-1770912000-1770915600@sayva.us
SUMMARY:Restless Soul: Mordecai Kaplan and the Reinvention of American Judaism
DESCRIPTION:Restless Soul: Mordecai Kaplan and the Reinvention of American Judaism February 12\, 19 and 26th\,\n4:00-5:00PM —ONLINE ONLY \nRabbi Mordecai Kaplan was admired by many\, challenged by others\, and never stopped trying to reinvent what it meant to live a Jewish life in the modern world. \nIn this special three-part Melton+ series presented in cooperation with Valley Beth Shalom\, the Harold M Schulweis Institute\, and the Mordecai Kaplan Center for Jewish Peoplehood\, Rabbi Ed Feinstein sits down with historian Jenna Weissman Joselit\, author of the forthcoming Jewish Lives biography Mordecai M. Kaplan: Restless Soul\, for a candid and compelling exploration of Kaplan’s life and legacy. Founder of the Reconstructionist movement\, fierce critic of inherited dogma\, and tireless advocate for a Judaism that could speak to modern life\, Kaplan reshaped American Jewish identity and ignited ongoing debate about faith\, community\, and change. \nCLICK HERE for more INFO
URL:https://sayva.us/event/restless-soul-mordecai-kaplan-and-the-reinvention-of-american-judaism/2026-02-12/
CATEGORIES:SAYVA Partner/Network
ATTACH;FMTTYPE=image/png:https://sayva.us/wp-content/uploads/2026/02/158b79e4-3264-41e3-87cc-07a33da13d5c.png
END:VEVENT
BEGIN:VEVENT
DTSTART;TZID=UTC:20260215T163000
DTEND;TZID=UTC:20260215T173000
DTSTAMP:20260424T163031
CREATED:20260208T205647Z
LAST-MODIFIED:20260208T205647Z
UID:10000698-1771173000-1771176600@sayva.us
SUMMARY:Music of the Middle East﻿—Temple Ramat Zion ﻿
DESCRIPTION:Temple Ramat Zion\nMusic of the Middle East \nFebruary 15 at 4:30PM \n \nVisit https://www.trz.org/ for more info.
URL:https://sayva.us/event/music-of-the-middle-east-temple-ramat-zion/
ATTACH;FMTTYPE=image/png:https://sayva.us/wp-content/uploads/2026/02/MofMiddleEast.png
END:VEVENT
BEGIN:VEVENT
DTSTART;TZID=UTC:20260216T143000
DTEND;TZID=UTC:20260216T163000
DTSTAMP:20260424T163031
CREATED:20251218T175232Z
LAST-MODIFIED:20251218T175232Z
UID:10000696-1771252200-1771259400@sayva.us
SUMMARY:Wise Aging in Everyday Life
DESCRIPTION:6 sessions\, Mondays from 2:30-4:30pm (PT)\nJan 12\, Jan 19\, Jan 26\, Feb 2\, Feb 9\, Feb 16\, 2026\nOn ZOOM only \nParticipants must have taken “Introduction to Wise Aging” or its equivalent in order to be accepted into this class. \nAnyone who isn’t sure whether they’ve met the necessary prerequisites for this class should contact Valerie Edwards at valerie.edwards9999@gmail.com to discuss their individual situation.  Those who register for the class but don’t attend the first session may be dropped from the class. \nZOOM link sent upon registration.
URL:https://sayva.us/event/wise-aging-in-everyday-life/2026-02-16/
ATTACH;FMTTYPE=image/png:https://sayva.us/wp-content/uploads/2025/08/1dfd49d7d1d58bbb4779dcfd2cd2fbda8722140c.png
END:VEVENT
BEGIN:VEVENT
DTSTART;TZID=UTC:20260218T103000
DTEND;TZID=UTC:20260218T113000
DTSTAMP:20260424T163031
CREATED:20250612T183359Z
LAST-MODIFIED:20250612T183359Z
UID:10000405-1771410600-1771414200@sayva.us
SUMMARY:Kibbitz Korner
DESCRIPTION:Wednesdays at Temple Ramat Zion \nCelebrate the spirit of togetherness with us! Our Kibbitz Korner meets every Wednesday at 10:30AM. A different type of program each week: karaoke\, card games\, trivia and more. \n10:30-11:30AM \nFun Games\nCommunity\nEntertainment\nTreats and Beverages
URL:https://sayva.us/event/kibbitz-korner/2026-02-18/
LOCATION:Temple RAMAT ZION\, 17655 Devonshire Street\, Northridge\, CA\, 91325\, United States
CATEGORIES:SAYVA Partner/Network
ATTACH;FMTTYPE=image/png:https://sayva.us/wp-content/uploads/2025/06/KibbitzKornerTRZ.png
END:VEVENT
BEGIN:VEVENT
DTSTART;TZID=UTC:20260218T190000
DTEND;TZID=UTC:20260218T203000
DTSTAMP:20260424T163031
CREATED:20250911T184654Z
LAST-MODIFIED:20250911T184654Z
UID:10000663-1771441200-1771446600@sayva.us
SUMMARY:Rosh Hodesh—TRZ's Monthly Women's Meet Up
DESCRIPTION:Rosh Hodesh—TRZ’s Monthly Women’s Meet Up \nA Program for Women 50+ Navigating Life Together \n 
URL:https://sayva.us/event/rosh-hodesh-trzs-monthly-womens-meet-up/2026-02-18/
ATTACH;FMTTYPE=image/png:https://sayva.us/wp-content/uploads/2025/09/Rosh-Hodesh-25-26-2.png
END:VEVENT
BEGIN:VEVENT
DTSTART;TZID=UTC:20260219T133000
DTEND;TZID=UTC:20260219T153000
DTSTAMP:20260424T163031
CREATED:20260208T205823Z
LAST-MODIFIED:20260208T205823Z
UID:10000699-1771507800-1771515000@sayva.us
SUMMARY:TJVillage Thursday Program: ﻿ ﻿A Persian Purim
DESCRIPTION:TJVillage Thursday Program:\nA Persian Purim \nThursday\, February 19 \n1:30 PM – 3:30 PM—Temple Judea \nGuest Speaker\, Shora Kianfar\, will discuss Iranian Jewish customs and historical landmarks associated with Queen Esther. While we enjoy Purim pastries\, we will have the opportunity to ask questions and share our own Purim memories & traditions! \nCLICK HERE to RSVP
URL:https://sayva.us/event/tjvillage-thursday-program-a-persian-purim/
CATEGORIES:SAYVA Partner/Network
ATTACH;FMTTYPE=image/png:https://sayva.us/wp-content/uploads/2024/10/tjudea.png
END:VEVENT
BEGIN:VEVENT
DTSTART;TZID=UTC:20260219T160000
DTEND;TZID=UTC:20260219T170000
DTSTAMP:20260424T163031
CREATED:20260208T210448Z
LAST-MODIFIED:20260208T210458Z
UID:10000704-1771516800-1771520400@sayva.us
SUMMARY:Restless Soul: Mordecai Kaplan and the Reinvention of American Judaism
DESCRIPTION:Restless Soul: Mordecai Kaplan and the Reinvention of American Judaism February 12\, 19 and 26th\,\n4:00-5:00PM —ONLINE ONLY \nRabbi Mordecai Kaplan was admired by many\, challenged by others\, and never stopped trying to reinvent what it meant to live a Jewish life in the modern world. \nIn this special three-part Melton+ series presented in cooperation with Valley Beth Shalom\, the Harold M Schulweis Institute\, and the Mordecai Kaplan Center for Jewish Peoplehood\, Rabbi Ed Feinstein sits down with historian Jenna Weissman Joselit\, author of the forthcoming Jewish Lives biography Mordecai M. Kaplan: Restless Soul\, for a candid and compelling exploration of Kaplan’s life and legacy. Founder of the Reconstructionist movement\, fierce critic of inherited dogma\, and tireless advocate for a Judaism that could speak to modern life\, Kaplan reshaped American Jewish identity and ignited ongoing debate about faith\, community\, and change. \nCLICK HERE for more INFO
URL:https://sayva.us/event/restless-soul-mordecai-kaplan-and-the-reinvention-of-american-judaism/2026-02-19/
CATEGORIES:SAYVA Partner/Network
ATTACH;FMTTYPE=image/png:https://sayva.us/wp-content/uploads/2026/02/158b79e4-3264-41e3-87cc-07a33da13d5c.png
END:VEVENT
BEGIN:VEVENT
DTSTART;TZID=UTC:20260223T100000
DTEND;TZID=UTC:20260223T130000
DTSTAMP:20260424T163031
CREATED:20260208T205933Z
LAST-MODIFIED:20260208T205933Z
UID:10000700-1771840800-1771851600@sayva.us
SUMMARY:VBS Hazak—Hazak Mondays
DESCRIPTION:VBS Hazak \nHazak Monday\nFebruary 23\n(10:00 am – 2:00 pm) \nHazak Monday in person at VBS and online on YouTube.\n\n\n\n\n\n\n\n\n10:00AM:  What Next for Israel and the Middle East? with Steve Zipperstein\, UCLA\n\n\n11:15AM: Better Living Through the Magic of Communication\, with Clinical Psychologist and VBS Member Ron Reiter\n\n\n\n\n\n\n\n\nCLICK HERE for more INFO
URL:https://sayva.us/event/vbs-hazak-hazak-mondays/
ATTACH;FMTTYPE=image/png:https://sayva.us/wp-content/uploads/2024/10/vbs.png
END:VEVENT
BEGIN:VEVENT
DTSTART;TZID=UTC:20260223T180000
DTEND;TZID=UTC:20260223T200000
DTSTAMP:20260424T163031
CREATED:20260208T210045Z
LAST-MODIFIED:20260208T210045Z
UID:10000701-1771869600-1771876800@sayva.us
SUMMARY:L'Dor v'Dor Teaching Ourselves about our Ancestors - A Genealogy Workshop with Richard Hoffman\,
DESCRIPTION:Temple Judea\nL’Dor v’Dor Teaching Ourselves about our Ancestors – A Genealogy Workshop with Richard Hoffman\, Monday\, February 23—6:00 PM – 8:00 PM \nHave you ever wondered where your grandparents lived? How their birth\, death or marriage was announced by presenting the event before the landsmen\, the documents that represent these life events are largely available through the genealogical indexes that are now on the internet. Learn to research your family tree by attending this genealogy workshop — a favorite at Temple Judea. \nCLICK HERE to RSVP
URL:https://sayva.us/event/ldor-vdor-teaching-ourselves-about-our-ancestors-a-genealogy-workshop-with-richard-hoffman/
CATEGORIES:SAYVA Partner/Network
END:VEVENT
BEGIN:VEVENT
DTSTART;TZID=UTC:20260225T103000
DTEND;TZID=UTC:20260225T113000
DTSTAMP:20260424T163031
CREATED:20250612T183359Z
LAST-MODIFIED:20250612T183359Z
UID:10000406-1772015400-1772019000@sayva.us
SUMMARY:Kibbitz Korner
DESCRIPTION:Wednesdays at Temple Ramat Zion \nCelebrate the spirit of togetherness with us! Our Kibbitz Korner meets every Wednesday at 10:30AM. A different type of program each week: karaoke\, card games\, trivia and more. \n10:30-11:30AM \nFun Games\nCommunity\nEntertainment\nTreats and Beverages
URL:https://sayva.us/event/kibbitz-korner/2026-02-25/
LOCATION:Temple RAMAT ZION\, 17655 Devonshire Street\, Northridge\, CA\, 91325\, United States
CATEGORIES:SAYVA Partner/Network
ATTACH;FMTTYPE=image/png:https://sayva.us/wp-content/uploads/2025/06/KibbitzKornerTRZ.png
END:VEVENT
BEGIN:VEVENT
DTSTART;TZID=UTC:20260225T180000
DTEND;TZID=UTC:20260225T193000
DTSTAMP:20260424T163031
CREATED:20260208T211319Z
LAST-MODIFIED:20260208T211319Z
UID:10000706-1772042400-1772047800@sayva.us
SUMMARY:From Crisis to Opportunity: Navigating Israel's Future in a Rapidly Realigning Middle East
DESCRIPTION:The UCLA Y&S Nazarian Center for Israel Studies—From Crisis to Opportunity: Navigating Israel’s Future in a Rapidly Realigning Middle East \nOn February 25 at UCLA\, Ambassador Ronen Hoffman—scholar\, former diplomat\, and peace negotiator—will present the Center’s Harry C. Sigman Distinguished Lecture on future trajectories for Israel and the Middle East in the post-October 7 era. \nCLICK HERE for more INFO
URL:https://sayva.us/event/from-crisis-to-opportunity-navigating-israels-future-in-a-rapidly-realigning-middle-east/
ATTACH;FMTTYPE=image/png:https://sayva.us/wp-content/uploads/2026/02/Picture1.png
END:VEVENT
BEGIN:VEVENT
DTSTART;TZID=UTC:20260225T190000
DTEND;TZID=UTC:20260225T203000
DTSTAMP:20260424T163031
CREATED:20260208T210230Z
LAST-MODIFIED:20260208T210230Z
UID:10000702-1772046000-1772051400@sayva.us
SUMMARY:Under the Chuppah-The Drama and Power of a Jewish Wedding
DESCRIPTION:Temple Ahavat Shalom\nUnder the Chuppah-The Drama and Power of a Jewish Wedding Wednesday February 25 at 7PM \nWhat if a Jewish wedding is not just a ceremony\, but a powerful teaching about how to build a life with another person? Join us for a one hour Zoom class that unpacks the drama\, symbolism\, and deep wisdom woven into every moment under the chuppah. \nNo prior knowledge is needed\, just curiosity. \nNo RSVP needed; see the weekly TAS Bulletin for the ZOOM link.
URL:https://sayva.us/event/under-the-chuppah-the-drama-and-power-of-a-jewish-wedding/
CATEGORIES:SAYVA Partner/Network
ATTACH;FMTTYPE=image/jpeg:https://sayva.us/wp-content/uploads/2026/02/Virtual-Classroom-Under-the-Chuppah-Class-Flyer-Feb-2026.jpeg
END:VEVENT
BEGIN:VEVENT
DTSTART;TZID=UTC:20260226T160000
DTEND;TZID=UTC:20260226T170000
DTSTAMP:20260424T163031
CREATED:20260208T210448Z
LAST-MODIFIED:20260208T210458Z
UID:10000705-1772121600-1772125200@sayva.us
SUMMARY:Restless Soul: Mordecai Kaplan and the Reinvention of American Judaism
DESCRIPTION:Restless Soul: Mordecai Kaplan and the Reinvention of American Judaism February 12\, 19 and 26th\,\n4:00-5:00PM —ONLINE ONLY \nRabbi Mordecai Kaplan was admired by many\, challenged by others\, and never stopped trying to reinvent what it meant to live a Jewish life in the modern world. \nIn this special three-part Melton+ series presented in cooperation with Valley Beth Shalom\, the Harold M Schulweis Institute\, and the Mordecai Kaplan Center for Jewish Peoplehood\, Rabbi Ed Feinstein sits down with historian Jenna Weissman Joselit\, author of the forthcoming Jewish Lives biography Mordecai M. Kaplan: Restless Soul\, for a candid and compelling exploration of Kaplan’s life and legacy. Founder of the Reconstructionist movement\, fierce critic of inherited dogma\, and tireless advocate for a Judaism that could speak to modern life\, Kaplan reshaped American Jewish identity and ignited ongoing debate about faith\, community\, and change. \nCLICK HERE for more INFO
URL:https://sayva.us/event/restless-soul-mordecai-kaplan-and-the-reinvention-of-american-judaism/2026-02-26/
CATEGORIES:SAYVA Partner/Network
ATTACH;FMTTYPE=image/png:https://sayva.us/wp-content/uploads/2026/02/158b79e4-3264-41e3-87cc-07a33da13d5c.png
END:VEVENT
BEGIN:VEVENT
DTSTART;TZID=UTC:20260226T190000
DTEND;TZID=UTC:20260226T203000
DTSTAMP:20260424T163031
CREATED:20260208T211447Z
LAST-MODIFIED:20260208T211447Z
UID:10000707-1772132400-1772137800@sayva.us
SUMMARY:Jewish California Governor 2026 Candidate Forum
DESCRIPTION:Jewish California Governor 2026 Candidate Forum \nThursday\, February 26\, 2026 7:00 PM – 8:30 PM PT \nSkirball Cultural Center\, 2701 N Sepulveda Blvd\, Los Angeles\, CA 90049 \nJoin us in Los Angeles for the Jewish community’s statewide gubernatorial forum – a rare\, high-stakes opportunity to hear directly from the leading candidates for Governor on the issues that matter most to Jewish Californians. \nThis is where candidates will share how they intend to protect Jewish communities and strengthen Jewish values in California. Topics will include antisemitism prevention\, the California-Israel relationship\, K-12 education and ethnic studies\, community safety\, and the critical social safety net programs that support vulnerable populations across our state. \nCLICK HERE to RSVP
URL:https://sayva.us/event/jewish-california-governor-2026-candidate-forum/
ATTACH;FMTTYPE=image/png:https://sayva.us/wp-content/uploads/2026/02/Picture2.png
END:VEVENT
BEGIN:VEVENT
DTSTART;TZID=UTC:20260228T193000
DTEND;TZID=UTC:20260228T210000
DTSTAMP:20260424T163031
CREATED:20260226T192602Z
LAST-MODIFIED:20260226T192602Z
UID:10000708-1772307000-1772312400@sayva.us
SUMMARY:Valley Opera & Performing Arts (VOPA) 20th Anniversary Concert Spectacular
DESCRIPTION:Valley Opera & Performing Arts (VOPA) 20th Anniversary Concert Spectacular \nFriday\, February 28 | 7:30 PM \nSaturday\, March 1 | 3:00 PM \nEl Portal Theatre\, North Hollywood \nSpecial offer for SAYVA members! \nValley Opera & Performing Arts (VOPA) is celebrating its 20th Anniversary with a Concert Spectacular. SAYVA community members may receive $7 off Tier 1 or Tier 2 tickets by typing “SAYVA” into the Promo Code field. This opportunity is open to SAYVA partners and anyone with access to the code. \n 
URL:https://sayva.us/event/valley-opera-performing-arts-vopa-20th-anniversary-concert-spectacular/2026-02-28/
ATTACH;FMTTYPE=image/png:https://sayva.us/wp-content/uploads/2026/02/Vopa.png
END:VEVENT
END:VCALENDAR