BEGIN:VCALENDAR
VERSION:2.0
PRODID:-//SAYVA - ECPv6.15.20//NONSGML v1.0//EN
CALSCALE:GREGORIAN
METHOD:PUBLISH
X-WR-CALNAME:SAYVA
X-ORIGINAL-URL:https://sayva.us
X-WR-CALDESC:Events for SAYVA
REFRESH-INTERVAL;VALUE=DURATION:PT1H
X-Robots-Tag:noindex
X-PUBLISHED-TTL:PT1H
BEGIN:VTIMEZONE
TZID:UTC
BEGIN:STANDARD
TZOFFSETFROM:+0000
TZOFFSETTO:+0000
TZNAME:UTC
DTSTART:20250101T000000
END:STANDARD
END:VTIMEZONE
BEGIN:VEVENT
DTSTART;TZID=UTC:20260107T103000
DTEND;TZID=UTC:20260107T113000
DTSTAMP:20260424T174011
CREATED:20250612T183359Z
LAST-MODIFIED:20250612T183359Z
UID:10000399-1767781800-1767785400@sayva.us
SUMMARY:Kibbitz Korner
DESCRIPTION:Wednesdays at Temple Ramat Zion \nCelebrate the spirit of togetherness with us! Our Kibbitz Korner meets every Wednesday at 10:30AM. A different type of program each week: karaoke\, card games\, trivia and more. \n10:30-11:30AM \nFun Games\nCommunity\nEntertainment\nTreats and Beverages
URL:https://sayva.us/event/kibbitz-korner/2026-01-07/
LOCATION:Temple RAMAT ZION\, 17655 Devonshire Street\, Northridge\, CA\, 91325\, United States
CATEGORIES:SAYVA Partner/Network
ATTACH;FMTTYPE=image/png:https://sayva.us/wp-content/uploads/2025/06/KibbitzKornerTRZ.png
END:VEVENT
BEGIN:VEVENT
DTSTART;TZID=UTC:20260108T140000
DTEND;TZID=UTC:20260108T153000
DTSTAMP:20260424T174011
CREATED:20251113T184445Z
LAST-MODIFIED:20251118T200158Z
UID:10000685-1767880800-1767886200@sayva.us
SUMMARY:Growing Older\, Growing Wiser—In Person
DESCRIPTION:Join Rabbi Raff and Margaret Altschul\, Licensed Marriage and Family Therapist\, for a series of conversations on Zoom about Growing Older\, Growing Wiser! \nIn the four-part series\, we will explore what Jewish tradition teaches about finding meaning and purpose in later adulthood. \nEngage in deep conversations\, share reflections on growing older…how you stay creative and productive in later life and remain connected. Become a B’nei Hochmah\, a child of wisdom as together we will prepare\, learn\, and share a guided process of reflection to forge a new vision for your life’s purpose that reflects what’s important now. \nThursday\, November 13\, 2025 • 22 Cheshvan 5786\n2:00 PM – 3:30 PM-Temple Judea (in person) \nThursday\, January 8\, 2026 • 19 Tevet 5786\n2:00 PM – 3:30 PM-Temple Judea (in person) \nThursday\, March 12\, 2026 • 23 Adar 5786\n2:00 PM – 3:30 PM-Temple Judea (in person) \nThursday\, May 14\, 2026 • 27 Iyar 5786\n2:00 PM – 3:30 PM-Temple Judea (in person)
URL:https://sayva.us/event/growing-older-growing-wiser-in-person/2026-01-08/
CATEGORIES:SAYVA Partner/Network
ATTACH;FMTTYPE=image/jpeg:https://sayva.us/wp-content/uploads/2024/09/OlderWiser.jpg
END:VEVENT
BEGIN:VEVENT
DTSTART;TZID=UTC:20260112T143000
DTEND;TZID=UTC:20260112T163000
DTSTAMP:20260424T174011
CREATED:20251218T175232Z
LAST-MODIFIED:20251218T175232Z
UID:10000691-1768228200-1768235400@sayva.us
SUMMARY:Wise Aging in Everyday Life
DESCRIPTION:6 sessions\, Mondays from 2:30-4:30pm (PT)\nJan 12\, Jan 19\, Jan 26\, Feb 2\, Feb 9\, Feb 16\, 2026\nOn ZOOM only \nParticipants must have taken “Introduction to Wise Aging” or its equivalent in order to be accepted into this class. \nAnyone who isn’t sure whether they’ve met the necessary prerequisites for this class should contact Valerie Edwards at valerie.edwards9999@gmail.com to discuss their individual situation.  Those who register for the class but don’t attend the first session may be dropped from the class. \nZOOM link sent upon registration.
URL:https://sayva.us/event/wise-aging-in-everyday-life/2026-01-12/
ATTACH;FMTTYPE=image/png:https://sayva.us/wp-content/uploads/2025/08/1dfd49d7d1d58bbb4779dcfd2cd2fbda8722140c.png
END:VEVENT
BEGIN:VEVENT
DTSTART;TZID=UTC:20260114T103000
DTEND;TZID=UTC:20260114T113000
DTSTAMP:20260424T174011
CREATED:20250612T183359Z
LAST-MODIFIED:20250612T183359Z
UID:10000400-1768386600-1768390200@sayva.us
SUMMARY:Kibbitz Korner
DESCRIPTION:Wednesdays at Temple Ramat Zion \nCelebrate the spirit of togetherness with us! Our Kibbitz Korner meets every Wednesday at 10:30AM. A different type of program each week: karaoke\, card games\, trivia and more. \n10:30-11:30AM \nFun Games\nCommunity\nEntertainment\nTreats and Beverages
URL:https://sayva.us/event/kibbitz-korner/2026-01-14/
LOCATION:Temple RAMAT ZION\, 17655 Devonshire Street\, Northridge\, CA\, 91325\, United States
CATEGORIES:SAYVA Partner/Network
ATTACH;FMTTYPE=image/png:https://sayva.us/wp-content/uploads/2025/06/KibbitzKornerTRZ.png
END:VEVENT
BEGIN:VEVENT
DTSTART;TZID=UTC:20260119T143000
DTEND;TZID=UTC:20260119T163000
DTSTAMP:20260424T174011
CREATED:20251218T175232Z
LAST-MODIFIED:20251218T175232Z
UID:10000692-1768833000-1768840200@sayva.us
SUMMARY:Wise Aging in Everyday Life
DESCRIPTION:6 sessions\, Mondays from 2:30-4:30pm (PT)\nJan 12\, Jan 19\, Jan 26\, Feb 2\, Feb 9\, Feb 16\, 2026\nOn ZOOM only \nParticipants must have taken “Introduction to Wise Aging” or its equivalent in order to be accepted into this class. \nAnyone who isn’t sure whether they’ve met the necessary prerequisites for this class should contact Valerie Edwards at valerie.edwards9999@gmail.com to discuss their individual situation.  Those who register for the class but don’t attend the first session may be dropped from the class. \nZOOM link sent upon registration.
URL:https://sayva.us/event/wise-aging-in-everyday-life/2026-01-19/
ATTACH;FMTTYPE=image/png:https://sayva.us/wp-content/uploads/2025/08/1dfd49d7d1d58bbb4779dcfd2cd2fbda8722140c.png
END:VEVENT
BEGIN:VEVENT
DTSTART;TZID=UTC:20260121T103000
DTEND;TZID=UTC:20260121T113000
DTSTAMP:20260424T174011
CREATED:20250612T183359Z
LAST-MODIFIED:20250612T183359Z
UID:10000401-1768991400-1768995000@sayva.us
SUMMARY:Kibbitz Korner
DESCRIPTION:Wednesdays at Temple Ramat Zion \nCelebrate the spirit of togetherness with us! Our Kibbitz Korner meets every Wednesday at 10:30AM. A different type of program each week: karaoke\, card games\, trivia and more. \n10:30-11:30AM \nFun Games\nCommunity\nEntertainment\nTreats and Beverages
URL:https://sayva.us/event/kibbitz-korner/2026-01-21/
LOCATION:Temple RAMAT ZION\, 17655 Devonshire Street\, Northridge\, CA\, 91325\, United States
CATEGORIES:SAYVA Partner/Network
ATTACH;FMTTYPE=image/png:https://sayva.us/wp-content/uploads/2025/06/KibbitzKornerTRZ.png
END:VEVENT
BEGIN:VEVENT
DTSTART;TZID=UTC:20260122T190000
DTEND;TZID=UTC:20260122T203000
DTSTAMP:20260424T174011
CREATED:20250911T184654Z
LAST-MODIFIED:20250911T184654Z
UID:10000662-1769108400-1769113800@sayva.us
SUMMARY:Rosh Hodesh—TRZ's Monthly Women's Meet Up
DESCRIPTION:Rosh Hodesh—TRZ’s Monthly Women’s Meet Up \nA Program for Women 50+ Navigating Life Together \n 
URL:https://sayva.us/event/rosh-hodesh-trzs-monthly-womens-meet-up/2026-01-22/
ATTACH;FMTTYPE=image/png:https://sayva.us/wp-content/uploads/2025/09/Rosh-Hodesh-25-26-2.png
END:VEVENT
BEGIN:VEVENT
DTSTART;TZID=UTC:20260126T143000
DTEND;TZID=UTC:20260126T163000
DTSTAMP:20260424T174011
CREATED:20251218T175232Z
LAST-MODIFIED:20251218T175232Z
UID:10000693-1769437800-1769445000@sayva.us
SUMMARY:Wise Aging in Everyday Life
DESCRIPTION:6 sessions\, Mondays from 2:30-4:30pm (PT)\nJan 12\, Jan 19\, Jan 26\, Feb 2\, Feb 9\, Feb 16\, 2026\nOn ZOOM only \nParticipants must have taken “Introduction to Wise Aging” or its equivalent in order to be accepted into this class. \nAnyone who isn’t sure whether they’ve met the necessary prerequisites for this class should contact Valerie Edwards at valerie.edwards9999@gmail.com to discuss their individual situation.  Those who register for the class but don’t attend the first session may be dropped from the class. \nZOOM link sent upon registration.
URL:https://sayva.us/event/wise-aging-in-everyday-life/2026-01-26/
ATTACH;FMTTYPE=image/png:https://sayva.us/wp-content/uploads/2025/08/1dfd49d7d1d58bbb4779dcfd2cd2fbda8722140c.png
END:VEVENT
BEGIN:VEVENT
DTSTART;TZID=UTC:20260128T103000
DTEND;TZID=UTC:20260128T113000
DTSTAMP:20260424T174011
CREATED:20250612T183359Z
LAST-MODIFIED:20250612T183359Z
UID:10000402-1769596200-1769599800@sayva.us
SUMMARY:Kibbitz Korner
DESCRIPTION:Wednesdays at Temple Ramat Zion \nCelebrate the spirit of togetherness with us! Our Kibbitz Korner meets every Wednesday at 10:30AM. A different type of program each week: karaoke\, card games\, trivia and more. \n10:30-11:30AM \nFun Games\nCommunity\nEntertainment\nTreats and Beverages
URL:https://sayva.us/event/kibbitz-korner/2026-01-28/
LOCATION:Temple RAMAT ZION\, 17655 Devonshire Street\, Northridge\, CA\, 91325\, United States
CATEGORIES:SAYVA Partner/Network
ATTACH;FMTTYPE=image/png:https://sayva.us/wp-content/uploads/2025/06/KibbitzKornerTRZ.png
END:VEVENT
END:VCALENDAR