BEGIN:VCALENDAR
VERSION:2.0
PRODID:-//SAYVA - ECPv6.15.20//NONSGML v1.0//EN
CALSCALE:GREGORIAN
METHOD:PUBLISH
X-WR-CALNAME:SAYVA
X-ORIGINAL-URL:https://sayva.us
X-WR-CALDESC:Events for SAYVA
REFRESH-INTERVAL;VALUE=DURATION:PT1H
X-Robots-Tag:noindex
X-PUBLISHED-TTL:PT1H
BEGIN:VTIMEZONE
TZID:UTC
BEGIN:STANDARD
TZOFFSETFROM:+0000
TZOFFSETTO:+0000
TZNAME:UTC
DTSTART:20240101T000000
END:STANDARD
END:VTIMEZONE
BEGIN:VEVENT
DTSTART;TZID=UTC:20251001T103000
DTEND;TZID=UTC:20251001T113000
DTSTAMP:20260424T220438
CREATED:20250612T183359Z
LAST-MODIFIED:20250612T183359Z
UID:10000385-1759314600-1759318200@sayva.us
SUMMARY:Kibbitz Korner
DESCRIPTION:Wednesdays at Temple Ramat Zion \nCelebrate the spirit of togetherness with us! Our Kibbitz Korner meets every Wednesday at 10:30AM. A different type of program each week: karaoke\, card games\, trivia and more. \n10:30-11:30AM \nFun Games\nCommunity\nEntertainment\nTreats and Beverages
URL:https://sayva.us/event/kibbitz-korner/2025-10-01/
LOCATION:Temple RAMAT ZION\, 17655 Devonshire Street\, Northridge\, CA\, 91325\, United States
CATEGORIES:SAYVA Partner/Network
ATTACH;FMTTYPE=image/png:https://sayva.us/wp-content/uploads/2025/06/KibbitzKornerTRZ.png
END:VEVENT
BEGIN:VEVENT
DTSTART;TZID=UTC:20251008T103000
DTEND;TZID=UTC:20251008T113000
DTSTAMP:20260424T220438
CREATED:20250612T183359Z
LAST-MODIFIED:20250612T183359Z
UID:10000386-1759919400-1759923000@sayva.us
SUMMARY:Kibbitz Korner
DESCRIPTION:Wednesdays at Temple Ramat Zion \nCelebrate the spirit of togetherness with us! Our Kibbitz Korner meets every Wednesday at 10:30AM. A different type of program each week: karaoke\, card games\, trivia and more. \n10:30-11:30AM \nFun Games\nCommunity\nEntertainment\nTreats and Beverages
URL:https://sayva.us/event/kibbitz-korner/2025-10-08/
LOCATION:Temple RAMAT ZION\, 17655 Devonshire Street\, Northridge\, CA\, 91325\, United States
CATEGORIES:SAYVA Partner/Network
ATTACH;FMTTYPE=image/png:https://sayva.us/wp-content/uploads/2025/06/KibbitzKornerTRZ.png
END:VEVENT
BEGIN:VEVENT
DTSTART;TZID=UTC:20251010T200000
DTEND;TZID=UTC:20251010T220000
DTSTAMP:20260424T220438
CREATED:20251005T193806Z
LAST-MODIFIED:20251005T194215Z
UID:10000677-1760126400-1760133600@sayva.us
SUMMARY:SNAP! at the Bank of America Performing Arts Center\, Thousand Oaks
DESCRIPTION:Friday\, October 10 | 8:00 PM\nSNAP! at the Bank of America Performing Arts Center\, Thousand Oaks\n2100 E. Thousand Oaks Boulevard\nThousand Oaks\, CA 91362\nBODYTRAFFIC’s L.A. season kicks off with a dynamic mixed repertory program featuring quintessential company favorites set to the unforgettable voices of James Brown\, Etta James\, and Peggy Lee. The evening includes Trey McIntyre’s thrilling Blue Until June\, Matthew Neenan’s A Million Voices\, and Micaela Taylor’s electrifying Snap!\, inviting you to revel in the movement\, music\, and vitality of what it means to live fully. \nPurchase tickets here. \n 
URL:https://sayva.us/event/snap-at-the-bank-of-america-performing-arts-center-thousand-oaks/
CATEGORIES:SAYVA Partner/Network
ATTACH;FMTTYPE=image/png:https://sayva.us/wp-content/uploads/2025/10/Screenshot-2025-10-05-at-12.37.47-PM-scaled.png
END:VEVENT
BEGIN:VEVENT
DTSTART;TZID=UTC:20251012T110000
DTEND;TZID=UTC:20251012T140000
DTSTAMP:20260424T220438
CREATED:20250918T195531Z
LAST-MODIFIED:20250918T221121Z
UID:10000674-1760266800-1760277600@sayva.us
SUMMARY:Death Over Brunch: Jewish Edition
DESCRIPTION:Sunday\, October 12 • 11 am- 2 pm• Encino; private house \nDuring Sukkot\, a time of gathering and visiting\, join us for a reflective brunch to explore life\, death\, and what matters most. Together\, we’ll engage in conversation\, share stories\, guided by Jewish wisdom. \nCLICK HERE to RSVP
URL:https://sayva.us/event/death-over-brunch-jewish-edition/
ATTACH;FMTTYPE=image/png:https://sayva.us/wp-content/uploads/2025/09/DoBrunch10.22.25.png
END:VEVENT
BEGIN:VEVENT
DTSTART;TZID=UTC:20251012T160000
DTEND;TZID=UTC:20251012T180000
DTSTAMP:20260424T220438
CREATED:20250820T204638Z
LAST-MODIFIED:20250820T204638Z
UID:10000647-1760284800-1760292000@sayva.us
SUMMARY:East Meets West: A World of Jewish Music
DESCRIPTION:East Meets West: A World of Jewish Music\nPresented by the Ebell of Los Angeles and the Los Angeles Jewish Symphony\n \n Sunday\, October 12\, 2025 | 4:00 PM \nWilshire Ebell Theatre\, Los Angeles \nCLICK HERE for details
URL:https://sayva.us/event/east-meets-west-a-world-of-jewish-music/
CATEGORIES:Community Event
ATTACH;FMTTYPE=image/png:https://sayva.us/wp-content/uploads/2025/08/Screenshot-2025-08-20-at-1.44.29-PM.png
END:VEVENT
BEGIN:VEVENT
DTSTART;TZID=UTC:20251013T143000
DTEND;TZID=UTC:20251013T163000
DTSTAMP:20260424T220438
CREATED:20250815T171304Z
LAST-MODIFIED:20250815T171432Z
UID:10000643-1760365800-1760373000@sayva.us
SUMMARY:Introduction to Wise Aging
DESCRIPTION:Introduction to Wise Aging \n4 sessions\, Mondays from 2:30-4:30pm (PT) \nOct 13\, Oct 20\, Oct 27\, Nov 3\, 2025 \nHybrid class: In-person at HAMAKOM and via ZOOM \nSocial Hall Annex \n7353 Valley Circle Blvd.\, West Hills\, CA 91304 \nand Via ZOOM (Zoom link sent upon registration) \nCLICK HERE TO RSVP
URL:https://sayva.us/event/introduction-to-wise-aging/2025-10-13/
CATEGORIES:SAYVA Partner/Network
ATTACH;FMTTYPE=image/png:https://sayva.us/wp-content/uploads/2025/08/1dfd49d7d1d58bbb4779dcfd2cd2fbda8722140c.png
END:VEVENT
BEGIN:VEVENT
DTSTART;TZID=UTC:20251015T103000
DTEND;TZID=UTC:20251015T113000
DTSTAMP:20260424T220438
CREATED:20250612T183359Z
LAST-MODIFIED:20250612T183359Z
UID:10000387-1760524200-1760527800@sayva.us
SUMMARY:Kibbitz Korner
DESCRIPTION:Wednesdays at Temple Ramat Zion \nCelebrate the spirit of togetherness with us! Our Kibbitz Korner meets every Wednesday at 10:30AM. A different type of program each week: karaoke\, card games\, trivia and more. \n10:30-11:30AM \nFun Games\nCommunity\nEntertainment\nTreats and Beverages
URL:https://sayva.us/event/kibbitz-korner/2025-10-15/
LOCATION:Temple RAMAT ZION\, 17655 Devonshire Street\, Northridge\, CA\, 91325\, United States
CATEGORIES:SAYVA Partner/Network
ATTACH;FMTTYPE=image/png:https://sayva.us/wp-content/uploads/2025/06/KibbitzKornerTRZ.png
END:VEVENT
BEGIN:VEVENT
DTSTART;TZID=UTC:20251016T190000
DTEND;TZID=UTC:20251016T210000
DTSTAMP:20260424T220438
CREATED:20251008T190204Z
LAST-MODIFIED:20251008T190204Z
UID:10000678-1760641200-1760648400@sayva.us
SUMMARY:Commemorating the October 7th Tragedy - Jewish Federation Los Angeles
DESCRIPTION:Thursday\, October 16\, 7 pm \nJoin us on October 16\, 2025\, at the Saban Theatre for United in Memory: L.A. Remembers October 7th — Los Angeles’ gathering to honor the memories of the victims\, support the survivors\, and pray for the return of the hostages. \nTickets are free\, but registration is required. This memorial event is organized by: Jewish Federation Los Angeles\, the Consulate General of Israel in Los Angeles\, the Israeli-American Council\, StandWithUs\, Friends of the IDF\, Temple of the Arts\, and the Iranian American Jewish Federation \nCLICK HERE TO BUY TICKETS
URL:https://sayva.us/event/commemorating-the-october-7th-tragedy-jewish-federation-los-angeles/
CATEGORIES:SAYVA Partner/Network
ATTACH;FMTTYPE=image/webp:https://sayva.us/wp-content/uploads/2025/10/event_header.webp
END:VEVENT
BEGIN:VEVENT
DTSTART;TZID=UTC:20251020T143000
DTEND;TZID=UTC:20251020T163000
DTSTAMP:20260424T220438
CREATED:20250815T171304Z
LAST-MODIFIED:20250815T171432Z
UID:10000644-1760970600-1760977800@sayva.us
SUMMARY:Introduction to Wise Aging
DESCRIPTION:Introduction to Wise Aging \n4 sessions\, Mondays from 2:30-4:30pm (PT) \nOct 13\, Oct 20\, Oct 27\, Nov 3\, 2025 \nHybrid class: In-person at HAMAKOM and via ZOOM \nSocial Hall Annex \n7353 Valley Circle Blvd.\, West Hills\, CA 91304 \nand Via ZOOM (Zoom link sent upon registration) \nCLICK HERE TO RSVP
URL:https://sayva.us/event/introduction-to-wise-aging/2025-10-20/
CATEGORIES:SAYVA Partner/Network
ATTACH;FMTTYPE=image/png:https://sayva.us/wp-content/uploads/2025/08/1dfd49d7d1d58bbb4779dcfd2cd2fbda8722140c.png
END:VEVENT
BEGIN:VEVENT
DTSTART;TZID=UTC:20251022T103000
DTEND;TZID=UTC:20251022T113000
DTSTAMP:20260424T220438
CREATED:20250612T183359Z
LAST-MODIFIED:20250612T183359Z
UID:10000388-1761129000-1761132600@sayva.us
SUMMARY:Kibbitz Korner
DESCRIPTION:Wednesdays at Temple Ramat Zion \nCelebrate the spirit of togetherness with us! Our Kibbitz Korner meets every Wednesday at 10:30AM. A different type of program each week: karaoke\, card games\, trivia and more. \n10:30-11:30AM \nFun Games\nCommunity\nEntertainment\nTreats and Beverages
URL:https://sayva.us/event/kibbitz-korner/2025-10-22/
LOCATION:Temple RAMAT ZION\, 17655 Devonshire Street\, Northridge\, CA\, 91325\, United States
CATEGORIES:SAYVA Partner/Network
ATTACH;FMTTYPE=image/png:https://sayva.us/wp-content/uploads/2025/06/KibbitzKornerTRZ.png
END:VEVENT
BEGIN:VEVENT
DTSTART;TZID=UTC:20251022T103000
DTEND;TZID=UTC:20251022T120000
DTSTAMP:20260424T220438
CREATED:20250904T200958Z
LAST-MODIFIED:20250904T200958Z
UID:10000653-1761129000-1761134400@sayva.us
SUMMARY:VBS Hazak: Picnic Wednesdays
DESCRIPTION:Stay connected to Hazak. Come gather at the park for fun and conversation with old friends and acquaintances. \nEncino (Genesta) Park in a small shaded neighborhood park with picnic and public restrooms. \nCLICK HERE to signup
URL:https://sayva.us/event/vbs-hazak-picnic-wednesdays/2025-10-22/
CATEGORIES:SAYVA Partner/Network
ATTACH;FMTTYPE=image/jpeg:https://sayva.us/wp-content/uploads/2025/09/Hazak-Picnics-Flyer.jpg
END:VEVENT
BEGIN:VEVENT
DTSTART;TZID=UTC:20251022T190000
DTEND;TZID=UTC:20251022T200000
DTSTAMP:20260424T220438
CREATED:20250918T195850Z
LAST-MODIFIED:20250918T195919Z
UID:10000675-1761159600-1761163200@sayva.us
SUMMARY:Valley Chevra Kadisha (VCK) Virtual Info. Session
DESCRIPTION:Valley Chevra Kadisha (VCK) Virtual Info. Session\nWednesday\, October 22 • 7 pm • Online \nCurious about Valley Chevra Kadisha? Learn about our mission\, discover how you can be involved\, and be inspired by the growing movement to revive sacred Jewish rituals. \nCLICK HERE to RSVP
URL:https://sayva.us/event/valley-chevra-kadisha-vck-virtual-info-session/
ATTACH;FMTTYPE=image/png:https://sayva.us/wp-content/uploads/2025/09/VCKIntroSession1022.25-2.png
END:VEVENT
BEGIN:VEVENT
DTSTART;TZID=UTC:20251023T190000
DTEND;TZID=UTC:20251023T203000
DTSTAMP:20260424T220438
CREATED:20250911T184654Z
LAST-MODIFIED:20250911T184654Z
UID:10000659-1761246000-1761251400@sayva.us
SUMMARY:Rosh Hodesh—TRZ's Monthly Women's Meet Up
DESCRIPTION:Rosh Hodesh—TRZ’s Monthly Women’s Meet Up \nA Program for Women 50+ Navigating Life Together \n 
URL:https://sayva.us/event/rosh-hodesh-trzs-monthly-womens-meet-up/2025-10-23/
ATTACH;FMTTYPE=image/png:https://sayva.us/wp-content/uploads/2025/09/Rosh-Hodesh-25-26-2.png
END:VEVENT
BEGIN:VEVENT
DTSTART;TZID=UTC:20251026T150000
DTEND;TZID=UTC:20251026T170000
DTSTAMP:20260424T220438
CREATED:20251003T195150Z
LAST-MODIFIED:20251024T014218Z
UID:10000676-1761490800-1761498000@sayva.us
SUMMARY:Moments That Matter:  Marking Transitions in Midlife and Beyond  Rabbi Laura Geller & Rabbi Beth Lieberman\, Book’s Co-Authors in Conversation with Rabbi Ed Feinstein
DESCRIPTION:Moments That Matter: Marking Transitions in Midlife and Beyond Rabbi Laura Geller & Rabbi Beth Lieberman\, Book’s Co-Authors in Conversation with Rabbi Ed Feinstein \nSUNDAY\, OCTOBER 26 — 3:00-5:00 PM \n3:00–4:00 pm: Check-in\, Schmooze & Refreshments\n4:00-5:00 pm: Program begins \nPlease enable JavaScript in your browser to complete this form.Please enable JavaScript in your browser to complete this form.		\n			about you Joy?\n			\n		\n		Join Rabbi Laura Geller and Rabbi Beth Lieberman\, co-authors of Moments That Matter: Marking Transitions in Midlife and Beyond\, for a meaningful conversation with Rabbi Ed Feinstein on the rituals that shape our lives as we move through midlife and beyond. \nThrough stories\, wisdom\, and practical guidance\, they’ll explore how Jewish tradition and creativity can transform milestones—launching children\, navigating retirement\, moving\, caregiving\, finding love again—into sacred opportunities for growth and renewal. \nRefreshment\, dessert\, and copies of the book  will be available for purchase following the program.  \nCLICK HERE to access the LIVE STREAM. \nName *FirstLastEmail *How did you hear about this event?What Brings you Joy?Submit
URL:https://sayva.us/event/moments-that-matter-marking-transitions-in-midlife-and-beyond-rabbi-laura-geller-rabbi-beth-lieberman-books-co-authors-in-conversation-with-rabbi-ed-feinstein/
CATEGORIES:SAYVA,SAYVA Partner/Network
ATTACH;FMTTYPE=image/jpeg:https://sayva.us/wp-content/uploads/2025/10/MoM_10.25_DIGITAL2-scaled.jpg
END:VEVENT
BEGIN:VEVENT
DTSTART;TZID=UTC:20251026T170000
DTEND;TZID=UTC:20251026T190000
DTSTAMP:20260424T220439
CREATED:20251016T193722Z
LAST-MODIFIED:20251016T193722Z
UID:10000679-1761498000-1761505200@sayva.us
SUMMARY:Jewish Zodiac Comedy & Deli Night
DESCRIPTION:Jewish Zodiac Comedy & Deli Night \nSunday\, October 26\, 2025 | 5:00 pm\nHamakom: 7353 Valley Circle Blvd.\, West Hills\, CA 91304\nDiscover the real stories behind your favorite deli foods and how they intertwine with our Jewish American journey\, with comedian Seth Front\, creator of the Jewish Zodiac\, a deli food parody of the Chinese zodiac. Find out what Jewish Zodiac sign you are and join us for this huge\, fun platter of Jewish cultural history with a side order of nostalgia. The evening includes a deli dinner\, music by the UCLA Klezmer Ensemble\, and Seth Front’s comic presentation\, “A Culinary History of Jews in America based on the Astrological Signs of the Delicatessen.”\n  \nCLICK HERE TO REGISTER
URL:https://sayva.us/event/jewish-zodiac-comedy-deli-night/
CATEGORIES:SAYVA Partner/Network
ATTACH;FMTTYPE=image/png:https://sayva.us/wp-content/uploads/2025/10/Jewish-Zodiac-FLYER.png
END:VEVENT
BEGIN:VEVENT
DTSTART;TZID=UTC:20251027T143000
DTEND;TZID=UTC:20251027T163000
DTSTAMP:20260424T220439
CREATED:20250815T171304Z
LAST-MODIFIED:20250815T171432Z
UID:10000645-1761575400-1761582600@sayva.us
SUMMARY:Introduction to Wise Aging
DESCRIPTION:Introduction to Wise Aging \n4 sessions\, Mondays from 2:30-4:30pm (PT) \nOct 13\, Oct 20\, Oct 27\, Nov 3\, 2025 \nHybrid class: In-person at HAMAKOM and via ZOOM \nSocial Hall Annex \n7353 Valley Circle Blvd.\, West Hills\, CA 91304 \nand Via ZOOM (Zoom link sent upon registration) \nCLICK HERE TO RSVP
URL:https://sayva.us/event/introduction-to-wise-aging/2025-10-27/
CATEGORIES:SAYVA Partner/Network
ATTACH;FMTTYPE=image/png:https://sayva.us/wp-content/uploads/2025/08/1dfd49d7d1d58bbb4779dcfd2cd2fbda8722140c.png
END:VEVENT
BEGIN:VEVENT
DTSTART;TZID=UTC:20251029T103000
DTEND;TZID=UTC:20251029T113000
DTSTAMP:20260424T220439
CREATED:20250612T183359Z
LAST-MODIFIED:20250612T183359Z
UID:10000389-1761733800-1761737400@sayva.us
SUMMARY:Kibbitz Korner
DESCRIPTION:Wednesdays at Temple Ramat Zion \nCelebrate the spirit of togetherness with us! Our Kibbitz Korner meets every Wednesday at 10:30AM. A different type of program each week: karaoke\, card games\, trivia and more. \n10:30-11:30AM \nFun Games\nCommunity\nEntertainment\nTreats and Beverages
URL:https://sayva.us/event/kibbitz-korner/2025-10-29/
LOCATION:Temple RAMAT ZION\, 17655 Devonshire Street\, Northridge\, CA\, 91325\, United States
CATEGORIES:SAYVA Partner/Network
ATTACH;FMTTYPE=image/png:https://sayva.us/wp-content/uploads/2025/06/KibbitzKornerTRZ.png
END:VEVENT
END:VCALENDAR