BEGIN:VCALENDAR
VERSION:2.0
PRODID:-//SAYVA - ECPv6.15.20//NONSGML v1.0//EN
CALSCALE:GREGORIAN
METHOD:PUBLISH
X-WR-CALNAME:SAYVA
X-ORIGINAL-URL:https://sayva.us
X-WR-CALDESC:Events for SAYVA
REFRESH-INTERVAL;VALUE=DURATION:PT1H
X-Robots-Tag:noindex
X-PUBLISHED-TTL:PT1H
BEGIN:VTIMEZONE
TZID:UTC
BEGIN:STANDARD
TZOFFSETFROM:+0000
TZOFFSETTO:+0000
TZNAME:UTC
DTSTART:20260101T000000
END:STANDARD
END:VTIMEZONE
BEGIN:VEVENT
DTSTART;TZID=UTC:20270623T103000
DTEND;TZID=UTC:20270623T113000
DTSTAMP:20260425T012054
CREATED:20250612T183359Z
LAST-MODIFIED:20250612T183359Z
UID:10000475-1813746600-1813750200@sayva.us
SUMMARY:Kibbitz Korner
DESCRIPTION:Wednesdays at Temple Ramat Zion \nCelebrate the spirit of togetherness with us! Our Kibbitz Korner meets every Wednesday at 10:30AM. A different type of program each week: karaoke\, card games\, trivia and more. \n10:30-11:30AM \nFun Games\nCommunity\nEntertainment\nTreats and Beverages
URL:https://sayva.us/event/kibbitz-korner/2027-06-23/
LOCATION:Temple RAMAT ZION\, 17655 Devonshire Street\, Northridge\, CA\, 91325\, United States
CATEGORIES:SAYVA Partner/Network
ATTACH;FMTTYPE=image/png:https://sayva.us/wp-content/uploads/2025/06/KibbitzKornerTRZ.png
END:VEVENT
BEGIN:VEVENT
DTSTART;TZID=UTC:20270630T103000
DTEND;TZID=UTC:20270630T113000
DTSTAMP:20260425T012054
CREATED:20250612T183359Z
LAST-MODIFIED:20250612T183359Z
UID:10000476-1814351400-1814355000@sayva.us
SUMMARY:Kibbitz Korner
DESCRIPTION:Wednesdays at Temple Ramat Zion \nCelebrate the spirit of togetherness with us! Our Kibbitz Korner meets every Wednesday at 10:30AM. A different type of program each week: karaoke\, card games\, trivia and more. \n10:30-11:30AM \nFun Games\nCommunity\nEntertainment\nTreats and Beverages
URL:https://sayva.us/event/kibbitz-korner/2027-06-30/
LOCATION:Temple RAMAT ZION\, 17655 Devonshire Street\, Northridge\, CA\, 91325\, United States
CATEGORIES:SAYVA Partner/Network
ATTACH;FMTTYPE=image/png:https://sayva.us/wp-content/uploads/2025/06/KibbitzKornerTRZ.png
END:VEVENT
BEGIN:VEVENT
DTSTART;TZID=UTC:20270707T103000
DTEND;TZID=UTC:20270707T113000
DTSTAMP:20260425T012054
CREATED:20250612T183359Z
LAST-MODIFIED:20250612T183359Z
UID:10000477-1814956200-1814959800@sayva.us
SUMMARY:Kibbitz Korner
DESCRIPTION:Wednesdays at Temple Ramat Zion \nCelebrate the spirit of togetherness with us! Our Kibbitz Korner meets every Wednesday at 10:30AM. A different type of program each week: karaoke\, card games\, trivia and more. \n10:30-11:30AM \nFun Games\nCommunity\nEntertainment\nTreats and Beverages
URL:https://sayva.us/event/kibbitz-korner/2027-07-07/
LOCATION:Temple RAMAT ZION\, 17655 Devonshire Street\, Northridge\, CA\, 91325\, United States
CATEGORIES:SAYVA Partner/Network
ATTACH;FMTTYPE=image/png:https://sayva.us/wp-content/uploads/2025/06/KibbitzKornerTRZ.png
END:VEVENT
BEGIN:VEVENT
DTSTART;TZID=UTC:20270714T103000
DTEND;TZID=UTC:20270714T113000
DTSTAMP:20260425T012054
CREATED:20250612T183359Z
LAST-MODIFIED:20250612T183359Z
UID:10000478-1815561000-1815564600@sayva.us
SUMMARY:Kibbitz Korner
DESCRIPTION:Wednesdays at Temple Ramat Zion \nCelebrate the spirit of togetherness with us! Our Kibbitz Korner meets every Wednesday at 10:30AM. A different type of program each week: karaoke\, card games\, trivia and more. \n10:30-11:30AM \nFun Games\nCommunity\nEntertainment\nTreats and Beverages
URL:https://sayva.us/event/kibbitz-korner/2027-07-14/
LOCATION:Temple RAMAT ZION\, 17655 Devonshire Street\, Northridge\, CA\, 91325\, United States
CATEGORIES:SAYVA Partner/Network
ATTACH;FMTTYPE=image/png:https://sayva.us/wp-content/uploads/2025/06/KibbitzKornerTRZ.png
END:VEVENT
BEGIN:VEVENT
DTSTART;TZID=UTC:20270721T103000
DTEND;TZID=UTC:20270721T113000
DTSTAMP:20260425T012054
CREATED:20250612T183359Z
LAST-MODIFIED:20250612T183359Z
UID:10000479-1816165800-1816169400@sayva.us
SUMMARY:Kibbitz Korner
DESCRIPTION:Wednesdays at Temple Ramat Zion \nCelebrate the spirit of togetherness with us! Our Kibbitz Korner meets every Wednesday at 10:30AM. A different type of program each week: karaoke\, card games\, trivia and more. \n10:30-11:30AM \nFun Games\nCommunity\nEntertainment\nTreats and Beverages
URL:https://sayva.us/event/kibbitz-korner/2027-07-21/
LOCATION:Temple RAMAT ZION\, 17655 Devonshire Street\, Northridge\, CA\, 91325\, United States
CATEGORIES:SAYVA Partner/Network
ATTACH;FMTTYPE=image/png:https://sayva.us/wp-content/uploads/2025/06/KibbitzKornerTRZ.png
END:VEVENT
BEGIN:VEVENT
DTSTART;TZID=UTC:20270728T103000
DTEND;TZID=UTC:20270728T113000
DTSTAMP:20260425T012054
CREATED:20250612T183359Z
LAST-MODIFIED:20250612T183359Z
UID:10000480-1816770600-1816774200@sayva.us
SUMMARY:Kibbitz Korner
DESCRIPTION:Wednesdays at Temple Ramat Zion \nCelebrate the spirit of togetherness with us! Our Kibbitz Korner meets every Wednesday at 10:30AM. A different type of program each week: karaoke\, card games\, trivia and more. \n10:30-11:30AM \nFun Games\nCommunity\nEntertainment\nTreats and Beverages
URL:https://sayva.us/event/kibbitz-korner/2027-07-28/
LOCATION:Temple RAMAT ZION\, 17655 Devonshire Street\, Northridge\, CA\, 91325\, United States
CATEGORIES:SAYVA Partner/Network
ATTACH;FMTTYPE=image/png:https://sayva.us/wp-content/uploads/2025/06/KibbitzKornerTRZ.png
END:VEVENT
BEGIN:VEVENT
DTSTART;TZID=UTC:20270804T103000
DTEND;TZID=UTC:20270804T113000
DTSTAMP:20260425T012054
CREATED:20250612T183359Z
LAST-MODIFIED:20250612T183359Z
UID:10000481-1817375400-1817379000@sayva.us
SUMMARY:Kibbitz Korner
DESCRIPTION:Wednesdays at Temple Ramat Zion \nCelebrate the spirit of togetherness with us! Our Kibbitz Korner meets every Wednesday at 10:30AM. A different type of program each week: karaoke\, card games\, trivia and more. \n10:30-11:30AM \nFun Games\nCommunity\nEntertainment\nTreats and Beverages
URL:https://sayva.us/event/kibbitz-korner/2027-08-04/
LOCATION:Temple RAMAT ZION\, 17655 Devonshire Street\, Northridge\, CA\, 91325\, United States
CATEGORIES:SAYVA Partner/Network
ATTACH;FMTTYPE=image/png:https://sayva.us/wp-content/uploads/2025/06/KibbitzKornerTRZ.png
END:VEVENT
BEGIN:VEVENT
DTSTART;TZID=UTC:20270811T103000
DTEND;TZID=UTC:20270811T113000
DTSTAMP:20260425T012054
CREATED:20250612T183359Z
LAST-MODIFIED:20250612T183359Z
UID:10000482-1817980200-1817983800@sayva.us
SUMMARY:Kibbitz Korner
DESCRIPTION:Wednesdays at Temple Ramat Zion \nCelebrate the spirit of togetherness with us! Our Kibbitz Korner meets every Wednesday at 10:30AM. A different type of program each week: karaoke\, card games\, trivia and more. \n10:30-11:30AM \nFun Games\nCommunity\nEntertainment\nTreats and Beverages
URL:https://sayva.us/event/kibbitz-korner/2027-08-11/
LOCATION:Temple RAMAT ZION\, 17655 Devonshire Street\, Northridge\, CA\, 91325\, United States
CATEGORIES:SAYVA Partner/Network
ATTACH;FMTTYPE=image/png:https://sayva.us/wp-content/uploads/2025/06/KibbitzKornerTRZ.png
END:VEVENT
BEGIN:VEVENT
DTSTART;TZID=UTC:20270818T103000
DTEND;TZID=UTC:20270818T113000
DTSTAMP:20260425T012054
CREATED:20250612T183359Z
LAST-MODIFIED:20250612T183359Z
UID:10000483-1818585000-1818588600@sayva.us
SUMMARY:Kibbitz Korner
DESCRIPTION:Wednesdays at Temple Ramat Zion \nCelebrate the spirit of togetherness with us! Our Kibbitz Korner meets every Wednesday at 10:30AM. A different type of program each week: karaoke\, card games\, trivia and more. \n10:30-11:30AM \nFun Games\nCommunity\nEntertainment\nTreats and Beverages
URL:https://sayva.us/event/kibbitz-korner/2027-08-18/
LOCATION:Temple RAMAT ZION\, 17655 Devonshire Street\, Northridge\, CA\, 91325\, United States
CATEGORIES:SAYVA Partner/Network
ATTACH;FMTTYPE=image/png:https://sayva.us/wp-content/uploads/2025/06/KibbitzKornerTRZ.png
END:VEVENT
BEGIN:VEVENT
DTSTART;TZID=UTC:20270825T103000
DTEND;TZID=UTC:20270825T113000
DTSTAMP:20260425T012054
CREATED:20250612T183359Z
LAST-MODIFIED:20250612T183359Z
UID:10000484-1819189800-1819193400@sayva.us
SUMMARY:Kibbitz Korner
DESCRIPTION:Wednesdays at Temple Ramat Zion \nCelebrate the spirit of togetherness with us! Our Kibbitz Korner meets every Wednesday at 10:30AM. A different type of program each week: karaoke\, card games\, trivia and more. \n10:30-11:30AM \nFun Games\nCommunity\nEntertainment\nTreats and Beverages
URL:https://sayva.us/event/kibbitz-korner/2027-08-25/
LOCATION:Temple RAMAT ZION\, 17655 Devonshire Street\, Northridge\, CA\, 91325\, United States
CATEGORIES:SAYVA Partner/Network
ATTACH;FMTTYPE=image/png:https://sayva.us/wp-content/uploads/2025/06/KibbitzKornerTRZ.png
END:VEVENT
BEGIN:VEVENT
DTSTART;TZID=UTC:20270901T103000
DTEND;TZID=UTC:20270901T113000
DTSTAMP:20260425T012054
CREATED:20250612T183359Z
LAST-MODIFIED:20250612T183359Z
UID:10000485-1819794600-1819798200@sayva.us
SUMMARY:Kibbitz Korner
DESCRIPTION:Wednesdays at Temple Ramat Zion \nCelebrate the spirit of togetherness with us! Our Kibbitz Korner meets every Wednesday at 10:30AM. A different type of program each week: karaoke\, card games\, trivia and more. \n10:30-11:30AM \nFun Games\nCommunity\nEntertainment\nTreats and Beverages
URL:https://sayva.us/event/kibbitz-korner/2027-09-01/
LOCATION:Temple RAMAT ZION\, 17655 Devonshire Street\, Northridge\, CA\, 91325\, United States
CATEGORIES:SAYVA Partner/Network
ATTACH;FMTTYPE=image/png:https://sayva.us/wp-content/uploads/2025/06/KibbitzKornerTRZ.png
END:VEVENT
BEGIN:VEVENT
DTSTART;TZID=UTC:20270908T103000
DTEND;TZID=UTC:20270908T113000
DTSTAMP:20260425T012054
CREATED:20250612T183359Z
LAST-MODIFIED:20250612T183359Z
UID:10000486-1820399400-1820403000@sayva.us
SUMMARY:Kibbitz Korner
DESCRIPTION:Wednesdays at Temple Ramat Zion \nCelebrate the spirit of togetherness with us! Our Kibbitz Korner meets every Wednesday at 10:30AM. A different type of program each week: karaoke\, card games\, trivia and more. \n10:30-11:30AM \nFun Games\nCommunity\nEntertainment\nTreats and Beverages
URL:https://sayva.us/event/kibbitz-korner/2027-09-08/
LOCATION:Temple RAMAT ZION\, 17655 Devonshire Street\, Northridge\, CA\, 91325\, United States
CATEGORIES:SAYVA Partner/Network
ATTACH;FMTTYPE=image/png:https://sayva.us/wp-content/uploads/2025/06/KibbitzKornerTRZ.png
END:VEVENT
BEGIN:VEVENT
DTSTART;TZID=UTC:20270915T103000
DTEND;TZID=UTC:20270915T113000
DTSTAMP:20260425T012054
CREATED:20250612T183359Z
LAST-MODIFIED:20250612T183359Z
UID:10000487-1821004200-1821007800@sayva.us
SUMMARY:Kibbitz Korner
DESCRIPTION:Wednesdays at Temple Ramat Zion \nCelebrate the spirit of togetherness with us! Our Kibbitz Korner meets every Wednesday at 10:30AM. A different type of program each week: karaoke\, card games\, trivia and more. \n10:30-11:30AM \nFun Games\nCommunity\nEntertainment\nTreats and Beverages
URL:https://sayva.us/event/kibbitz-korner/2027-09-15/
LOCATION:Temple RAMAT ZION\, 17655 Devonshire Street\, Northridge\, CA\, 91325\, United States
CATEGORIES:SAYVA Partner/Network
ATTACH;FMTTYPE=image/png:https://sayva.us/wp-content/uploads/2025/06/KibbitzKornerTRZ.png
END:VEVENT
BEGIN:VEVENT
DTSTART;TZID=UTC:20270922T103000
DTEND;TZID=UTC:20270922T113000
DTSTAMP:20260425T012054
CREATED:20250612T183359Z
LAST-MODIFIED:20250612T183359Z
UID:10000488-1821609000-1821612600@sayva.us
SUMMARY:Kibbitz Korner
DESCRIPTION:Wednesdays at Temple Ramat Zion \nCelebrate the spirit of togetherness with us! Our Kibbitz Korner meets every Wednesday at 10:30AM. A different type of program each week: karaoke\, card games\, trivia and more. \n10:30-11:30AM \nFun Games\nCommunity\nEntertainment\nTreats and Beverages
URL:https://sayva.us/event/kibbitz-korner/2027-09-22/
LOCATION:Temple RAMAT ZION\, 17655 Devonshire Street\, Northridge\, CA\, 91325\, United States
CATEGORIES:SAYVA Partner/Network
ATTACH;FMTTYPE=image/png:https://sayva.us/wp-content/uploads/2025/06/KibbitzKornerTRZ.png
END:VEVENT
BEGIN:VEVENT
DTSTART;TZID=UTC:20270929T103000
DTEND;TZID=UTC:20270929T113000
DTSTAMP:20260425T012054
CREATED:20250612T183359Z
LAST-MODIFIED:20250612T183359Z
UID:10000489-1822213800-1822217400@sayva.us
SUMMARY:Kibbitz Korner
DESCRIPTION:Wednesdays at Temple Ramat Zion \nCelebrate the spirit of togetherness with us! Our Kibbitz Korner meets every Wednesday at 10:30AM. A different type of program each week: karaoke\, card games\, trivia and more. \n10:30-11:30AM \nFun Games\nCommunity\nEntertainment\nTreats and Beverages
URL:https://sayva.us/event/kibbitz-korner/2027-09-29/
LOCATION:Temple RAMAT ZION\, 17655 Devonshire Street\, Northridge\, CA\, 91325\, United States
CATEGORIES:SAYVA Partner/Network
ATTACH;FMTTYPE=image/png:https://sayva.us/wp-content/uploads/2025/06/KibbitzKornerTRZ.png
END:VEVENT
BEGIN:VEVENT
DTSTART;TZID=UTC:20271006T103000
DTEND;TZID=UTC:20271006T113000
DTSTAMP:20260425T012054
CREATED:20250612T183359Z
LAST-MODIFIED:20250612T183359Z
UID:10000490-1822818600-1822822200@sayva.us
SUMMARY:Kibbitz Korner
DESCRIPTION:Wednesdays at Temple Ramat Zion \nCelebrate the spirit of togetherness with us! Our Kibbitz Korner meets every Wednesday at 10:30AM. A different type of program each week: karaoke\, card games\, trivia and more. \n10:30-11:30AM \nFun Games\nCommunity\nEntertainment\nTreats and Beverages
URL:https://sayva.us/event/kibbitz-korner/2027-10-06/
LOCATION:Temple RAMAT ZION\, 17655 Devonshire Street\, Northridge\, CA\, 91325\, United States
CATEGORIES:SAYVA Partner/Network
ATTACH;FMTTYPE=image/png:https://sayva.us/wp-content/uploads/2025/06/KibbitzKornerTRZ.png
END:VEVENT
BEGIN:VEVENT
DTSTART;TZID=UTC:20271013T103000
DTEND;TZID=UTC:20271013T113000
DTSTAMP:20260425T012054
CREATED:20250612T183359Z
LAST-MODIFIED:20250612T183359Z
UID:10000491-1823423400-1823427000@sayva.us
SUMMARY:Kibbitz Korner
DESCRIPTION:Wednesdays at Temple Ramat Zion \nCelebrate the spirit of togetherness with us! Our Kibbitz Korner meets every Wednesday at 10:30AM. A different type of program each week: karaoke\, card games\, trivia and more. \n10:30-11:30AM \nFun Games\nCommunity\nEntertainment\nTreats and Beverages
URL:https://sayva.us/event/kibbitz-korner/2027-10-13/
LOCATION:Temple RAMAT ZION\, 17655 Devonshire Street\, Northridge\, CA\, 91325\, United States
CATEGORIES:SAYVA Partner/Network
ATTACH;FMTTYPE=image/png:https://sayva.us/wp-content/uploads/2025/06/KibbitzKornerTRZ.png
END:VEVENT
BEGIN:VEVENT
DTSTART;TZID=UTC:20271020T103000
DTEND;TZID=UTC:20271020T113000
DTSTAMP:20260425T012054
CREATED:20250612T183359Z
LAST-MODIFIED:20250612T183359Z
UID:10000492-1824028200-1824031800@sayva.us
SUMMARY:Kibbitz Korner
DESCRIPTION:Wednesdays at Temple Ramat Zion \nCelebrate the spirit of togetherness with us! Our Kibbitz Korner meets every Wednesday at 10:30AM. A different type of program each week: karaoke\, card games\, trivia and more. \n10:30-11:30AM \nFun Games\nCommunity\nEntertainment\nTreats and Beverages
URL:https://sayva.us/event/kibbitz-korner/2027-10-20/
LOCATION:Temple RAMAT ZION\, 17655 Devonshire Street\, Northridge\, CA\, 91325\, United States
CATEGORIES:SAYVA Partner/Network
ATTACH;FMTTYPE=image/png:https://sayva.us/wp-content/uploads/2025/06/KibbitzKornerTRZ.png
END:VEVENT
BEGIN:VEVENT
DTSTART;TZID=UTC:20271027T103000
DTEND;TZID=UTC:20271027T113000
DTSTAMP:20260425T012054
CREATED:20250612T183359Z
LAST-MODIFIED:20250612T183359Z
UID:10000493-1824633000-1824636600@sayva.us
SUMMARY:Kibbitz Korner
DESCRIPTION:Wednesdays at Temple Ramat Zion \nCelebrate the spirit of togetherness with us! Our Kibbitz Korner meets every Wednesday at 10:30AM. A different type of program each week: karaoke\, card games\, trivia and more. \n10:30-11:30AM \nFun Games\nCommunity\nEntertainment\nTreats and Beverages
URL:https://sayva.us/event/kibbitz-korner/2027-10-27/
LOCATION:Temple RAMAT ZION\, 17655 Devonshire Street\, Northridge\, CA\, 91325\, United States
CATEGORIES:SAYVA Partner/Network
ATTACH;FMTTYPE=image/png:https://sayva.us/wp-content/uploads/2025/06/KibbitzKornerTRZ.png
END:VEVENT
BEGIN:VEVENT
DTSTART;TZID=UTC:20271103T103000
DTEND;TZID=UTC:20271103T113000
DTSTAMP:20260425T012054
CREATED:20250612T183359Z
LAST-MODIFIED:20250612T183359Z
UID:10000494-1825237800-1825241400@sayva.us
SUMMARY:Kibbitz Korner
DESCRIPTION:Wednesdays at Temple Ramat Zion \nCelebrate the spirit of togetherness with us! Our Kibbitz Korner meets every Wednesday at 10:30AM. A different type of program each week: karaoke\, card games\, trivia and more. \n10:30-11:30AM \nFun Games\nCommunity\nEntertainment\nTreats and Beverages
URL:https://sayva.us/event/kibbitz-korner/2027-11-03/
LOCATION:Temple RAMAT ZION\, 17655 Devonshire Street\, Northridge\, CA\, 91325\, United States
CATEGORIES:SAYVA Partner/Network
ATTACH;FMTTYPE=image/png:https://sayva.us/wp-content/uploads/2025/06/KibbitzKornerTRZ.png
END:VEVENT
BEGIN:VEVENT
DTSTART;TZID=UTC:20271110T103000
DTEND;TZID=UTC:20271110T113000
DTSTAMP:20260425T012054
CREATED:20250612T183359Z
LAST-MODIFIED:20250612T183359Z
UID:10000495-1825842600-1825846200@sayva.us
SUMMARY:Kibbitz Korner
DESCRIPTION:Wednesdays at Temple Ramat Zion \nCelebrate the spirit of togetherness with us! Our Kibbitz Korner meets every Wednesday at 10:30AM. A different type of program each week: karaoke\, card games\, trivia and more. \n10:30-11:30AM \nFun Games\nCommunity\nEntertainment\nTreats and Beverages
URL:https://sayva.us/event/kibbitz-korner/2027-11-10/
LOCATION:Temple RAMAT ZION\, 17655 Devonshire Street\, Northridge\, CA\, 91325\, United States
CATEGORIES:SAYVA Partner/Network
ATTACH;FMTTYPE=image/png:https://sayva.us/wp-content/uploads/2025/06/KibbitzKornerTRZ.png
END:VEVENT
BEGIN:VEVENT
DTSTART;TZID=UTC:20271117T103000
DTEND;TZID=UTC:20271117T113000
DTSTAMP:20260425T012054
CREATED:20250612T183359Z
LAST-MODIFIED:20250612T183359Z
UID:10000496-1826447400-1826451000@sayva.us
SUMMARY:Kibbitz Korner
DESCRIPTION:Wednesdays at Temple Ramat Zion \nCelebrate the spirit of togetherness with us! Our Kibbitz Korner meets every Wednesday at 10:30AM. A different type of program each week: karaoke\, card games\, trivia and more. \n10:30-11:30AM \nFun Games\nCommunity\nEntertainment\nTreats and Beverages
URL:https://sayva.us/event/kibbitz-korner/2027-11-17/
LOCATION:Temple RAMAT ZION\, 17655 Devonshire Street\, Northridge\, CA\, 91325\, United States
CATEGORIES:SAYVA Partner/Network
ATTACH;FMTTYPE=image/png:https://sayva.us/wp-content/uploads/2025/06/KibbitzKornerTRZ.png
END:VEVENT
BEGIN:VEVENT
DTSTART;TZID=UTC:20271124T103000
DTEND;TZID=UTC:20271124T113000
DTSTAMP:20260425T012054
CREATED:20250612T183359Z
LAST-MODIFIED:20250612T183359Z
UID:10000497-1827052200-1827055800@sayva.us
SUMMARY:Kibbitz Korner
DESCRIPTION:Wednesdays at Temple Ramat Zion \nCelebrate the spirit of togetherness with us! Our Kibbitz Korner meets every Wednesday at 10:30AM. A different type of program each week: karaoke\, card games\, trivia and more. \n10:30-11:30AM \nFun Games\nCommunity\nEntertainment\nTreats and Beverages
URL:https://sayva.us/event/kibbitz-korner/2027-11-24/
LOCATION:Temple RAMAT ZION\, 17655 Devonshire Street\, Northridge\, CA\, 91325\, United States
CATEGORIES:SAYVA Partner/Network
ATTACH;FMTTYPE=image/png:https://sayva.us/wp-content/uploads/2025/06/KibbitzKornerTRZ.png
END:VEVENT
BEGIN:VEVENT
DTSTART;TZID=UTC:20271201T103000
DTEND;TZID=UTC:20271201T113000
DTSTAMP:20260425T012054
CREATED:20250612T183359Z
LAST-MODIFIED:20250612T183359Z
UID:10000498-1827657000-1827660600@sayva.us
SUMMARY:Kibbitz Korner
DESCRIPTION:Wednesdays at Temple Ramat Zion \nCelebrate the spirit of togetherness with us! Our Kibbitz Korner meets every Wednesday at 10:30AM. A different type of program each week: karaoke\, card games\, trivia and more. \n10:30-11:30AM \nFun Games\nCommunity\nEntertainment\nTreats and Beverages
URL:https://sayva.us/event/kibbitz-korner/2027-12-01/
LOCATION:Temple RAMAT ZION\, 17655 Devonshire Street\, Northridge\, CA\, 91325\, United States
CATEGORIES:SAYVA Partner/Network
ATTACH;FMTTYPE=image/png:https://sayva.us/wp-content/uploads/2025/06/KibbitzKornerTRZ.png
END:VEVENT
BEGIN:VEVENT
DTSTART;TZID=UTC:20271208T103000
DTEND;TZID=UTC:20271208T113000
DTSTAMP:20260425T012054
CREATED:20250612T183359Z
LAST-MODIFIED:20250612T183359Z
UID:10000499-1828261800-1828265400@sayva.us
SUMMARY:Kibbitz Korner
DESCRIPTION:Wednesdays at Temple Ramat Zion \nCelebrate the spirit of togetherness with us! Our Kibbitz Korner meets every Wednesday at 10:30AM. A different type of program each week: karaoke\, card games\, trivia and more. \n10:30-11:30AM \nFun Games\nCommunity\nEntertainment\nTreats and Beverages
URL:https://sayva.us/event/kibbitz-korner/2027-12-08/
LOCATION:Temple RAMAT ZION\, 17655 Devonshire Street\, Northridge\, CA\, 91325\, United States
CATEGORIES:SAYVA Partner/Network
ATTACH;FMTTYPE=image/png:https://sayva.us/wp-content/uploads/2025/06/KibbitzKornerTRZ.png
END:VEVENT
BEGIN:VEVENT
DTSTART;TZID=UTC:20271215T103000
DTEND;TZID=UTC:20271215T113000
DTSTAMP:20260425T012054
CREATED:20250612T183359Z
LAST-MODIFIED:20250612T183359Z
UID:10000500-1828866600-1828870200@sayva.us
SUMMARY:Kibbitz Korner
DESCRIPTION:Wednesdays at Temple Ramat Zion \nCelebrate the spirit of togetherness with us! Our Kibbitz Korner meets every Wednesday at 10:30AM. A different type of program each week: karaoke\, card games\, trivia and more. \n10:30-11:30AM \nFun Games\nCommunity\nEntertainment\nTreats and Beverages
URL:https://sayva.us/event/kibbitz-korner/2027-12-15/
LOCATION:Temple RAMAT ZION\, 17655 Devonshire Street\, Northridge\, CA\, 91325\, United States
CATEGORIES:SAYVA Partner/Network
ATTACH;FMTTYPE=image/png:https://sayva.us/wp-content/uploads/2025/06/KibbitzKornerTRZ.png
END:VEVENT
BEGIN:VEVENT
DTSTART;TZID=UTC:20271222T103000
DTEND;TZID=UTC:20271222T113000
DTSTAMP:20260425T012054
CREATED:20250612T183359Z
LAST-MODIFIED:20250612T183359Z
UID:10000501-1829471400-1829475000@sayva.us
SUMMARY:Kibbitz Korner
DESCRIPTION:Wednesdays at Temple Ramat Zion \nCelebrate the spirit of togetherness with us! Our Kibbitz Korner meets every Wednesday at 10:30AM. A different type of program each week: karaoke\, card games\, trivia and more. \n10:30-11:30AM \nFun Games\nCommunity\nEntertainment\nTreats and Beverages
URL:https://sayva.us/event/kibbitz-korner/2027-12-22/
LOCATION:Temple RAMAT ZION\, 17655 Devonshire Street\, Northridge\, CA\, 91325\, United States
CATEGORIES:SAYVA Partner/Network
ATTACH;FMTTYPE=image/png:https://sayva.us/wp-content/uploads/2025/06/KibbitzKornerTRZ.png
END:VEVENT
BEGIN:VEVENT
DTSTART;TZID=UTC:20271229T103000
DTEND;TZID=UTC:20271229T113000
DTSTAMP:20260425T012054
CREATED:20250612T183359Z
LAST-MODIFIED:20250612T183359Z
UID:10000502-1830076200-1830079800@sayva.us
SUMMARY:Kibbitz Korner
DESCRIPTION:Wednesdays at Temple Ramat Zion \nCelebrate the spirit of togetherness with us! Our Kibbitz Korner meets every Wednesday at 10:30AM. A different type of program each week: karaoke\, card games\, trivia and more. \n10:30-11:30AM \nFun Games\nCommunity\nEntertainment\nTreats and Beverages
URL:https://sayva.us/event/kibbitz-korner/2027-12-29/
LOCATION:Temple RAMAT ZION\, 17655 Devonshire Street\, Northridge\, CA\, 91325\, United States
CATEGORIES:SAYVA Partner/Network
ATTACH;FMTTYPE=image/png:https://sayva.us/wp-content/uploads/2025/06/KibbitzKornerTRZ.png
END:VEVENT
BEGIN:VEVENT
DTSTART;TZID=UTC:20280105T103000
DTEND;TZID=UTC:20280105T113000
DTSTAMP:20260425T012054
CREATED:20250612T183359Z
LAST-MODIFIED:20250612T183359Z
UID:10000503-1830681000-1830684600@sayva.us
SUMMARY:Kibbitz Korner
DESCRIPTION:Wednesdays at Temple Ramat Zion \nCelebrate the spirit of togetherness with us! Our Kibbitz Korner meets every Wednesday at 10:30AM. A different type of program each week: karaoke\, card games\, trivia and more. \n10:30-11:30AM \nFun Games\nCommunity\nEntertainment\nTreats and Beverages
URL:https://sayva.us/event/kibbitz-korner/2028-01-05/
LOCATION:Temple RAMAT ZION\, 17655 Devonshire Street\, Northridge\, CA\, 91325\, United States
CATEGORIES:SAYVA Partner/Network
ATTACH;FMTTYPE=image/png:https://sayva.us/wp-content/uploads/2025/06/KibbitzKornerTRZ.png
END:VEVENT
BEGIN:VEVENT
DTSTART;TZID=UTC:20280112T103000
DTEND;TZID=UTC:20280112T113000
DTSTAMP:20260425T012054
CREATED:20250612T183359Z
LAST-MODIFIED:20250612T183359Z
UID:10000504-1831285800-1831289400@sayva.us
SUMMARY:Kibbitz Korner
DESCRIPTION:Wednesdays at Temple Ramat Zion \nCelebrate the spirit of togetherness with us! Our Kibbitz Korner meets every Wednesday at 10:30AM. A different type of program each week: karaoke\, card games\, trivia and more. \n10:30-11:30AM \nFun Games\nCommunity\nEntertainment\nTreats and Beverages
URL:https://sayva.us/event/kibbitz-korner/2028-01-12/
LOCATION:Temple RAMAT ZION\, 17655 Devonshire Street\, Northridge\, CA\, 91325\, United States
CATEGORIES:SAYVA Partner/Network
ATTACH;FMTTYPE=image/png:https://sayva.us/wp-content/uploads/2025/06/KibbitzKornerTRZ.png
END:VEVENT
END:VCALENDAR