BEGIN:VCALENDAR
VERSION:2.0
PRODID:-//SAYVA - ECPv6.15.20//NONSGML v1.0//EN
CALSCALE:GREGORIAN
METHOD:PUBLISH
X-ORIGINAL-URL:https://sayva.us
X-WR-CALDESC:Events for SAYVA
REFRESH-INTERVAL;VALUE=DURATION:PT1H
X-Robots-Tag:noindex
X-PUBLISHED-TTL:PT1H
BEGIN:VTIMEZONE
TZID:UTC
BEGIN:STANDARD
TZOFFSETFROM:+0000
TZOFFSETTO:+0000
TZNAME:UTC
DTSTART:20250101T000000
END:STANDARD
END:VTIMEZONE
BEGIN:VEVENT
DTSTART;TZID=UTC:20260701T103000
DTEND;TZID=UTC:20260701T113000
DTSTAMP:20260424T191208
CREATED:20250612T183359Z
LAST-MODIFIED:20250612T183359Z
UID:10000424-1782901800-1782905400@sayva.us
SUMMARY:Kibbitz Korner
DESCRIPTION:Wednesdays at Temple Ramat Zion \nCelebrate the spirit of togetherness with us! Our Kibbitz Korner meets every Wednesday at 10:30AM. A different type of program each week: karaoke\, card games\, trivia and more. \n10:30-11:30AM \nFun Games\nCommunity\nEntertainment\nTreats and Beverages
URL:https://sayva.us/event/kibbitz-korner/2026-07-01/
LOCATION:Temple RAMAT ZION\, 17655 Devonshire Street\, Northridge\, CA\, 91325\, United States
CATEGORIES:SAYVA Partner/Network
ATTACH;FMTTYPE=image/png:https://sayva.us/wp-content/uploads/2025/06/KibbitzKornerTRZ.png
END:VEVENT
BEGIN:VEVENT
DTSTART;TZID=UTC:20260708T103000
DTEND;TZID=UTC:20260708T113000
DTSTAMP:20260424T191208
CREATED:20250612T183359Z
LAST-MODIFIED:20250612T183359Z
UID:10000425-1783506600-1783510200@sayva.us
SUMMARY:Kibbitz Korner
DESCRIPTION:Wednesdays at Temple Ramat Zion \nCelebrate the spirit of togetherness with us! Our Kibbitz Korner meets every Wednesday at 10:30AM. A different type of program each week: karaoke\, card games\, trivia and more. \n10:30-11:30AM \nFun Games\nCommunity\nEntertainment\nTreats and Beverages
URL:https://sayva.us/event/kibbitz-korner/2026-07-08/
LOCATION:Temple RAMAT ZION\, 17655 Devonshire Street\, Northridge\, CA\, 91325\, United States
CATEGORIES:SAYVA Partner/Network
ATTACH;FMTTYPE=image/png:https://sayva.us/wp-content/uploads/2025/06/KibbitzKornerTRZ.png
END:VEVENT
BEGIN:VEVENT
DTSTART;TZID=UTC:20260715T103000
DTEND;TZID=UTC:20260715T113000
DTSTAMP:20260424T191208
CREATED:20250612T183359Z
LAST-MODIFIED:20250612T183359Z
UID:10000426-1784111400-1784115000@sayva.us
SUMMARY:Kibbitz Korner
DESCRIPTION:Wednesdays at Temple Ramat Zion \nCelebrate the spirit of togetherness with us! Our Kibbitz Korner meets every Wednesday at 10:30AM. A different type of program each week: karaoke\, card games\, trivia and more. \n10:30-11:30AM \nFun Games\nCommunity\nEntertainment\nTreats and Beverages
URL:https://sayva.us/event/kibbitz-korner/2026-07-15/
LOCATION:Temple RAMAT ZION\, 17655 Devonshire Street\, Northridge\, CA\, 91325\, United States
CATEGORIES:SAYVA Partner/Network
ATTACH;FMTTYPE=image/png:https://sayva.us/wp-content/uploads/2025/06/KibbitzKornerTRZ.png
END:VEVENT
BEGIN:VEVENT
DTSTART;TZID=UTC:20260722T103000
DTEND;TZID=UTC:20260722T113000
DTSTAMP:20260424T191208
CREATED:20250612T183359Z
LAST-MODIFIED:20250612T183359Z
UID:10000427-1784716200-1784719800@sayva.us
SUMMARY:Kibbitz Korner
DESCRIPTION:Wednesdays at Temple Ramat Zion \nCelebrate the spirit of togetherness with us! Our Kibbitz Korner meets every Wednesday at 10:30AM. A different type of program each week: karaoke\, card games\, trivia and more. \n10:30-11:30AM \nFun Games\nCommunity\nEntertainment\nTreats and Beverages
URL:https://sayva.us/event/kibbitz-korner/2026-07-22/
LOCATION:Temple RAMAT ZION\, 17655 Devonshire Street\, Northridge\, CA\, 91325\, United States
CATEGORIES:SAYVA Partner/Network
ATTACH;FMTTYPE=image/png:https://sayva.us/wp-content/uploads/2025/06/KibbitzKornerTRZ.png
END:VEVENT
BEGIN:VEVENT
DTSTART;TZID=UTC:20260729T103000
DTEND;TZID=UTC:20260729T113000
DTSTAMP:20260424T191208
CREATED:20250612T183359Z
LAST-MODIFIED:20250612T183359Z
UID:10000428-1785321000-1785324600@sayva.us
SUMMARY:Kibbitz Korner
DESCRIPTION:Wednesdays at Temple Ramat Zion \nCelebrate the spirit of togetherness with us! Our Kibbitz Korner meets every Wednesday at 10:30AM. A different type of program each week: karaoke\, card games\, trivia and more. \n10:30-11:30AM \nFun Games\nCommunity\nEntertainment\nTreats and Beverages
URL:https://sayva.us/event/kibbitz-korner/2026-07-29/
LOCATION:Temple RAMAT ZION\, 17655 Devonshire Street\, Northridge\, CA\, 91325\, United States
CATEGORIES:SAYVA Partner/Network
ATTACH;FMTTYPE=image/png:https://sayva.us/wp-content/uploads/2025/06/KibbitzKornerTRZ.png
END:VEVENT
BEGIN:VEVENT
DTSTART;TZID=UTC:20260805T103000
DTEND;TZID=UTC:20260805T113000
DTSTAMP:20260424T191208
CREATED:20250612T183359Z
LAST-MODIFIED:20250612T183359Z
UID:10000429-1785925800-1785929400@sayva.us
SUMMARY:Kibbitz Korner
DESCRIPTION:Wednesdays at Temple Ramat Zion \nCelebrate the spirit of togetherness with us! Our Kibbitz Korner meets every Wednesday at 10:30AM. A different type of program each week: karaoke\, card games\, trivia and more. \n10:30-11:30AM \nFun Games\nCommunity\nEntertainment\nTreats and Beverages
URL:https://sayva.us/event/kibbitz-korner/2026-08-05/
LOCATION:Temple RAMAT ZION\, 17655 Devonshire Street\, Northridge\, CA\, 91325\, United States
CATEGORIES:SAYVA Partner/Network
ATTACH;FMTTYPE=image/png:https://sayva.us/wp-content/uploads/2025/06/KibbitzKornerTRZ.png
END:VEVENT
BEGIN:VEVENT
DTSTART;TZID=UTC:20260812T103000
DTEND;TZID=UTC:20260812T113000
DTSTAMP:20260424T191208
CREATED:20250612T183359Z
LAST-MODIFIED:20250612T183359Z
UID:10000430-1786530600-1786534200@sayva.us
SUMMARY:Kibbitz Korner
DESCRIPTION:Wednesdays at Temple Ramat Zion \nCelebrate the spirit of togetherness with us! Our Kibbitz Korner meets every Wednesday at 10:30AM. A different type of program each week: karaoke\, card games\, trivia and more. \n10:30-11:30AM \nFun Games\nCommunity\nEntertainment\nTreats and Beverages
URL:https://sayva.us/event/kibbitz-korner/2026-08-12/
LOCATION:Temple RAMAT ZION\, 17655 Devonshire Street\, Northridge\, CA\, 91325\, United States
CATEGORIES:SAYVA Partner/Network
ATTACH;FMTTYPE=image/png:https://sayva.us/wp-content/uploads/2025/06/KibbitzKornerTRZ.png
END:VEVENT
BEGIN:VEVENT
DTSTART;TZID=UTC:20260819T103000
DTEND;TZID=UTC:20260819T113000
DTSTAMP:20260424T191208
CREATED:20250612T183359Z
LAST-MODIFIED:20250612T183359Z
UID:10000431-1787135400-1787139000@sayva.us
SUMMARY:Kibbitz Korner
DESCRIPTION:Wednesdays at Temple Ramat Zion \nCelebrate the spirit of togetherness with us! Our Kibbitz Korner meets every Wednesday at 10:30AM. A different type of program each week: karaoke\, card games\, trivia and more. \n10:30-11:30AM \nFun Games\nCommunity\nEntertainment\nTreats and Beverages
URL:https://sayva.us/event/kibbitz-korner/2026-08-19/
LOCATION:Temple RAMAT ZION\, 17655 Devonshire Street\, Northridge\, CA\, 91325\, United States
CATEGORIES:SAYVA Partner/Network
ATTACH;FMTTYPE=image/png:https://sayva.us/wp-content/uploads/2025/06/KibbitzKornerTRZ.png
END:VEVENT
BEGIN:VEVENT
DTSTART;TZID=UTC:20260826T103000
DTEND;TZID=UTC:20260826T113000
DTSTAMP:20260424T191208
CREATED:20250612T183359Z
LAST-MODIFIED:20250612T183359Z
UID:10000432-1787740200-1787743800@sayva.us
SUMMARY:Kibbitz Korner
DESCRIPTION:Wednesdays at Temple Ramat Zion \nCelebrate the spirit of togetherness with us! Our Kibbitz Korner meets every Wednesday at 10:30AM. A different type of program each week: karaoke\, card games\, trivia and more. \n10:30-11:30AM \nFun Games\nCommunity\nEntertainment\nTreats and Beverages
URL:https://sayva.us/event/kibbitz-korner/2026-08-26/
LOCATION:Temple RAMAT ZION\, 17655 Devonshire Street\, Northridge\, CA\, 91325\, United States
CATEGORIES:SAYVA Partner/Network
ATTACH;FMTTYPE=image/png:https://sayva.us/wp-content/uploads/2025/06/KibbitzKornerTRZ.png
END:VEVENT
BEGIN:VEVENT
DTSTART;TZID=UTC:20260902T103000
DTEND;TZID=UTC:20260902T113000
DTSTAMP:20260424T191208
CREATED:20250612T183359Z
LAST-MODIFIED:20250612T183359Z
UID:10000433-1788345000-1788348600@sayva.us
SUMMARY:Kibbitz Korner
DESCRIPTION:Wednesdays at Temple Ramat Zion \nCelebrate the spirit of togetherness with us! Our Kibbitz Korner meets every Wednesday at 10:30AM. A different type of program each week: karaoke\, card games\, trivia and more. \n10:30-11:30AM \nFun Games\nCommunity\nEntertainment\nTreats and Beverages
URL:https://sayva.us/event/kibbitz-korner/2026-09-02/
LOCATION:Temple RAMAT ZION\, 17655 Devonshire Street\, Northridge\, CA\, 91325\, United States
CATEGORIES:SAYVA Partner/Network
ATTACH;FMTTYPE=image/png:https://sayva.us/wp-content/uploads/2025/06/KibbitzKornerTRZ.png
END:VEVENT
BEGIN:VEVENT
DTSTART;TZID=UTC:20260909T103000
DTEND;TZID=UTC:20260909T113000
DTSTAMP:20260424T191208
CREATED:20250612T183359Z
LAST-MODIFIED:20250612T183359Z
UID:10000434-1788949800-1788953400@sayva.us
SUMMARY:Kibbitz Korner
DESCRIPTION:Wednesdays at Temple Ramat Zion \nCelebrate the spirit of togetherness with us! Our Kibbitz Korner meets every Wednesday at 10:30AM. A different type of program each week: karaoke\, card games\, trivia and more. \n10:30-11:30AM \nFun Games\nCommunity\nEntertainment\nTreats and Beverages
URL:https://sayva.us/event/kibbitz-korner/2026-09-09/
LOCATION:Temple RAMAT ZION\, 17655 Devonshire Street\, Northridge\, CA\, 91325\, United States
CATEGORIES:SAYVA Partner/Network
ATTACH;FMTTYPE=image/png:https://sayva.us/wp-content/uploads/2025/06/KibbitzKornerTRZ.png
END:VEVENT
BEGIN:VEVENT
DTSTART;TZID=UTC:20260916T103000
DTEND;TZID=UTC:20260916T113000
DTSTAMP:20260424T191208
CREATED:20250612T183359Z
LAST-MODIFIED:20250612T183359Z
UID:10000435-1789554600-1789558200@sayva.us
SUMMARY:Kibbitz Korner
DESCRIPTION:Wednesdays at Temple Ramat Zion \nCelebrate the spirit of togetherness with us! Our Kibbitz Korner meets every Wednesday at 10:30AM. A different type of program each week: karaoke\, card games\, trivia and more. \n10:30-11:30AM \nFun Games\nCommunity\nEntertainment\nTreats and Beverages
URL:https://sayva.us/event/kibbitz-korner/2026-09-16/
LOCATION:Temple RAMAT ZION\, 17655 Devonshire Street\, Northridge\, CA\, 91325\, United States
CATEGORIES:SAYVA Partner/Network
ATTACH;FMTTYPE=image/png:https://sayva.us/wp-content/uploads/2025/06/KibbitzKornerTRZ.png
END:VEVENT
BEGIN:VEVENT
DTSTART;TZID=UTC:20260923T103000
DTEND;TZID=UTC:20260923T113000
DTSTAMP:20260424T191208
CREATED:20250612T183359Z
LAST-MODIFIED:20250612T183359Z
UID:10000436-1790159400-1790163000@sayva.us
SUMMARY:Kibbitz Korner
DESCRIPTION:Wednesdays at Temple Ramat Zion \nCelebrate the spirit of togetherness with us! Our Kibbitz Korner meets every Wednesday at 10:30AM. A different type of program each week: karaoke\, card games\, trivia and more. \n10:30-11:30AM \nFun Games\nCommunity\nEntertainment\nTreats and Beverages
URL:https://sayva.us/event/kibbitz-korner/2026-09-23/
LOCATION:Temple RAMAT ZION\, 17655 Devonshire Street\, Northridge\, CA\, 91325\, United States
CATEGORIES:SAYVA Partner/Network
ATTACH;FMTTYPE=image/png:https://sayva.us/wp-content/uploads/2025/06/KibbitzKornerTRZ.png
END:VEVENT
BEGIN:VEVENT
DTSTART;TZID=UTC:20260930T103000
DTEND;TZID=UTC:20260930T113000
DTSTAMP:20260424T191208
CREATED:20250612T183359Z
LAST-MODIFIED:20250612T183359Z
UID:10000437-1790764200-1790767800@sayva.us
SUMMARY:Kibbitz Korner
DESCRIPTION:Wednesdays at Temple Ramat Zion \nCelebrate the spirit of togetherness with us! Our Kibbitz Korner meets every Wednesday at 10:30AM. A different type of program each week: karaoke\, card games\, trivia and more. \n10:30-11:30AM \nFun Games\nCommunity\nEntertainment\nTreats and Beverages
URL:https://sayva.us/event/kibbitz-korner/2026-09-30/
LOCATION:Temple RAMAT ZION\, 17655 Devonshire Street\, Northridge\, CA\, 91325\, United States
CATEGORIES:SAYVA Partner/Network
ATTACH;FMTTYPE=image/png:https://sayva.us/wp-content/uploads/2025/06/KibbitzKornerTRZ.png
END:VEVENT
BEGIN:VEVENT
DTSTART;TZID=UTC:20261007T103000
DTEND;TZID=UTC:20261007T113000
DTSTAMP:20260424T191208
CREATED:20250612T183359Z
LAST-MODIFIED:20250612T183359Z
UID:10000438-1791369000-1791372600@sayva.us
SUMMARY:Kibbitz Korner
DESCRIPTION:Wednesdays at Temple Ramat Zion \nCelebrate the spirit of togetherness with us! Our Kibbitz Korner meets every Wednesday at 10:30AM. A different type of program each week: karaoke\, card games\, trivia and more. \n10:30-11:30AM \nFun Games\nCommunity\nEntertainment\nTreats and Beverages
URL:https://sayva.us/event/kibbitz-korner/2026-10-07/
LOCATION:Temple RAMAT ZION\, 17655 Devonshire Street\, Northridge\, CA\, 91325\, United States
CATEGORIES:SAYVA Partner/Network
ATTACH;FMTTYPE=image/png:https://sayva.us/wp-content/uploads/2025/06/KibbitzKornerTRZ.png
END:VEVENT
BEGIN:VEVENT
DTSTART;TZID=UTC:20261014T103000
DTEND;TZID=UTC:20261014T113000
DTSTAMP:20260424T191208
CREATED:20250612T183359Z
LAST-MODIFIED:20250612T183359Z
UID:10000439-1791973800-1791977400@sayva.us
SUMMARY:Kibbitz Korner
DESCRIPTION:Wednesdays at Temple Ramat Zion \nCelebrate the spirit of togetherness with us! Our Kibbitz Korner meets every Wednesday at 10:30AM. A different type of program each week: karaoke\, card games\, trivia and more. \n10:30-11:30AM \nFun Games\nCommunity\nEntertainment\nTreats and Beverages
URL:https://sayva.us/event/kibbitz-korner/2026-10-14/
LOCATION:Temple RAMAT ZION\, 17655 Devonshire Street\, Northridge\, CA\, 91325\, United States
CATEGORIES:SAYVA Partner/Network
ATTACH;FMTTYPE=image/png:https://sayva.us/wp-content/uploads/2025/06/KibbitzKornerTRZ.png
END:VEVENT
BEGIN:VEVENT
DTSTART;TZID=UTC:20261021T103000
DTEND;TZID=UTC:20261021T113000
DTSTAMP:20260424T191208
CREATED:20250612T183359Z
LAST-MODIFIED:20250612T183359Z
UID:10000440-1792578600-1792582200@sayva.us
SUMMARY:Kibbitz Korner
DESCRIPTION:Wednesdays at Temple Ramat Zion \nCelebrate the spirit of togetherness with us! Our Kibbitz Korner meets every Wednesday at 10:30AM. A different type of program each week: karaoke\, card games\, trivia and more. \n10:30-11:30AM \nFun Games\nCommunity\nEntertainment\nTreats and Beverages
URL:https://sayva.us/event/kibbitz-korner/2026-10-21/
LOCATION:Temple RAMAT ZION\, 17655 Devonshire Street\, Northridge\, CA\, 91325\, United States
CATEGORIES:SAYVA Partner/Network
ATTACH;FMTTYPE=image/png:https://sayva.us/wp-content/uploads/2025/06/KibbitzKornerTRZ.png
END:VEVENT
BEGIN:VEVENT
DTSTART;TZID=UTC:20261028T103000
DTEND;TZID=UTC:20261028T113000
DTSTAMP:20260424T191208
CREATED:20250612T183359Z
LAST-MODIFIED:20250612T183359Z
UID:10000441-1793183400-1793187000@sayva.us
SUMMARY:Kibbitz Korner
DESCRIPTION:Wednesdays at Temple Ramat Zion \nCelebrate the spirit of togetherness with us! Our Kibbitz Korner meets every Wednesday at 10:30AM. A different type of program each week: karaoke\, card games\, trivia and more. \n10:30-11:30AM \nFun Games\nCommunity\nEntertainment\nTreats and Beverages
URL:https://sayva.us/event/kibbitz-korner/2026-10-28/
LOCATION:Temple RAMAT ZION\, 17655 Devonshire Street\, Northridge\, CA\, 91325\, United States
CATEGORIES:SAYVA Partner/Network
ATTACH;FMTTYPE=image/png:https://sayva.us/wp-content/uploads/2025/06/KibbitzKornerTRZ.png
END:VEVENT
BEGIN:VEVENT
DTSTART;TZID=UTC:20261104T103000
DTEND;TZID=UTC:20261104T113000
DTSTAMP:20260424T191208
CREATED:20250612T183359Z
LAST-MODIFIED:20250612T183359Z
UID:10000442-1793788200-1793791800@sayva.us
SUMMARY:Kibbitz Korner
DESCRIPTION:Wednesdays at Temple Ramat Zion \nCelebrate the spirit of togetherness with us! Our Kibbitz Korner meets every Wednesday at 10:30AM. A different type of program each week: karaoke\, card games\, trivia and more. \n10:30-11:30AM \nFun Games\nCommunity\nEntertainment\nTreats and Beverages
URL:https://sayva.us/event/kibbitz-korner/2026-11-04/
LOCATION:Temple RAMAT ZION\, 17655 Devonshire Street\, Northridge\, CA\, 91325\, United States
CATEGORIES:SAYVA Partner/Network
ATTACH;FMTTYPE=image/png:https://sayva.us/wp-content/uploads/2025/06/KibbitzKornerTRZ.png
END:VEVENT
BEGIN:VEVENT
DTSTART;TZID=UTC:20261111T103000
DTEND;TZID=UTC:20261111T113000
DTSTAMP:20260424T191208
CREATED:20250612T183359Z
LAST-MODIFIED:20250612T183359Z
UID:10000443-1794393000-1794396600@sayva.us
SUMMARY:Kibbitz Korner
DESCRIPTION:Wednesdays at Temple Ramat Zion \nCelebrate the spirit of togetherness with us! Our Kibbitz Korner meets every Wednesday at 10:30AM. A different type of program each week: karaoke\, card games\, trivia and more. \n10:30-11:30AM \nFun Games\nCommunity\nEntertainment\nTreats and Beverages
URL:https://sayva.us/event/kibbitz-korner/2026-11-11/
LOCATION:Temple RAMAT ZION\, 17655 Devonshire Street\, Northridge\, CA\, 91325\, United States
CATEGORIES:SAYVA Partner/Network
ATTACH;FMTTYPE=image/png:https://sayva.us/wp-content/uploads/2025/06/KibbitzKornerTRZ.png
END:VEVENT
BEGIN:VEVENT
DTSTART;TZID=UTC:20261118T103000
DTEND;TZID=UTC:20261118T113000
DTSTAMP:20260424T191208
CREATED:20250612T183359Z
LAST-MODIFIED:20250612T183359Z
UID:10000444-1794997800-1795001400@sayva.us
SUMMARY:Kibbitz Korner
DESCRIPTION:Wednesdays at Temple Ramat Zion \nCelebrate the spirit of togetherness with us! Our Kibbitz Korner meets every Wednesday at 10:30AM. A different type of program each week: karaoke\, card games\, trivia and more. \n10:30-11:30AM \nFun Games\nCommunity\nEntertainment\nTreats and Beverages
URL:https://sayva.us/event/kibbitz-korner/2026-11-18/
LOCATION:Temple RAMAT ZION\, 17655 Devonshire Street\, Northridge\, CA\, 91325\, United States
CATEGORIES:SAYVA Partner/Network
ATTACH;FMTTYPE=image/png:https://sayva.us/wp-content/uploads/2025/06/KibbitzKornerTRZ.png
END:VEVENT
BEGIN:VEVENT
DTSTART;TZID=UTC:20261125T103000
DTEND;TZID=UTC:20261125T113000
DTSTAMP:20260424T191208
CREATED:20250612T183359Z
LAST-MODIFIED:20250612T183359Z
UID:10000445-1795602600-1795606200@sayva.us
SUMMARY:Kibbitz Korner
DESCRIPTION:Wednesdays at Temple Ramat Zion \nCelebrate the spirit of togetherness with us! Our Kibbitz Korner meets every Wednesday at 10:30AM. A different type of program each week: karaoke\, card games\, trivia and more. \n10:30-11:30AM \nFun Games\nCommunity\nEntertainment\nTreats and Beverages
URL:https://sayva.us/event/kibbitz-korner/2026-11-25/
LOCATION:Temple RAMAT ZION\, 17655 Devonshire Street\, Northridge\, CA\, 91325\, United States
CATEGORIES:SAYVA Partner/Network
ATTACH;FMTTYPE=image/png:https://sayva.us/wp-content/uploads/2025/06/KibbitzKornerTRZ.png
END:VEVENT
BEGIN:VEVENT
DTSTART;TZID=UTC:20261202T103000
DTEND;TZID=UTC:20261202T113000
DTSTAMP:20260424T191208
CREATED:20250612T183359Z
LAST-MODIFIED:20250612T183359Z
UID:10000446-1796207400-1796211000@sayva.us
SUMMARY:Kibbitz Korner
DESCRIPTION:Wednesdays at Temple Ramat Zion \nCelebrate the spirit of togetherness with us! Our Kibbitz Korner meets every Wednesday at 10:30AM. A different type of program each week: karaoke\, card games\, trivia and more. \n10:30-11:30AM \nFun Games\nCommunity\nEntertainment\nTreats and Beverages
URL:https://sayva.us/event/kibbitz-korner/2026-12-02/
LOCATION:Temple RAMAT ZION\, 17655 Devonshire Street\, Northridge\, CA\, 91325\, United States
CATEGORIES:SAYVA Partner/Network
ATTACH;FMTTYPE=image/png:https://sayva.us/wp-content/uploads/2025/06/KibbitzKornerTRZ.png
END:VEVENT
BEGIN:VEVENT
DTSTART;TZID=UTC:20261209T103000
DTEND;TZID=UTC:20261209T113000
DTSTAMP:20260424T191208
CREATED:20250612T183359Z
LAST-MODIFIED:20250612T183359Z
UID:10000447-1796812200-1796815800@sayva.us
SUMMARY:Kibbitz Korner
DESCRIPTION:Wednesdays at Temple Ramat Zion \nCelebrate the spirit of togetherness with us! Our Kibbitz Korner meets every Wednesday at 10:30AM. A different type of program each week: karaoke\, card games\, trivia and more. \n10:30-11:30AM \nFun Games\nCommunity\nEntertainment\nTreats and Beverages
URL:https://sayva.us/event/kibbitz-korner/2026-12-09/
LOCATION:Temple RAMAT ZION\, 17655 Devonshire Street\, Northridge\, CA\, 91325\, United States
CATEGORIES:SAYVA Partner/Network
ATTACH;FMTTYPE=image/png:https://sayva.us/wp-content/uploads/2025/06/KibbitzKornerTRZ.png
END:VEVENT
BEGIN:VEVENT
DTSTART;TZID=UTC:20261216T103000
DTEND;TZID=UTC:20261216T113000
DTSTAMP:20260424T191208
CREATED:20250612T183359Z
LAST-MODIFIED:20250612T183359Z
UID:10000448-1797417000-1797420600@sayva.us
SUMMARY:Kibbitz Korner
DESCRIPTION:Wednesdays at Temple Ramat Zion \nCelebrate the spirit of togetherness with us! Our Kibbitz Korner meets every Wednesday at 10:30AM. A different type of program each week: karaoke\, card games\, trivia and more. \n10:30-11:30AM \nFun Games\nCommunity\nEntertainment\nTreats and Beverages
URL:https://sayva.us/event/kibbitz-korner/2026-12-16/
LOCATION:Temple RAMAT ZION\, 17655 Devonshire Street\, Northridge\, CA\, 91325\, United States
CATEGORIES:SAYVA Partner/Network
ATTACH;FMTTYPE=image/png:https://sayva.us/wp-content/uploads/2025/06/KibbitzKornerTRZ.png
END:VEVENT
BEGIN:VEVENT
DTSTART;TZID=UTC:20261223T103000
DTEND;TZID=UTC:20261223T113000
DTSTAMP:20260424T191208
CREATED:20250612T183359Z
LAST-MODIFIED:20250612T183359Z
UID:10000449-1798021800-1798025400@sayva.us
SUMMARY:Kibbitz Korner
DESCRIPTION:Wednesdays at Temple Ramat Zion \nCelebrate the spirit of togetherness with us! Our Kibbitz Korner meets every Wednesday at 10:30AM. A different type of program each week: karaoke\, card games\, trivia and more. \n10:30-11:30AM \nFun Games\nCommunity\nEntertainment\nTreats and Beverages
URL:https://sayva.us/event/kibbitz-korner/2026-12-23/
LOCATION:Temple RAMAT ZION\, 17655 Devonshire Street\, Northridge\, CA\, 91325\, United States
CATEGORIES:SAYVA Partner/Network
ATTACH;FMTTYPE=image/png:https://sayva.us/wp-content/uploads/2025/06/KibbitzKornerTRZ.png
END:VEVENT
BEGIN:VEVENT
DTSTART;TZID=UTC:20261230T103000
DTEND;TZID=UTC:20261230T113000
DTSTAMP:20260424T191208
CREATED:20250612T183359Z
LAST-MODIFIED:20250612T183359Z
UID:10000450-1798626600-1798630200@sayva.us
SUMMARY:Kibbitz Korner
DESCRIPTION:Wednesdays at Temple Ramat Zion \nCelebrate the spirit of togetherness with us! Our Kibbitz Korner meets every Wednesday at 10:30AM. A different type of program each week: karaoke\, card games\, trivia and more. \n10:30-11:30AM \nFun Games\nCommunity\nEntertainment\nTreats and Beverages
URL:https://sayva.us/event/kibbitz-korner/2026-12-30/
LOCATION:Temple RAMAT ZION\, 17655 Devonshire Street\, Northridge\, CA\, 91325\, United States
CATEGORIES:SAYVA Partner/Network
ATTACH;FMTTYPE=image/png:https://sayva.us/wp-content/uploads/2025/06/KibbitzKornerTRZ.png
END:VEVENT
BEGIN:VEVENT
DTSTART;TZID=UTC:20270106T103000
DTEND;TZID=UTC:20270106T113000
DTSTAMP:20260424T191208
CREATED:20250612T183359Z
LAST-MODIFIED:20250612T183359Z
UID:10000451-1799231400-1799235000@sayva.us
SUMMARY:Kibbitz Korner
DESCRIPTION:Wednesdays at Temple Ramat Zion \nCelebrate the spirit of togetherness with us! Our Kibbitz Korner meets every Wednesday at 10:30AM. A different type of program each week: karaoke\, card games\, trivia and more. \n10:30-11:30AM \nFun Games\nCommunity\nEntertainment\nTreats and Beverages
URL:https://sayva.us/event/kibbitz-korner/2027-01-06/
LOCATION:Temple RAMAT ZION\, 17655 Devonshire Street\, Northridge\, CA\, 91325\, United States
CATEGORIES:SAYVA Partner/Network
ATTACH;FMTTYPE=image/png:https://sayva.us/wp-content/uploads/2025/06/KibbitzKornerTRZ.png
END:VEVENT
BEGIN:VEVENT
DTSTART;TZID=UTC:20270113T103000
DTEND;TZID=UTC:20270113T113000
DTSTAMP:20260424T191208
CREATED:20250612T183359Z
LAST-MODIFIED:20250612T183359Z
UID:10000452-1799836200-1799839800@sayva.us
SUMMARY:Kibbitz Korner
DESCRIPTION:Wednesdays at Temple Ramat Zion \nCelebrate the spirit of togetherness with us! Our Kibbitz Korner meets every Wednesday at 10:30AM. A different type of program each week: karaoke\, card games\, trivia and more. \n10:30-11:30AM \nFun Games\nCommunity\nEntertainment\nTreats and Beverages
URL:https://sayva.us/event/kibbitz-korner/2027-01-13/
LOCATION:Temple RAMAT ZION\, 17655 Devonshire Street\, Northridge\, CA\, 91325\, United States
CATEGORIES:SAYVA Partner/Network
ATTACH;FMTTYPE=image/png:https://sayva.us/wp-content/uploads/2025/06/KibbitzKornerTRZ.png
END:VEVENT
BEGIN:VEVENT
DTSTART;TZID=UTC:20270120T103000
DTEND;TZID=UTC:20270120T113000
DTSTAMP:20260424T191208
CREATED:20250612T183359Z
LAST-MODIFIED:20250612T183359Z
UID:10000453-1800441000-1800444600@sayva.us
SUMMARY:Kibbitz Korner
DESCRIPTION:Wednesdays at Temple Ramat Zion \nCelebrate the spirit of togetherness with us! Our Kibbitz Korner meets every Wednesday at 10:30AM. A different type of program each week: karaoke\, card games\, trivia and more. \n10:30-11:30AM \nFun Games\nCommunity\nEntertainment\nTreats and Beverages
URL:https://sayva.us/event/kibbitz-korner/2027-01-20/
LOCATION:Temple RAMAT ZION\, 17655 Devonshire Street\, Northridge\, CA\, 91325\, United States
CATEGORIES:SAYVA Partner/Network
ATTACH;FMTTYPE=image/png:https://sayva.us/wp-content/uploads/2025/06/KibbitzKornerTRZ.png
END:VEVENT
END:VCALENDAR