BEGIN:VCALENDAR
VERSION:2.0
PRODID:-//SAYVA - ECPv6.15.20//NONSGML v1.0//EN
CALSCALE:GREGORIAN
METHOD:PUBLISH
X-ORIGINAL-URL:https://sayva.us
X-WR-CALDESC:Events for SAYVA
REFRESH-INTERVAL;VALUE=DURATION:PT1H
X-Robots-Tag:noindex
X-PUBLISHED-TTL:PT1H
BEGIN:VTIMEZONE
TZID:UTC
BEGIN:STANDARD
TZOFFSETFROM:+0000
TZOFFSETTO:+0000
TZNAME:UTC
DTSTART:20250101T000000
END:STANDARD
END:VTIMEZONE
BEGIN:VEVENT
DTSTART;TZID=UTC:20260223T180000
DTEND;TZID=UTC:20260223T200000
DTSTAMP:20260424T231313
CREATED:20260208T210045Z
LAST-MODIFIED:20260208T210045Z
UID:10000701-1771869600-1771876800@sayva.us
SUMMARY:L'Dor v'Dor Teaching Ourselves about our Ancestors - A Genealogy Workshop with Richard Hoffman\,
DESCRIPTION:Temple Judea\nL’Dor v’Dor Teaching Ourselves about our Ancestors – A Genealogy Workshop with Richard Hoffman\, Monday\, February 23—6:00 PM – 8:00 PM \nHave you ever wondered where your grandparents lived? How their birth\, death or marriage was announced by presenting the event before the landsmen\, the documents that represent these life events are largely available through the genealogical indexes that are now on the internet. Learn to research your family tree by attending this genealogy workshop — a favorite at Temple Judea. \nCLICK HERE to RSVP
URL:https://sayva.us/event/ldor-vdor-teaching-ourselves-about-our-ancestors-a-genealogy-workshop-with-richard-hoffman/
CATEGORIES:SAYVA Partner/Network
END:VEVENT
BEGIN:VEVENT
DTSTART;TZID=UTC:20260225T103000
DTEND;TZID=UTC:20260225T113000
DTSTAMP:20260424T231314
CREATED:20250612T183359Z
LAST-MODIFIED:20250612T183359Z
UID:10000406-1772015400-1772019000@sayva.us
SUMMARY:Kibbitz Korner
DESCRIPTION:Wednesdays at Temple Ramat Zion \nCelebrate the spirit of togetherness with us! Our Kibbitz Korner meets every Wednesday at 10:30AM. A different type of program each week: karaoke\, card games\, trivia and more. \n10:30-11:30AM \nFun Games\nCommunity\nEntertainment\nTreats and Beverages
URL:https://sayva.us/event/kibbitz-korner/2026-02-25/
LOCATION:Temple RAMAT ZION\, 17655 Devonshire Street\, Northridge\, CA\, 91325\, United States
CATEGORIES:SAYVA Partner/Network
ATTACH;FMTTYPE=image/png:https://sayva.us/wp-content/uploads/2025/06/KibbitzKornerTRZ.png
END:VEVENT
BEGIN:VEVENT
DTSTART;TZID=UTC:20260225T180000
DTEND;TZID=UTC:20260225T193000
DTSTAMP:20260424T231314
CREATED:20260208T211319Z
LAST-MODIFIED:20260208T211319Z
UID:10000706-1772042400-1772047800@sayva.us
SUMMARY:From Crisis to Opportunity: Navigating Israel's Future in a Rapidly Realigning Middle East
DESCRIPTION:The UCLA Y&S Nazarian Center for Israel Studies—From Crisis to Opportunity: Navigating Israel’s Future in a Rapidly Realigning Middle East \nOn February 25 at UCLA\, Ambassador Ronen Hoffman—scholar\, former diplomat\, and peace negotiator—will present the Center’s Harry C. Sigman Distinguished Lecture on future trajectories for Israel and the Middle East in the post-October 7 era. \nCLICK HERE for more INFO
URL:https://sayva.us/event/from-crisis-to-opportunity-navigating-israels-future-in-a-rapidly-realigning-middle-east/
ATTACH;FMTTYPE=image/png:https://sayva.us/wp-content/uploads/2026/02/Picture1.png
END:VEVENT
BEGIN:VEVENT
DTSTART;TZID=UTC:20260225T190000
DTEND;TZID=UTC:20260225T203000
DTSTAMP:20260424T231314
CREATED:20260208T210230Z
LAST-MODIFIED:20260208T210230Z
UID:10000702-1772046000-1772051400@sayva.us
SUMMARY:Under the Chuppah-The Drama and Power of a Jewish Wedding
DESCRIPTION:Temple Ahavat Shalom\nUnder the Chuppah-The Drama and Power of a Jewish Wedding Wednesday February 25 at 7PM \nWhat if a Jewish wedding is not just a ceremony\, but a powerful teaching about how to build a life with another person? Join us for a one hour Zoom class that unpacks the drama\, symbolism\, and deep wisdom woven into every moment under the chuppah. \nNo prior knowledge is needed\, just curiosity. \nNo RSVP needed; see the weekly TAS Bulletin for the ZOOM link.
URL:https://sayva.us/event/under-the-chuppah-the-drama-and-power-of-a-jewish-wedding/
CATEGORIES:SAYVA Partner/Network
ATTACH;FMTTYPE=image/jpeg:https://sayva.us/wp-content/uploads/2026/02/Virtual-Classroom-Under-the-Chuppah-Class-Flyer-Feb-2026.jpeg
END:VEVENT
BEGIN:VEVENT
DTSTART;TZID=UTC:20260226T160000
DTEND;TZID=UTC:20260226T170000
DTSTAMP:20260424T231314
CREATED:20260208T210448Z
LAST-MODIFIED:20260208T210458Z
UID:10000705-1772121600-1772125200@sayva.us
SUMMARY:Restless Soul: Mordecai Kaplan and the Reinvention of American Judaism
DESCRIPTION:Restless Soul: Mordecai Kaplan and the Reinvention of American Judaism February 12\, 19 and 26th\,\n4:00-5:00PM —ONLINE ONLY \nRabbi Mordecai Kaplan was admired by many\, challenged by others\, and never stopped trying to reinvent what it meant to live a Jewish life in the modern world. \nIn this special three-part Melton+ series presented in cooperation with Valley Beth Shalom\, the Harold M Schulweis Institute\, and the Mordecai Kaplan Center for Jewish Peoplehood\, Rabbi Ed Feinstein sits down with historian Jenna Weissman Joselit\, author of the forthcoming Jewish Lives biography Mordecai M. Kaplan: Restless Soul\, for a candid and compelling exploration of Kaplan’s life and legacy. Founder of the Reconstructionist movement\, fierce critic of inherited dogma\, and tireless advocate for a Judaism that could speak to modern life\, Kaplan reshaped American Jewish identity and ignited ongoing debate about faith\, community\, and change. \nCLICK HERE for more INFO
URL:https://sayva.us/event/restless-soul-mordecai-kaplan-and-the-reinvention-of-american-judaism/2026-02-26/
CATEGORIES:SAYVA Partner/Network
ATTACH;FMTTYPE=image/png:https://sayva.us/wp-content/uploads/2026/02/158b79e4-3264-41e3-87cc-07a33da13d5c.png
END:VEVENT
BEGIN:VEVENT
DTSTART;TZID=UTC:20260226T190000
DTEND;TZID=UTC:20260226T203000
DTSTAMP:20260424T231314
CREATED:20260208T211447Z
LAST-MODIFIED:20260208T211447Z
UID:10000707-1772132400-1772137800@sayva.us
SUMMARY:Jewish California Governor 2026 Candidate Forum
DESCRIPTION:Jewish California Governor 2026 Candidate Forum \nThursday\, February 26\, 2026 7:00 PM – 8:30 PM PT \nSkirball Cultural Center\, 2701 N Sepulveda Blvd\, Los Angeles\, CA 90049 \nJoin us in Los Angeles for the Jewish community’s statewide gubernatorial forum – a rare\, high-stakes opportunity to hear directly from the leading candidates for Governor on the issues that matter most to Jewish Californians. \nThis is where candidates will share how they intend to protect Jewish communities and strengthen Jewish values in California. Topics will include antisemitism prevention\, the California-Israel relationship\, K-12 education and ethnic studies\, community safety\, and the critical social safety net programs that support vulnerable populations across our state. \nCLICK HERE to RSVP
URL:https://sayva.us/event/jewish-california-governor-2026-candidate-forum/
ATTACH;FMTTYPE=image/png:https://sayva.us/wp-content/uploads/2026/02/Picture2.png
END:VEVENT
BEGIN:VEVENT
DTSTART;TZID=UTC:20260228T193000
DTEND;TZID=UTC:20260228T210000
DTSTAMP:20260424T231314
CREATED:20260226T192602Z
LAST-MODIFIED:20260226T192602Z
UID:10000708-1772307000-1772312400@sayva.us
SUMMARY:Valley Opera & Performing Arts (VOPA) 20th Anniversary Concert Spectacular
DESCRIPTION:Valley Opera & Performing Arts (VOPA) 20th Anniversary Concert Spectacular \nFriday\, February 28 | 7:30 PM \nSaturday\, March 1 | 3:00 PM \nEl Portal Theatre\, North Hollywood \nSpecial offer for SAYVA members! \nValley Opera & Performing Arts (VOPA) is celebrating its 20th Anniversary with a Concert Spectacular. SAYVA community members may receive $7 off Tier 1 or Tier 2 tickets by typing “SAYVA” into the Promo Code field. This opportunity is open to SAYVA partners and anyone with access to the code. \n 
URL:https://sayva.us/event/valley-opera-performing-arts-vopa-20th-anniversary-concert-spectacular/2026-02-28/
ATTACH;FMTTYPE=image/png:https://sayva.us/wp-content/uploads/2026/02/Vopa.png
END:VEVENT
BEGIN:VEVENT
DTSTART;TZID=UTC:20260301T150000
DTEND;TZID=UTC:20260301T173000
DTSTAMP:20260424T231314
CREATED:20260226T192602Z
LAST-MODIFIED:20260226T192602Z
UID:10000709-1772377200-1772386200@sayva.us
SUMMARY:Valley Opera & Performing Arts (VOPA) 20th Anniversary Concert Spectacular
DESCRIPTION:Valley Opera & Performing Arts (VOPA) 20th Anniversary Concert Spectacular \nFriday\, February 28 | 7:30 PM \nSaturday\, March 1 | 3:00 PM \nEl Portal Theatre\, North Hollywood \nSpecial offer for SAYVA members! \nValley Opera & Performing Arts (VOPA) is celebrating its 20th Anniversary with a Concert Spectacular. SAYVA community members may receive $7 off Tier 1 or Tier 2 tickets by typing “SAYVA” into the Promo Code field. This opportunity is open to SAYVA partners and anyone with access to the code. \n 
URL:https://sayva.us/event/valley-opera-performing-arts-vopa-20th-anniversary-concert-spectacular/2026-03-01/
ATTACH;FMTTYPE=image/png:https://sayva.us/wp-content/uploads/2026/02/Vopa.png
END:VEVENT
BEGIN:VEVENT
DTSTART;TZID=UTC:20260304T103000
DTEND;TZID=UTC:20260304T113000
DTSTAMP:20260424T231314
CREATED:20250612T183359Z
LAST-MODIFIED:20250612T183359Z
UID:10000407-1772620200-1772623800@sayva.us
SUMMARY:Kibbitz Korner
DESCRIPTION:Wednesdays at Temple Ramat Zion \nCelebrate the spirit of togetherness with us! Our Kibbitz Korner meets every Wednesday at 10:30AM. A different type of program each week: karaoke\, card games\, trivia and more. \n10:30-11:30AM \nFun Games\nCommunity\nEntertainment\nTreats and Beverages
URL:https://sayva.us/event/kibbitz-korner/2026-03-04/
LOCATION:Temple RAMAT ZION\, 17655 Devonshire Street\, Northridge\, CA\, 91325\, United States
CATEGORIES:SAYVA Partner/Network
ATTACH;FMTTYPE=image/png:https://sayva.us/wp-content/uploads/2025/06/KibbitzKornerTRZ.png
END:VEVENT
BEGIN:VEVENT
DTSTART;TZID=UTC:20260310T123000
DTEND;TZID=UTC:20260310T140000
DTSTAMP:20260424T231314
CREATED:20260310T011742Z
LAST-MODIFIED:20260310T011742Z
UID:10000713-1773145800-1773151200@sayva.us
SUMMARY:Renaissance Lively Lunch—Kol Tikvah
DESCRIPTION:Kol Tikvah \nTuesday\, March 10 | 12:30 p.m. \nRenaissance Lively Lunch \nJoin us on Tuesday as we watch and discuss 2 of the nominated 2026 Academy Awards: Best Animated Short Film Papillon (Butterfly) by Florence Miailhe and The Three Sisters by Dir. Konstantin Bronzit. \nBring your lunch – we will supply popcorn\, other snacks\, and refreshments!
URL:https://sayva.us/event/renaissance-lively-lunch-kol-tikvah/
CATEGORIES:SAYVA Partner/Network
ATTACH;FMTTYPE=image/png:https://sayva.us/wp-content/uploads/2024/10/koltikvah.png
END:VEVENT
BEGIN:VEVENT
DTSTART;TZID=UTC:20260311T103000
DTEND;TZID=UTC:20260311T113000
DTSTAMP:20260424T231314
CREATED:20250612T183359Z
LAST-MODIFIED:20250612T183359Z
UID:10000408-1773225000-1773228600@sayva.us
SUMMARY:Kibbitz Korner
DESCRIPTION:Wednesdays at Temple Ramat Zion \nCelebrate the spirit of togetherness with us! Our Kibbitz Korner meets every Wednesday at 10:30AM. A different type of program each week: karaoke\, card games\, trivia and more. \n10:30-11:30AM \nFun Games\nCommunity\nEntertainment\nTreats and Beverages
URL:https://sayva.us/event/kibbitz-korner/2026-03-11/
LOCATION:Temple RAMAT ZION\, 17655 Devonshire Street\, Northridge\, CA\, 91325\, United States
CATEGORIES:SAYVA Partner/Network
ATTACH;FMTTYPE=image/png:https://sayva.us/wp-content/uploads/2025/06/KibbitzKornerTRZ.png
END:VEVENT
BEGIN:VEVENT
DTSTART;TZID=UTC:20260312T140000
DTEND;TZID=UTC:20260312T150000
DTSTAMP:20260424T231314
CREATED:20251113T184445Z
LAST-MODIFIED:20251118T200158Z
UID:10000686-1773324000-1773327600@sayva.us
SUMMARY:Growing Older\, Growing Wiser—In Person
DESCRIPTION:Join Rabbi Raff and Margaret Altschul\, Licensed Marriage and Family Therapist\, for a series of conversations on Zoom about Growing Older\, Growing Wiser! \nIn the four-part series\, we will explore what Jewish tradition teaches about finding meaning and purpose in later adulthood. \nEngage in deep conversations\, share reflections on growing older…how you stay creative and productive in later life and remain connected. Become a B’nei Hochmah\, a child of wisdom as together we will prepare\, learn\, and share a guided process of reflection to forge a new vision for your life’s purpose that reflects what’s important now. \nThursday\, November 13\, 2025 • 22 Cheshvan 5786\n2:00 PM – 3:30 PM-Temple Judea (in person) \nThursday\, January 8\, 2026 • 19 Tevet 5786\n2:00 PM – 3:30 PM-Temple Judea (in person) \nThursday\, March 12\, 2026 • 23 Adar 5786\n2:00 PM – 3:30 PM-Temple Judea (in person) \nThursday\, May 14\, 2026 • 27 Iyar 5786\n2:00 PM – 3:30 PM-Temple Judea (in person)
URL:https://sayva.us/event/growing-older-growing-wiser-in-person/2026-03-12/
CATEGORIES:SAYVA Partner/Network
ATTACH;FMTTYPE=image/jpeg:https://sayva.us/wp-content/uploads/2024/09/OlderWiser.jpg
END:VEVENT
BEGIN:VEVENT
DTSTART;TZID=UTC:20260312T140000
DTEND;TZID=UTC:20260312T153000
DTSTAMP:20260424T231314
CREATED:20260310T011949Z
LAST-MODIFIED:20260310T011949Z
UID:10000714-1773324000-1773329400@sayva.us
SUMMARY:Crucial Conversations—TJ Village ﻿ ﻿Temple Judea
DESCRIPTION:TJ Village\nTemple Judea \nCrucial Conversations \nThurs.\, March 12\, | 2:00 – 3:30 PM \nGrowing Older\, Growing Wiser shifts to a new 3-part Series taught by Rabbi Josh Aaronson and Rabbi Bruce Raff. \nThursday\, March 12 \nSession #1 will focus on Rituals of Mortality\, taught by Rabbi Raff \nThursday\, April 23 \nSession #2 Rituals & Customs of Jewish Mourning\, through the end of the Shana\, taught by Rabbi Aaronson \nThursday\, May 14 \nSession #3 The Legacy We Bequeath: Ethical Wills\, taught by Rabbi Aaronson and Rabbi Raff \nA discussion of the process of growing older\, including end-of-life issues & rituals; preparing for death. \nEveryone is welcome to attend this 3-part series\, regardless if you have attended in the past\, are currently enrolled\, or have never participated in Growing Older\, Growing Wiser. *Please REGISTER for Crucial Conversations: Preparing for the End of Life. \nEven if you are already enrolled for the previously scheduled classes on March 12 & May 24\, 2pm\, *you must enroll!
URL:https://sayva.us/event/crucial-conversations-tj-village-temple-judea/2026-03-12/
ATTACH;FMTTYPE=image/png:https://sayva.us/wp-content/uploads/2024/10/tjudea.png
END:VEVENT
BEGIN:VEVENT
DTSTART;TZID=UTC:20260317T180000
DTEND;TZID=UTC:20260317T203000
DTSTAMP:20260424T231314
CREATED:20260208T205300Z
LAST-MODIFIED:20260208T205340Z
UID:10000697-1773770400-1773779400@sayva.us
SUMMARY:Death Over Dinner: Jewish Edition
DESCRIPTION:Tuesday\, March 17—6:00 PM – 8:30 PM\nHamakom: 7353 Valley Circle Blvd.\, West Hills\, CA 91304\n  \nDeath Over Dinner: Jewish Edition is a warm\, welcoming gathering centered around a shared meal and facilitated conversation. Our dinner table is a place to slow down\, listen deeply\, and engage in meaningful dialogue about end-of-life\, grief\, legacy\, and what truly matters—held within the richness of Jewish tradition and community. \nThis event is held and hosted at Hamakom\, in partnership with SAYVA\, and facilitated by Valley Chevra Kadisha\, the first community Chevra Kadisha in Los Angeles. \nCLICK HERE to RSVP
URL:https://sayva.us/event/death-over-dinner-jewish-edition/
CATEGORIES:SAYVA
ATTACH;FMTTYPE=image/png:https://sayva.us/wp-content/uploads/2026/02/DoD.png
END:VEVENT
BEGIN:VEVENT
DTSTART;TZID=UTC:20260318T103000
DTEND;TZID=UTC:20260318T113000
DTSTAMP:20260424T231314
CREATED:20250612T183359Z
LAST-MODIFIED:20250612T183359Z
UID:10000409-1773829800-1773833400@sayva.us
SUMMARY:Kibbitz Korner
DESCRIPTION:Wednesdays at Temple Ramat Zion \nCelebrate the spirit of togetherness with us! Our Kibbitz Korner meets every Wednesday at 10:30AM. A different type of program each week: karaoke\, card games\, trivia and more. \n10:30-11:30AM \nFun Games\nCommunity\nEntertainment\nTreats and Beverages
URL:https://sayva.us/event/kibbitz-korner/2026-03-18/
LOCATION:Temple RAMAT ZION\, 17655 Devonshire Street\, Northridge\, CA\, 91325\, United States
CATEGORIES:SAYVA Partner/Network
ATTACH;FMTTYPE=image/png:https://sayva.us/wp-content/uploads/2025/06/KibbitzKornerTRZ.png
END:VEVENT
BEGIN:VEVENT
DTSTART;TZID=UTC:20260318T153000
DTEND;TZID=UTC:20260318T170000
DTSTAMP:20260424T231314
CREATED:20260310T011407Z
LAST-MODIFIED:20260310T011407Z
UID:10000711-1773847800-1773853200@sayva.us
SUMMARY:Navigating the System: Your Guide to Government Benefits and Special Needs Trusts
DESCRIPTION:Navigating the System: Your Guide to Government Benefits and Special Needs Trusts \nWednesday\, March 18—3:30-5:00PM \nLearn more about special needs trusts\, government benefits like SSI\, SSDI\, and Medi-Cal\, and planning ahead financially for people with disabilities. \nThis webinar will cover: \n\nWhy You Need to Plan Ahead\nIntroduction to Government Benefits\nSSI\, Medicaid (Medi-Cal in CA)\, IHSS\nSpecial Needs Trust Basics\nWho will be your Trustee?\nPooled Trust Basics\nCalABLE Accounts\nFuture-Funded Trusts at JLA Trust\n\nPlus lots of time to get questions about your families’ individual needs and situations answered. Join us!
URL:https://sayva.us/event/navigating-the-system-your-guide-to-government-benefits-and-special-needs-trusts/
ATTACH;FMTTYPE=image/png:https://sayva.us/wp-content/uploads/2026/03/JLA.png
END:VEVENT
BEGIN:VEVENT
DTSTART;TZID=UTC:20260318T190000
DTEND;TZID=UTC:20260318T203000
DTSTAMP:20260424T231314
CREATED:20250911T184654Z
LAST-MODIFIED:20250911T184654Z
UID:10000664-1773860400-1773865800@sayva.us
SUMMARY:Rosh Hodesh—TRZ's Monthly Women's Meet Up
DESCRIPTION:Rosh Hodesh—TRZ’s Monthly Women’s Meet Up \nA Program for Women 50+ Navigating Life Together \n 
URL:https://sayva.us/event/rosh-hodesh-trzs-monthly-womens-meet-up/2026-03-18/
ATTACH;FMTTYPE=image/png:https://sayva.us/wp-content/uploads/2025/09/Rosh-Hodesh-25-26-2.png
END:VEVENT
BEGIN:VEVENT
DTSTART;TZID=UTC:20260322T150000
DTEND;TZID=UTC:20260322T170000
DTSTAMP:20260424T231314
CREATED:20260226T192744Z
LAST-MODIFIED:20260226T192744Z
UID:10000710-1774191600-1774198800@sayva.us
SUMMARY:Opera Favorites with a Jewish Twist
DESCRIPTION:Opera Favorites with a Jewish Twist\nSunday\, March 22\, 2026 | 3:00 PM\nWilshire Boulevard Temple – Glazer Campus \nPresented by Wilshire Boulevard Temple and the Los Angeles Jewish Symphony\, this special concert travels through two centuries of opera and song\, celebrating Jewish composers and librettists who helped shape the sound of the opera house. From Mozart to Bizet to Broadway and beyond\, the afternoon features operatic favorites with Jewish connections and biblical inspiration.\n \nGeneral Seating:\n$36 – Wilshire Boulevard Temple members\n$45 – Los Angeles Jewish Symphony members-SAYVA discount\n$54 – Non-members\n \nBuy Tickets HERE.
URL:https://sayva.us/event/opera-favorites-with-a-jewish-twist/
END:VEVENT
BEGIN:VEVENT
DTSTART;TZID=UTC:20260323T100000
DTEND;TZID=UTC:20260323T120000
DTSTAMP:20260424T231314
CREATED:20260310T011604Z
LAST-MODIFIED:20260310T011604Z
UID:10000712-1774260000-1774267200@sayva.us
SUMMARY:Hazak Mondays
DESCRIPTION:Monday March 23 \n\n10AM: Impressionism: Sunrise-How the Impressionists Got Their Name\, with Contextual Art Historian Katherine Zoraster;\n11:15AM: The World’s Largest Digital Camera Begins Scanning the Night Sky\, with Caltech Retiree and Hazak Member Bill Green
URL:https://sayva.us/event/hazak-mondays-4/
CATEGORIES:SAYVA Partner/Network
ATTACH;FMTTYPE=image/png:https://sayva.us/wp-content/uploads/2024/10/vbs.png
END:VEVENT
BEGIN:VEVENT
DTSTART;TZID=UTC:20260325T103000
DTEND;TZID=UTC:20260325T113000
DTSTAMP:20260424T231314
CREATED:20250612T183359Z
LAST-MODIFIED:20250612T183359Z
UID:10000410-1774434600-1774438200@sayva.us
SUMMARY:Kibbitz Korner
DESCRIPTION:Wednesdays at Temple Ramat Zion \nCelebrate the spirit of togetherness with us! Our Kibbitz Korner meets every Wednesday at 10:30AM. A different type of program each week: karaoke\, card games\, trivia and more. \n10:30-11:30AM \nFun Games\nCommunity\nEntertainment\nTreats and Beverages
URL:https://sayva.us/event/kibbitz-korner/2026-03-25/
LOCATION:Temple RAMAT ZION\, 17655 Devonshire Street\, Northridge\, CA\, 91325\, United States
CATEGORIES:SAYVA Partner/Network
ATTACH;FMTTYPE=image/png:https://sayva.us/wp-content/uploads/2025/06/KibbitzKornerTRZ.png
END:VEVENT
BEGIN:VEVENT
DTSTART;TZID=UTC:20260401T103000
DTEND;TZID=UTC:20260401T113000
DTSTAMP:20260424T231314
CREATED:20250612T183359Z
LAST-MODIFIED:20250612T183359Z
UID:10000411-1775039400-1775043000@sayva.us
SUMMARY:Kibbitz Korner
DESCRIPTION:Wednesdays at Temple Ramat Zion \nCelebrate the spirit of togetherness with us! Our Kibbitz Korner meets every Wednesday at 10:30AM. A different type of program each week: karaoke\, card games\, trivia and more. \n10:30-11:30AM \nFun Games\nCommunity\nEntertainment\nTreats and Beverages
URL:https://sayva.us/event/kibbitz-korner/2026-04-01/
LOCATION:Temple RAMAT ZION\, 17655 Devonshire Street\, Northridge\, CA\, 91325\, United States
CATEGORIES:SAYVA Partner/Network
ATTACH;FMTTYPE=image/png:https://sayva.us/wp-content/uploads/2025/06/KibbitzKornerTRZ.png
END:VEVENT
BEGIN:VEVENT
DTSTART;TZID=UTC:20260406T100000
DTEND;TZID=UTC:20260406T120000
DTSTAMP:20260424T231314
CREATED:20260323T231513Z
LAST-MODIFIED:20260323T231513Z
UID:10000719-1775469600-1775476800@sayva.us
SUMMARY:VBS Hazak
DESCRIPTION:VBS Hazak \nMonday April 6 10AM: US Supreme Court: Spectator or Enabler or Umpire?  with Mark Levick\, JD; 11:15AM The Jews and Synagogues of Prague: A Thousand Years of Resilience and Legacy\, with Jerry Rishe\, SAGE Speaker.
URL:https://sayva.us/event/vbs-hazak/
CATEGORIES:SAYVA Partner/Network
ATTACH;FMTTYPE=image/png:https://sayva.us/wp-content/uploads/2024/10/vbs.png
END:VEVENT
BEGIN:VEVENT
DTSTART;TZID=UTC:20260408T103000
DTEND;TZID=UTC:20260408T113000
DTSTAMP:20260424T231314
CREATED:20250612T183359Z
LAST-MODIFIED:20250612T183359Z
UID:10000412-1775644200-1775647800@sayva.us
SUMMARY:Kibbitz Korner
DESCRIPTION:Wednesdays at Temple Ramat Zion \nCelebrate the spirit of togetherness with us! Our Kibbitz Korner meets every Wednesday at 10:30AM. A different type of program each week: karaoke\, card games\, trivia and more. \n10:30-11:30AM \nFun Games\nCommunity\nEntertainment\nTreats and Beverages
URL:https://sayva.us/event/kibbitz-korner/2026-04-08/
LOCATION:Temple RAMAT ZION\, 17655 Devonshire Street\, Northridge\, CA\, 91325\, United States
CATEGORIES:SAYVA Partner/Network
ATTACH;FMTTYPE=image/png:https://sayva.us/wp-content/uploads/2025/06/KibbitzKornerTRZ.png
END:VEVENT
BEGIN:VEVENT
DTSTART;TZID=UTC:20260413T143000
DTEND;TZID=UTC:20260413T170000
DTSTAMP:20260424T231314
CREATED:20260323T232304Z
LAST-MODIFIED:20260324T232320Z
UID:10000722-1776090600-1776099600@sayva.us
SUMMARY:Movie Screening: SHTTL\, sponsored by TJVillage
DESCRIPTION:Movie Screening: SHTTL\, sponsored by TJVillage \nMonday\, April 13\, 2026 • 26 Nisan 5786 \n2:30 PM – 5:00 PMTemple Judea \nTJVillage is happy to bring the award winning film\, Shttl\, to Temple Judea \nYou are invited to a special screening on April 13 at 2:30pm \nRegistration is Required\, no walk-ins allowed
URL:https://sayva.us/event/movie-screening-shttl-sponsored-by-tjvillage/
CATEGORIES:SAYVA Partner/Network
ATTACH;FMTTYPE=image/png:https://sayva.us/wp-content/uploads/2026/03/Shttl-Yom-Hashoah-Film-Screening.png
END:VEVENT
BEGIN:VEVENT
DTSTART;TZID=UTC:20260413T190000
DTEND;TZID=UTC:20260413T213000
DTSTAMP:20260424T231314
CREATED:20260323T232053Z
LAST-MODIFIED:20260323T232053Z
UID:10000721-1776106800-1776115800@sayva.us
SUMMARY:Yom HaShoah Commemoration & Film Screening: An Auschwitz Album Story
DESCRIPTION:Yom HaShoah Commemoration & Film Screening: An Auschwitz Album Story \nMonday\, April 13\, 2026 • 26 Nisan 5786 \n7:15 PM – 9:30 PM—Hamakom: 7353 Valley Circle Blvd.\, West Hills\, CA 91304 \nIn Person: Film Director Jeffery L. Gary and Producer and Hamakom Member Mitch Kreitenberg \nAn Auschwitz Album Story tells the extraordinary survivor story of Mike and Joe Kreitenberg and their life-changing discovery in the Auschwitz Album: the only existing photographs of their family and neighbors who were lost in the Holocaust. The Auschwitz Album contains the only known photographs ever taken from inside Auschwitz during the Holocaust. 7:15 pm Yom HaShoah Service Led by Hamakom Clergy 8:00 pm Film Screening “An Auschwitz Album Story” Introduction by Director Jeffery L. Gary and Producer Mitch Kreitenberg. Q&A following the screening
URL:https://sayva.us/event/yom-hashoah-commemoration-film-screening-an-auschwitz-album-story/
CATEGORIES:SAYVA Partner/Network
ATTACH;FMTTYPE=image/png:https://sayva.us/wp-content/uploads/2026/03/YomHaShoah2026FLIERFINAL-scaled.png
END:VEVENT
BEGIN:VEVENT
DTSTART;TZID=UTC:20260415T103000
DTEND;TZID=UTC:20260415T113000
DTSTAMP:20260424T231314
CREATED:20250612T183359Z
LAST-MODIFIED:20250612T183359Z
UID:10000413-1776249000-1776252600@sayva.us
SUMMARY:Kibbitz Korner
DESCRIPTION:Wednesdays at Temple Ramat Zion \nCelebrate the spirit of togetherness with us! Our Kibbitz Korner meets every Wednesday at 10:30AM. A different type of program each week: karaoke\, card games\, trivia and more. \n10:30-11:30AM \nFun Games\nCommunity\nEntertainment\nTreats and Beverages
URL:https://sayva.us/event/kibbitz-korner/2026-04-15/
LOCATION:Temple RAMAT ZION\, 17655 Devonshire Street\, Northridge\, CA\, 91325\, United States
CATEGORIES:SAYVA Partner/Network
ATTACH;FMTTYPE=image/png:https://sayva.us/wp-content/uploads/2025/06/KibbitzKornerTRZ.png
END:VEVENT
BEGIN:VEVENT
DTSTART;TZID=UTC:20260415T190000
DTEND;TZID=UTC:20260415T203000
DTSTAMP:20260424T231314
CREATED:20250911T184654Z
LAST-MODIFIED:20250911T184654Z
UID:10000665-1776279600-1776285000@sayva.us
SUMMARY:Rosh Hodesh—TRZ's Monthly Women's Meet Up
DESCRIPTION:Rosh Hodesh—TRZ’s Monthly Women’s Meet Up \nA Program for Women 50+ Navigating Life Together \n 
URL:https://sayva.us/event/rosh-hodesh-trzs-monthly-womens-meet-up/2026-04-15/
ATTACH;FMTTYPE=image/png:https://sayva.us/wp-content/uploads/2025/09/Rosh-Hodesh-25-26-2.png
END:VEVENT
BEGIN:VEVENT
DTSTART;TZID=UTC:20260419T090000
DTEND;TZID=UTC:20260419T101500
DTSTAMP:20260424T231314
CREATED:20260323T230637Z
LAST-MODIFIED:20260410T171834Z
UID:10000717-1776589200-1776593700@sayva.us
SUMMARY:Walk with the Rabbi—Join SAYVA and Rabbi Ed Feinstein
DESCRIPTION:Walk with the Rabbi—Join SAYVA and Rabbi Ed Feinstein \nRESCHEDULED: Sunday\, April 19\, 9 am \nLAKE BALBOA\n6300 Balboa Blvd\nLake Balboa\, CA 91406 \nWe meet by the Camel at the playground! \nPlease enable JavaScript in your browser to complete this form.Please enable JavaScript in your browser to complete this form.		\n			Email Phone Name\n			\n		\n		Name *FirstLastEmail *PhoneAffiliationSubmit
URL:https://sayva.us/event/walk-with-the-rabbi-join-sayva-and-rabbi-ed-feinstein/
CATEGORIES:SAYVA
ATTACH;FMTTYPE=image/png:https://sayva.us/wp-content/uploads/2026/03/Rescheduled4.19.264.12.26WalkwRabbi.png
END:VEVENT
BEGIN:VEVENT
DTSTART;TZID=UTC:20260420T100000
DTEND;TZID=UTC:20260420T120000
DTSTAMP:20260424T231314
CREATED:20260323T231631Z
LAST-MODIFIED:20260323T231631Z
UID:10000720-1776679200-1776686400@sayva.us
SUMMARY:VBS Hazak
DESCRIPTION:VBS Hazak \nMonday April 20  10AM: Designing Exhibitions that Inspire Curiosity with Jennifer Bressler\, Principal\, Hunt Design; 11:15AM: The Amen Effect\, with Sharon Brous\, Senior and Founding Rabbi\, IKAR
URL:https://sayva.us/event/vbs-hazak-2/
CATEGORIES:SAYVA Partner/Network
ATTACH;FMTTYPE=image/png:https://sayva.us/wp-content/uploads/2024/10/vbs.png
END:VEVENT
BEGIN:VEVENT
DTSTART;TZID=UTC:20260421T190000
DTEND;TZID=UTC:20260421T203000
DTSTAMP:20260424T231314
CREATED:20260323T231312Z
LAST-MODIFIED:20260323T231312Z
UID:10000718-1776798000-1776803400@sayva.us
SUMMARY:KOL HA’AM A MUSICAL SALUTE TO ISRAEL FOR YOM HA’ATZMAUT
DESCRIPTION:KOL HA’AM A MUSICAL SALUTE TO ISRAEL FOR YOM HA’ATZMAUT \nTuesday\, April 21st—Doors at 6:30PM\, program at 7:00PM \nJoin us as we celebrate Israeli Independence through song with congregations from across the Valley \nTarzana\, CA—(venue and parking information will be shared with registrants)
URL:https://sayva.us/event/kol-haam-a-musical-salute-to-israel-for-yom-haatzmaut/
CATEGORIES:SAYVA Partner/Network
ATTACH;FMTTYPE=image/png:https://sayva.us/wp-content/uploads/2026/03/Yom-Haatzmaut-2026-5-scaled.png
END:VEVENT
END:VCALENDAR