BEGIN:VCALENDAR
VERSION:2.0
PRODID:-//SAYVA - ECPv6.15.20//NONSGML v1.0//EN
CALSCALE:GREGORIAN
METHOD:PUBLISH
X-WR-CALNAME:SAYVA
X-ORIGINAL-URL:https://sayva.us
X-WR-CALDESC:Events for SAYVA
REFRESH-INTERVAL;VALUE=DURATION:PT1H
X-Robots-Tag:noindex
X-PUBLISHED-TTL:PT1H
BEGIN:VTIMEZONE
TZID:UTC
BEGIN:STANDARD
TZOFFSETFROM:+0000
TZOFFSETTO:+0000
TZNAME:UTC
DTSTART:20240101T000000
END:STANDARD
END:VTIMEZONE
BEGIN:VEVENT
DTSTART;TZID=UTC:20251105T103000
DTEND;TZID=UTC:20251105T113000
DTSTAMP:20260424T233141
CREATED:20250612T183359Z
LAST-MODIFIED:20250612T183359Z
UID:10000390-1762338600-1762342200@sayva.us
SUMMARY:Kibbitz Korner
DESCRIPTION:Wednesdays at Temple Ramat Zion \nCelebrate the spirit of togetherness with us! Our Kibbitz Korner meets every Wednesday at 10:30AM. A different type of program each week: karaoke\, card games\, trivia and more. \n10:30-11:30AM \nFun Games\nCommunity\nEntertainment\nTreats and Beverages
URL:https://sayva.us/event/kibbitz-korner/2025-11-05/
LOCATION:Temple RAMAT ZION\, 17655 Devonshire Street\, Northridge\, CA\, 91325\, United States
CATEGORIES:SAYVA Partner/Network
ATTACH;FMTTYPE=image/png:https://sayva.us/wp-content/uploads/2025/06/KibbitzKornerTRZ.png
END:VEVENT
BEGIN:VEVENT
DTSTART;TZID=UTC:20251105T140000
DTEND;TZID=UTC:20251105T153000
DTSTAMP:20260424T233141
CREATED:20250807T180855Z
LAST-MODIFIED:20250807T180855Z
UID:10000642-1762351200-1762356600@sayva.us
SUMMARY:Growing Older\, Growing Wiser: ZOOM SERIES
DESCRIPTION:ZOOM: \nJoin Rabbi Raff and Margaret Altschul\, Licensed Marriage and Family Therapist\, for a series of conversations on Zoom about Growing Older\, Growing Wiser! \nIn the four-part series\, we will  explore what Jewish tradition teaches about finding meaning and purpose in later adulthood. \nEngage in deep conversations\, share reflections on growing older…how you stay creative and productive in later life and remain connected. Become a B’nei Hochmah\, a child of wisdom as together we will prepare\, learn\, and share a guided process of reflection to forge a new vision for your life’s purpose that reflects what’s important now. \nUpcoming Sessions\n\n1. Wednesday\, September 3\, 2025 • 10 Elul 5785\n2:00 PM – 3:30 PM ON ZOOM \n2. Wednesday\, November 5\, 2025 • 14 Cheshvan 5786\n2:00 PM – 3:30 PM ON ZOOM \n3. Wednesday\, January 7\, 2026 • 18 Tevet 5786\n2:00 PM – 3:30 PM ON ZOOM \n4. Wednesday\, March 4\, 2026 • 15 Adar 5786\n2:00 PM – 3:30 PM ON ZOOM \n5. Wednesday\, May 6\, 2026 • 19 Iyar 5786\n2:00 PM – 3:30 PMON ZOOM \nCLICK HERE for more information.
URL:https://sayva.us/event/growing-older-growing-wiser-zoom-series/2025-11-05/
CATEGORIES:SAYVA,SAYVA Partner/Network
ATTACH;FMTTYPE=image/jpeg:https://sayva.us/wp-content/uploads/2024/09/OlderWiser.jpg
END:VEVENT
BEGIN:VEVENT
DTSTART;TZID=UTC:20251112T103000
DTEND;TZID=UTC:20251112T113000
DTSTAMP:20260424T233141
CREATED:20250612T183359Z
LAST-MODIFIED:20250612T183359Z
UID:10000391-1762943400-1762947000@sayva.us
SUMMARY:Kibbitz Korner
DESCRIPTION:Wednesdays at Temple Ramat Zion \nCelebrate the spirit of togetherness with us! Our Kibbitz Korner meets every Wednesday at 10:30AM. A different type of program each week: karaoke\, card games\, trivia and more. \n10:30-11:30AM \nFun Games\nCommunity\nEntertainment\nTreats and Beverages
URL:https://sayva.us/event/kibbitz-korner/2025-11-12/
LOCATION:Temple RAMAT ZION\, 17655 Devonshire Street\, Northridge\, CA\, 91325\, United States
CATEGORIES:SAYVA Partner/Network
ATTACH;FMTTYPE=image/png:https://sayva.us/wp-content/uploads/2025/06/KibbitzKornerTRZ.png
END:VEVENT
BEGIN:VEVENT
DTSTART;TZID=UTC:20251113T140000
DTEND;TZID=UTC:20251113T150000
DTSTAMP:20260424T233141
CREATED:20251113T184445Z
LAST-MODIFIED:20251118T200158Z
UID:10000684-1763042400-1763046000@sayva.us
SUMMARY:Growing Older\, Growing Wiser—In Person
DESCRIPTION:Join Rabbi Raff and Margaret Altschul\, Licensed Marriage and Family Therapist\, for a series of conversations on Zoom about Growing Older\, Growing Wiser! \nIn the four-part series\, we will explore what Jewish tradition teaches about finding meaning and purpose in later adulthood. \nEngage in deep conversations\, share reflections on growing older…how you stay creative and productive in later life and remain connected. Become a B’nei Hochmah\, a child of wisdom as together we will prepare\, learn\, and share a guided process of reflection to forge a new vision for your life’s purpose that reflects what’s important now. \nThursday\, November 13\, 2025 • 22 Cheshvan 5786\n2:00 PM – 3:30 PM-Temple Judea (in person) \nThursday\, January 8\, 2026 • 19 Tevet 5786\n2:00 PM – 3:30 PM-Temple Judea (in person) \nThursday\, March 12\, 2026 • 23 Adar 5786\n2:00 PM – 3:30 PM-Temple Judea (in person) \nThursday\, May 14\, 2026 • 27 Iyar 5786\n2:00 PM – 3:30 PM-Temple Judea (in person)
URL:https://sayva.us/event/growing-older-growing-wiser-in-person/2025-11-13/
CATEGORIES:SAYVA Partner/Network
ATTACH;FMTTYPE=image/jpeg:https://sayva.us/wp-content/uploads/2024/09/OlderWiser.jpg
END:VEVENT
BEGIN:VEVENT
DTSTART;TZID=UTC:20251117T100000
DTEND;TZID=UTC:20251117T140000
DTSTAMP:20260424T233141
CREATED:20251114T190334Z
LAST-MODIFIED:20251114T190334Z
UID:10000688-1763373600-1763388000@sayva.us
SUMMARY:Hazak Mondays
DESCRIPTION:November 17: Hazak Monday in person at VBS and online on YouTube.\n\n\n10:00am: “The Importance of Grandparenting” with Judie Cotton\, LMFT\, VBS Counseling Center President\n\n\n11:15am: “King David in Art” with Katherine Zoraster\, MA\n\n\n12:15pm: Lunch – BYO or Bagels\, cream cheese\, tuna\, salad\, fruit\, dessert for $10 per person\n\n\nChoice of Hot Topics Discussion Group (12:45pm) or Hazak Torah Study with VBS Clergy (1:00pm)
URL:https://sayva.us/event/hazak-mondays-3/
ATTACH;FMTTYPE=image/png:https://sayva.us/wp-content/uploads/2024/10/vbs.png
END:VEVENT
BEGIN:VEVENT
DTSTART;TZID=UTC:20251119T103000
DTEND;TZID=UTC:20251119T113000
DTSTAMP:20260424T233141
CREATED:20250612T183359Z
LAST-MODIFIED:20250612T183359Z
UID:10000392-1763548200-1763551800@sayva.us
SUMMARY:Kibbitz Korner
DESCRIPTION:Wednesdays at Temple Ramat Zion \nCelebrate the spirit of togetherness with us! Our Kibbitz Korner meets every Wednesday at 10:30AM. A different type of program each week: karaoke\, card games\, trivia and more. \n10:30-11:30AM \nFun Games\nCommunity\nEntertainment\nTreats and Beverages
URL:https://sayva.us/event/kibbitz-korner/2025-11-19/
LOCATION:Temple RAMAT ZION\, 17655 Devonshire Street\, Northridge\, CA\, 91325\, United States
CATEGORIES:SAYVA Partner/Network
ATTACH;FMTTYPE=image/png:https://sayva.us/wp-content/uploads/2025/06/KibbitzKornerTRZ.png
END:VEVENT
BEGIN:VEVENT
DTSTART;TZID=UTC:20251119T190000
DTEND;TZID=UTC:20251119T203000
DTSTAMP:20260424T233141
CREATED:20250911T184654Z
LAST-MODIFIED:20250911T184654Z
UID:10000660-1763578800-1763584200@sayva.us
SUMMARY:Rosh Hodesh—TRZ's Monthly Women's Meet Up
DESCRIPTION:Rosh Hodesh—TRZ’s Monthly Women’s Meet Up \nA Program for Women 50+ Navigating Life Together \n 
URL:https://sayva.us/event/rosh-hodesh-trzs-monthly-womens-meet-up/2025-11-19/
ATTACH;FMTTYPE=image/png:https://sayva.us/wp-content/uploads/2025/09/Rosh-Hodesh-25-26-2.png
END:VEVENT
BEGIN:VEVENT
DTSTART;TZID=UTC:20251121T173000
DTEND;TZID=UTC:20251121T210000
DTSTAMP:20260424T233141
CREATED:20251111T191646Z
LAST-MODIFIED:20251111T223240Z
UID:10000682-1763746200-1763758800@sayva.us
SUMMARY:SAYVA Presents: A Special Weekend with Cantor Benjamin Kintisch
DESCRIPTION:SAYVA Presents: A Special Weekend with Cantor Benjamin Kintisch Creator and Performer of Life Review: The Hospice Musical—A moving\, uplifting celebration of life\, love\, and loss. \nDescribed as “A Chorus Line meets Fiddler on the Roof\,” the show blends story\, song\, and heart. \nFriday\, Nov 21 | Kol Tikvah\, 20400 Ventura Boulevard\, Woodland Hills\, CA 91364 \nSunday\, Nov 23 | Fountainview at LA Jewish Health\, 6440 Wilbur Ave\, Reseda\, CA 91335 \nPlease enable JavaScript in your browser to complete this form.Please enable JavaScript in your browser to complete this form.Name *FirstLastEmail *PhoneHow did you hear about the event?Please indicate how many will be joining.12345678910Please share guest names for security.		\n			be Please for\n			\n		\n		Please select events you would like to attend. Friday\, Nov 21 | Kol Tikvah\, Woodland Hills5:30 pm Conversation program6:30 pm Shabbat ServicesBothSunday\, Nov. 23 | Fountainview at LA Jewish Health\, Reseda11:00 am—Cantor Kintisch’s live one-man show.Submit
URL:https://sayva.us/event/sayva-presents-a-special-weekend-with-cantor-benjamin-kintisch/
CATEGORIES:SAYVA
ATTACH;FMTTYPE=image/png:https://sayva.us/wp-content/uploads/2025/11/b_11.21_11.23-scaled.png
END:VEVENT
BEGIN:VEVENT
DTSTART;TZID=UTC:20251123T090000
DTEND;TZID=UTC:20251123T110000
DTSTAMP:20260424T233141
CREATED:20251021T225931Z
LAST-MODIFIED:20251021T225931Z
UID:10000680-1763888400-1763895600@sayva.us
SUMMARY:Parashat Lech Lecha: Taking Our Next Step\, with Yiscah Smith
DESCRIPTION:Parashat Lech Lecha: Taking Our Next Step\, with Yiscah Smith\nSunday\, November 23\, 2025 • 3 Kislev 5786\n9:45 AM – 12:00 PM Social Hall —HaMAKOM\nDon’t miss this program with one of our most engaging contemporary Jewish thought leaders.\nYiscah Smith’s book\, Planting Seeds of the Divine\, will be available for purchase at the event. \n“Experiencing deep personal fulfillment\, happiness\, and sustenance comes from feeling connected to our authentic selves\, which involves building an ongoing relationship with the Divine Presence within us”\, says author Yiscah Smith. “Quite organically\, then\, we may begin sensing the Divine in our interactions with other people. This is because for each of us\, our essence\, as a creation by God\, is God.” \nCLICK HERE TO RSVP \n 
URL:https://sayva.us/event/parashat-lech-lecha-taking-our-next-step-with-yiscah-smith/
ATTACH;FMTTYPE=image/png:https://sayva.us/wp-content/uploads/2025/10/Yiscah-Smith-Nov-2025.png
END:VEVENT
BEGIN:VEVENT
DTSTART;TZID=UTC:20251123T110000
DTEND;TZID=UTC:20251123T120000
DTSTAMP:20260424T233141
CREATED:20251111T191847Z
LAST-MODIFIED:20251111T223922Z
UID:10000683-1763895600-1763899200@sayva.us
SUMMARY:SAYVA Presents: A Special Weekend with Cantor Benjamin Kintisch
DESCRIPTION:SAYVA Presents: A Special Weekend with Cantor Benjamin Kintisch Creator and Performer of Life Review: The Hospice Musical—A moving\, uplifting celebration of life\, love\, and loss. \nDescribed as “A Chorus Line meets Fiddler on the Roof\,” the show blends story\, song\, and heart. \nSunday\, Nov 23 | Fountainview at LA Jewish Health\, 6440 Wilbur Ave\, Reseda\, CA 91335 \n\n11:00 AM — West Coast Premiere: Life Review — The Hospice Musical\nExperience Cantor Kintisch’s acclaimed one-man show — moving\, funny\, and profoundly human — performed live with guitar. Limited Space!\n\nPlease enable JavaScript in your browser to complete this form.Please enable JavaScript in your browser to complete this form.Name *FirstLastEmail *Phone		\n			events Jewish the\n			\n		\n		How did you hear about the event?Please indicate how many will be joining.12345678910Please share guest names for security.Please select events you would like to attend. Friday\, Nov 21 | Kol Tikvah\, Woodland Hills5:30 pm Conversation program6:30 pm Shabbat ServicesBothSunday\, Nov. 23 | Fountainview at LA Jewish Health\, Reseda11:00 am—Cantor Kintisch’s live one-man show.Submit
URL:https://sayva.us/event/sayva-presents-a-special-weekend-with-cantor-benjamin-kintisch-2/
CATEGORIES:SAYVA
ATTACH;FMTTYPE=image/png:https://sayva.us/wp-content/uploads/2025/11/b_11.21_11.23-scaled.png
END:VEVENT
BEGIN:VEVENT
DTSTART;TZID=UTC:20251125T123000
DTEND;TZID=UTC:20251125T143000
DTSTAMP:20260424T233141
CREATED:20251117T002703Z
LAST-MODIFIED:20251117T002754Z
UID:10000689-1764073800-1764081000@sayva.us
SUMMARY:Kol Tikvah- Lively Lunch: Let’s Make Art — Collage Workshop with Special Artist\, Lici Ben Eliezer Curtis Tues. November 25 | 12:30 - 2:30 p.m.
DESCRIPTION:Kol Tikvah- Lively Lunch: Let’s Make Art — Collage Workshop with Special Artist\, Lici Ben Eliezer Curtis \nTues. November 25 | 12:30 – 2:30 p.m. \nJoin us at Kol Tikvah for a special Lively Lunch with Israeli collage artist Lici Ben Eliezer Curtis (Stefanie’s cousin)\, whose artwork reflects her family story as a second-generation Holocaust survivor. Lici has exhibited internationally and leads popular collage workshops in Israel. \nEnjoy a Bureka’s lunch ($18) and presentation\, followed by a hands-on collage-making workshop. No art experience needed—just a willingness to try! \nCLICK HERE to RSVP
URL:https://sayva.us/event/kol-tikvah-lively-lunch-lets-make-art-collage-workshop-with-special-artist-lici-ben-eliezer-curtis-tues-november-25-1230-230-p-m/
CATEGORIES:SAYVA Partner/Network
ATTACH;FMTTYPE=image/jpeg:https://sayva.us/wp-content/uploads/2025/11/IMG_0904.jpeg
END:VEVENT
BEGIN:VEVENT
DTSTART;TZID=UTC:20251126T103000
DTEND;TZID=UTC:20251126T113000
DTSTAMP:20260424T233141
CREATED:20250612T183359Z
LAST-MODIFIED:20250612T183359Z
UID:10000393-1764153000-1764156600@sayva.us
SUMMARY:Kibbitz Korner
DESCRIPTION:Wednesdays at Temple Ramat Zion \nCelebrate the spirit of togetherness with us! Our Kibbitz Korner meets every Wednesday at 10:30AM. A different type of program each week: karaoke\, card games\, trivia and more. \n10:30-11:30AM \nFun Games\nCommunity\nEntertainment\nTreats and Beverages
URL:https://sayva.us/event/kibbitz-korner/2025-11-26/
LOCATION:Temple RAMAT ZION\, 17655 Devonshire Street\, Northridge\, CA\, 91325\, United States
CATEGORIES:SAYVA Partner/Network
ATTACH;FMTTYPE=image/png:https://sayva.us/wp-content/uploads/2025/06/KibbitzKornerTRZ.png
END:VEVENT
BEGIN:VEVENT
DTSTART;TZID=UTC:20251203T103000
DTEND;TZID=UTC:20251203T113000
DTSTAMP:20260424T233141
CREATED:20250612T183359Z
LAST-MODIFIED:20250612T183359Z
UID:10000394-1764757800-1764761400@sayva.us
SUMMARY:Kibbitz Korner
DESCRIPTION:Wednesdays at Temple Ramat Zion \nCelebrate the spirit of togetherness with us! Our Kibbitz Korner meets every Wednesday at 10:30AM. A different type of program each week: karaoke\, card games\, trivia and more. \n10:30-11:30AM \nFun Games\nCommunity\nEntertainment\nTreats and Beverages
URL:https://sayva.us/event/kibbitz-korner/2025-12-03/
LOCATION:Temple RAMAT ZION\, 17655 Devonshire Street\, Northridge\, CA\, 91325\, United States
CATEGORIES:SAYVA Partner/Network
ATTACH;FMTTYPE=image/png:https://sayva.us/wp-content/uploads/2025/06/KibbitzKornerTRZ.png
END:VEVENT
BEGIN:VEVENT
DTSTART;TZID=UTC:20251206T190000
DTEND;TZID=UTC:20251206T200000
DTSTAMP:20260424T233141
CREATED:20251029T192348Z
LAST-MODIFIED:20251029T192348Z
UID:10000681-1765047600-1765051200@sayva.us
SUMMARY:Emma Lazarus: The Woman behind "The New Colossus"
DESCRIPTION:Emma Lazarus: The Woman behind “The New Colossus”\nDecember 6—7PM \nTemple Ramat Zion
URL:https://sayva.us/event/emma-lazarus-the-woman-behind-the-new-colossus/
ATTACH;FMTTYPE=image/jpeg:https://sayva.us/wp-content/uploads/2024/10/ramatzion.jpg
END:VEVENT
BEGIN:VEVENT
DTSTART;TZID=UTC:20251207T190000
DTEND;TZID=UTC:20251207T210000
DTSTAMP:20260424T233141
CREATED:20251202T190249Z
LAST-MODIFIED:20251202T190249Z
UID:10000690-1765134000-1765141200@sayva.us
SUMMARY:The Klezmatics at The Soraya
DESCRIPTION:The Klezmatics at The Soraya\nSunday\, Dec 7 at 7 PM\n\nBringing Yiddish music to audiences worldwide\, The Klezmatics kick off their 40th anniversary journey with a holiday concert celebrating the Festival of Lights. Use the code PARTNER20 for 20% off select seats!
URL:https://sayva.us/event/the-klezmatics-at-the-soraya/
ATTACH;FMTTYPE=image/jpeg:https://sayva.us/wp-content/uploads/2025/12/TheKlezmaticsTheSoraya.jpg
END:VEVENT
BEGIN:VEVENT
DTSTART;TZID=UTC:20251210T103000
DTEND;TZID=UTC:20251210T113000
DTSTAMP:20260424T233141
CREATED:20250612T183359Z
LAST-MODIFIED:20250612T183359Z
UID:10000395-1765362600-1765366200@sayva.us
SUMMARY:Kibbitz Korner
DESCRIPTION:Wednesdays at Temple Ramat Zion \nCelebrate the spirit of togetherness with us! Our Kibbitz Korner meets every Wednesday at 10:30AM. A different type of program each week: karaoke\, card games\, trivia and more. \n10:30-11:30AM \nFun Games\nCommunity\nEntertainment\nTreats and Beverages
URL:https://sayva.us/event/kibbitz-korner/2025-12-10/
LOCATION:Temple RAMAT ZION\, 17655 Devonshire Street\, Northridge\, CA\, 91325\, United States
CATEGORIES:SAYVA Partner/Network
ATTACH;FMTTYPE=image/png:https://sayva.us/wp-content/uploads/2025/06/KibbitzKornerTRZ.png
END:VEVENT
BEGIN:VEVENT
DTSTART;TZID=UTC:20251214T100000
DTEND;TZID=UTC:20251214T110000
DTSTAMP:20260424T233141
CREATED:20250910T192837Z
LAST-MODIFIED:20251029T202009Z
UID:10000657-1765706400-1765710000@sayva.us
SUMMARY:Walk with the Rabbi
DESCRIPTION:Walk with the Rabbi\nJoin SAYVA and an inspirational clergy member each month. as we engage in a leisurely walk around Lake Balboa on a beautiful Sunday morning. Candace will be there to greet you. Our meeting spot is in front of the children’s play area by the camel (see our picture.) near the first parking lot when entering park.  This is a great opportunity for some morning exercise and socializing with other like-minded individuals there. Bring a water bottle\, a hat\, and doggy’s are welcome! \nPlease enable JavaScript in your browser to complete this form.Please enable JavaScript in your browser to complete this form.Name *FirstLastEmail *Phone		\n			Email Affiliation Phone\n			\n		\n		AffiliationSubmit
URL:https://sayva.us/event/walk-with-the-rabbi-8/
CATEGORIES:SAYVA,SAYVA Partner/Network
ATTACH;FMTTYPE=image/png:https://sayva.us/wp-content/uploads/2025/09/12.14.25WalkwRabbi.png
END:VEVENT
BEGIN:VEVENT
DTSTART;TZID=UTC:20251217T103000
DTEND;TZID=UTC:20251217T113000
DTSTAMP:20260424T233141
CREATED:20250612T183359Z
LAST-MODIFIED:20250612T183359Z
UID:10000396-1765967400-1765971000@sayva.us
SUMMARY:Kibbitz Korner
DESCRIPTION:Wednesdays at Temple Ramat Zion \nCelebrate the spirit of togetherness with us! Our Kibbitz Korner meets every Wednesday at 10:30AM. A different type of program each week: karaoke\, card games\, trivia and more. \n10:30-11:30AM \nFun Games\nCommunity\nEntertainment\nTreats and Beverages
URL:https://sayva.us/event/kibbitz-korner/2025-12-17/
LOCATION:Temple RAMAT ZION\, 17655 Devonshire Street\, Northridge\, CA\, 91325\, United States
CATEGORIES:SAYVA Partner/Network
ATTACH;FMTTYPE=image/png:https://sayva.us/wp-content/uploads/2025/06/KibbitzKornerTRZ.png
END:VEVENT
BEGIN:VEVENT
DTSTART;TZID=UTC:20251217T190000
DTEND;TZID=UTC:20251217T203000
DTSTAMP:20260424T233141
CREATED:20250911T184654Z
LAST-MODIFIED:20250911T184654Z
UID:10000661-1765998000-1766003400@sayva.us
SUMMARY:Rosh Hodesh—TRZ's Monthly Women's Meet Up
DESCRIPTION:Rosh Hodesh—TRZ’s Monthly Women’s Meet Up \nA Program for Women 50+ Navigating Life Together \n 
URL:https://sayva.us/event/rosh-hodesh-trzs-monthly-womens-meet-up/2025-12-17/
ATTACH;FMTTYPE=image/png:https://sayva.us/wp-content/uploads/2025/09/Rosh-Hodesh-25-26-2.png
END:VEVENT
BEGIN:VEVENT
DTSTART;TZID=UTC:20251224T103000
DTEND;TZID=UTC:20251224T113000
DTSTAMP:20260424T233141
CREATED:20250612T183359Z
LAST-MODIFIED:20250612T183359Z
UID:10000397-1766572200-1766575800@sayva.us
SUMMARY:Kibbitz Korner
DESCRIPTION:Wednesdays at Temple Ramat Zion \nCelebrate the spirit of togetherness with us! Our Kibbitz Korner meets every Wednesday at 10:30AM. A different type of program each week: karaoke\, card games\, trivia and more. \n10:30-11:30AM \nFun Games\nCommunity\nEntertainment\nTreats and Beverages
URL:https://sayva.us/event/kibbitz-korner/2025-12-24/
LOCATION:Temple RAMAT ZION\, 17655 Devonshire Street\, Northridge\, CA\, 91325\, United States
CATEGORIES:SAYVA Partner/Network
ATTACH;FMTTYPE=image/png:https://sayva.us/wp-content/uploads/2025/06/KibbitzKornerTRZ.png
END:VEVENT
BEGIN:VEVENT
DTSTART;TZID=UTC:20251231T103000
DTEND;TZID=UTC:20251231T113000
DTSTAMP:20260424T233141
CREATED:20250612T183359Z
LAST-MODIFIED:20250612T183359Z
UID:10000398-1767177000-1767180600@sayva.us
SUMMARY:Kibbitz Korner
DESCRIPTION:Wednesdays at Temple Ramat Zion \nCelebrate the spirit of togetherness with us! Our Kibbitz Korner meets every Wednesday at 10:30AM. A different type of program each week: karaoke\, card games\, trivia and more. \n10:30-11:30AM \nFun Games\nCommunity\nEntertainment\nTreats and Beverages
URL:https://sayva.us/event/kibbitz-korner/2025-12-31/
LOCATION:Temple RAMAT ZION\, 17655 Devonshire Street\, Northridge\, CA\, 91325\, United States
CATEGORIES:SAYVA Partner/Network
ATTACH;FMTTYPE=image/png:https://sayva.us/wp-content/uploads/2025/06/KibbitzKornerTRZ.png
END:VEVENT
BEGIN:VEVENT
DTSTART;TZID=UTC:20260107T103000
DTEND;TZID=UTC:20260107T113000
DTSTAMP:20260424T233141
CREATED:20250612T183359Z
LAST-MODIFIED:20250612T183359Z
UID:10000399-1767781800-1767785400@sayva.us
SUMMARY:Kibbitz Korner
DESCRIPTION:Wednesdays at Temple Ramat Zion \nCelebrate the spirit of togetherness with us! Our Kibbitz Korner meets every Wednesday at 10:30AM. A different type of program each week: karaoke\, card games\, trivia and more. \n10:30-11:30AM \nFun Games\nCommunity\nEntertainment\nTreats and Beverages
URL:https://sayva.us/event/kibbitz-korner/2026-01-07/
LOCATION:Temple RAMAT ZION\, 17655 Devonshire Street\, Northridge\, CA\, 91325\, United States
CATEGORIES:SAYVA Partner/Network
ATTACH;FMTTYPE=image/png:https://sayva.us/wp-content/uploads/2025/06/KibbitzKornerTRZ.png
END:VEVENT
BEGIN:VEVENT
DTSTART;TZID=UTC:20260108T140000
DTEND;TZID=UTC:20260108T153000
DTSTAMP:20260424T233141
CREATED:20251113T184445Z
LAST-MODIFIED:20251118T200158Z
UID:10000685-1767880800-1767886200@sayva.us
SUMMARY:Growing Older\, Growing Wiser—In Person
DESCRIPTION:Join Rabbi Raff and Margaret Altschul\, Licensed Marriage and Family Therapist\, for a series of conversations on Zoom about Growing Older\, Growing Wiser! \nIn the four-part series\, we will explore what Jewish tradition teaches about finding meaning and purpose in later adulthood. \nEngage in deep conversations\, share reflections on growing older…how you stay creative and productive in later life and remain connected. Become a B’nei Hochmah\, a child of wisdom as together we will prepare\, learn\, and share a guided process of reflection to forge a new vision for your life’s purpose that reflects what’s important now. \nThursday\, November 13\, 2025 • 22 Cheshvan 5786\n2:00 PM – 3:30 PM-Temple Judea (in person) \nThursday\, January 8\, 2026 • 19 Tevet 5786\n2:00 PM – 3:30 PM-Temple Judea (in person) \nThursday\, March 12\, 2026 • 23 Adar 5786\n2:00 PM – 3:30 PM-Temple Judea (in person) \nThursday\, May 14\, 2026 • 27 Iyar 5786\n2:00 PM – 3:30 PM-Temple Judea (in person)
URL:https://sayva.us/event/growing-older-growing-wiser-in-person/2026-01-08/
CATEGORIES:SAYVA Partner/Network
ATTACH;FMTTYPE=image/jpeg:https://sayva.us/wp-content/uploads/2024/09/OlderWiser.jpg
END:VEVENT
BEGIN:VEVENT
DTSTART;TZID=UTC:20260112T143000
DTEND;TZID=UTC:20260112T163000
DTSTAMP:20260424T233141
CREATED:20251218T175232Z
LAST-MODIFIED:20251218T175232Z
UID:10000691-1768228200-1768235400@sayva.us
SUMMARY:Wise Aging in Everyday Life
DESCRIPTION:6 sessions\, Mondays from 2:30-4:30pm (PT)\nJan 12\, Jan 19\, Jan 26\, Feb 2\, Feb 9\, Feb 16\, 2026\nOn ZOOM only \nParticipants must have taken “Introduction to Wise Aging” or its equivalent in order to be accepted into this class. \nAnyone who isn’t sure whether they’ve met the necessary prerequisites for this class should contact Valerie Edwards at valerie.edwards9999@gmail.com to discuss their individual situation.  Those who register for the class but don’t attend the first session may be dropped from the class. \nZOOM link sent upon registration.
URL:https://sayva.us/event/wise-aging-in-everyday-life/2026-01-12/
ATTACH;FMTTYPE=image/png:https://sayva.us/wp-content/uploads/2025/08/1dfd49d7d1d58bbb4779dcfd2cd2fbda8722140c.png
END:VEVENT
BEGIN:VEVENT
DTSTART;TZID=UTC:20260114T103000
DTEND;TZID=UTC:20260114T113000
DTSTAMP:20260424T233141
CREATED:20250612T183359Z
LAST-MODIFIED:20250612T183359Z
UID:10000400-1768386600-1768390200@sayva.us
SUMMARY:Kibbitz Korner
DESCRIPTION:Wednesdays at Temple Ramat Zion \nCelebrate the spirit of togetherness with us! Our Kibbitz Korner meets every Wednesday at 10:30AM. A different type of program each week: karaoke\, card games\, trivia and more. \n10:30-11:30AM \nFun Games\nCommunity\nEntertainment\nTreats and Beverages
URL:https://sayva.us/event/kibbitz-korner/2026-01-14/
LOCATION:Temple RAMAT ZION\, 17655 Devonshire Street\, Northridge\, CA\, 91325\, United States
CATEGORIES:SAYVA Partner/Network
ATTACH;FMTTYPE=image/png:https://sayva.us/wp-content/uploads/2025/06/KibbitzKornerTRZ.png
END:VEVENT
BEGIN:VEVENT
DTSTART;TZID=UTC:20260119T143000
DTEND;TZID=UTC:20260119T163000
DTSTAMP:20260424T233141
CREATED:20251218T175232Z
LAST-MODIFIED:20251218T175232Z
UID:10000692-1768833000-1768840200@sayva.us
SUMMARY:Wise Aging in Everyday Life
DESCRIPTION:6 sessions\, Mondays from 2:30-4:30pm (PT)\nJan 12\, Jan 19\, Jan 26\, Feb 2\, Feb 9\, Feb 16\, 2026\nOn ZOOM only \nParticipants must have taken “Introduction to Wise Aging” or its equivalent in order to be accepted into this class. \nAnyone who isn’t sure whether they’ve met the necessary prerequisites for this class should contact Valerie Edwards at valerie.edwards9999@gmail.com to discuss their individual situation.  Those who register for the class but don’t attend the first session may be dropped from the class. \nZOOM link sent upon registration.
URL:https://sayva.us/event/wise-aging-in-everyday-life/2026-01-19/
ATTACH;FMTTYPE=image/png:https://sayva.us/wp-content/uploads/2025/08/1dfd49d7d1d58bbb4779dcfd2cd2fbda8722140c.png
END:VEVENT
BEGIN:VEVENT
DTSTART;TZID=UTC:20260121T103000
DTEND;TZID=UTC:20260121T113000
DTSTAMP:20260424T233141
CREATED:20250612T183359Z
LAST-MODIFIED:20250612T183359Z
UID:10000401-1768991400-1768995000@sayva.us
SUMMARY:Kibbitz Korner
DESCRIPTION:Wednesdays at Temple Ramat Zion \nCelebrate the spirit of togetherness with us! Our Kibbitz Korner meets every Wednesday at 10:30AM. A different type of program each week: karaoke\, card games\, trivia and more. \n10:30-11:30AM \nFun Games\nCommunity\nEntertainment\nTreats and Beverages
URL:https://sayva.us/event/kibbitz-korner/2026-01-21/
LOCATION:Temple RAMAT ZION\, 17655 Devonshire Street\, Northridge\, CA\, 91325\, United States
CATEGORIES:SAYVA Partner/Network
ATTACH;FMTTYPE=image/png:https://sayva.us/wp-content/uploads/2025/06/KibbitzKornerTRZ.png
END:VEVENT
BEGIN:VEVENT
DTSTART;TZID=UTC:20260122T190000
DTEND;TZID=UTC:20260122T203000
DTSTAMP:20260424T233141
CREATED:20250911T184654Z
LAST-MODIFIED:20250911T184654Z
UID:10000662-1769108400-1769113800@sayva.us
SUMMARY:Rosh Hodesh—TRZ's Monthly Women's Meet Up
DESCRIPTION:Rosh Hodesh—TRZ’s Monthly Women’s Meet Up \nA Program for Women 50+ Navigating Life Together \n 
URL:https://sayva.us/event/rosh-hodesh-trzs-monthly-womens-meet-up/2026-01-22/
ATTACH;FMTTYPE=image/png:https://sayva.us/wp-content/uploads/2025/09/Rosh-Hodesh-25-26-2.png
END:VEVENT
BEGIN:VEVENT
DTSTART;TZID=UTC:20260126T143000
DTEND;TZID=UTC:20260126T163000
DTSTAMP:20260424T233141
CREATED:20251218T175232Z
LAST-MODIFIED:20251218T175232Z
UID:10000693-1769437800-1769445000@sayva.us
SUMMARY:Wise Aging in Everyday Life
DESCRIPTION:6 sessions\, Mondays from 2:30-4:30pm (PT)\nJan 12\, Jan 19\, Jan 26\, Feb 2\, Feb 9\, Feb 16\, 2026\nOn ZOOM only \nParticipants must have taken “Introduction to Wise Aging” or its equivalent in order to be accepted into this class. \nAnyone who isn’t sure whether they’ve met the necessary prerequisites for this class should contact Valerie Edwards at valerie.edwards9999@gmail.com to discuss their individual situation.  Those who register for the class but don’t attend the first session may be dropped from the class. \nZOOM link sent upon registration.
URL:https://sayva.us/event/wise-aging-in-everyday-life/2026-01-26/
ATTACH;FMTTYPE=image/png:https://sayva.us/wp-content/uploads/2025/08/1dfd49d7d1d58bbb4779dcfd2cd2fbda8722140c.png
END:VEVENT
BEGIN:VEVENT
DTSTART;TZID=UTC:20260128T103000
DTEND;TZID=UTC:20260128T113000
DTSTAMP:20260424T233141
CREATED:20250612T183359Z
LAST-MODIFIED:20250612T183359Z
UID:10000402-1769596200-1769599800@sayva.us
SUMMARY:Kibbitz Korner
DESCRIPTION:Wednesdays at Temple Ramat Zion \nCelebrate the spirit of togetherness with us! Our Kibbitz Korner meets every Wednesday at 10:30AM. A different type of program each week: karaoke\, card games\, trivia and more. \n10:30-11:30AM \nFun Games\nCommunity\nEntertainment\nTreats and Beverages
URL:https://sayva.us/event/kibbitz-korner/2026-01-28/
LOCATION:Temple RAMAT ZION\, 17655 Devonshire Street\, Northridge\, CA\, 91325\, United States
CATEGORIES:SAYVA Partner/Network
ATTACH;FMTTYPE=image/png:https://sayva.us/wp-content/uploads/2025/06/KibbitzKornerTRZ.png
END:VEVENT
END:VCALENDAR