BEGIN:VCALENDAR
VERSION:2.0
PRODID:-//SAYVA - ECPv6.15.20//NONSGML v1.0//EN
CALSCALE:GREGORIAN
METHOD:PUBLISH
X-WR-CALNAME:SAYVA
X-ORIGINAL-URL:https://sayva.us
X-WR-CALDESC:Events for SAYVA
REFRESH-INTERVAL;VALUE=DURATION:PT1H
X-Robots-Tag:noindex
X-PUBLISHED-TTL:PT1H
BEGIN:VTIMEZONE
TZID:UTC
BEGIN:STANDARD
TZOFFSETFROM:+0000
TZOFFSETTO:+0000
TZNAME:UTC
DTSTART:20250101T000000
END:STANDARD
END:VTIMEZONE
BEGIN:VEVENT
DTSTART;TZID=UTC:20260322T150000
DTEND;TZID=UTC:20260322T170000
DTSTAMP:20260424T162551
CREATED:20260226T192744Z
LAST-MODIFIED:20260226T192744Z
UID:10000710-1774191600-1774198800@sayva.us
SUMMARY:Opera Favorites with a Jewish Twist
DESCRIPTION:Opera Favorites with a Jewish Twist\nSunday\, March 22\, 2026 | 3:00 PM\nWilshire Boulevard Temple – Glazer Campus \nPresented by Wilshire Boulevard Temple and the Los Angeles Jewish Symphony\, this special concert travels through two centuries of opera and song\, celebrating Jewish composers and librettists who helped shape the sound of the opera house. From Mozart to Bizet to Broadway and beyond\, the afternoon features operatic favorites with Jewish connections and biblical inspiration.\n \nGeneral Seating:\n$36 – Wilshire Boulevard Temple members\n$45 – Los Angeles Jewish Symphony members-SAYVA discount\n$54 – Non-members\n \nBuy Tickets HERE.
URL:https://sayva.us/event/opera-favorites-with-a-jewish-twist/
END:VEVENT
END:VCALENDAR