BEGIN:VCALENDAR
VERSION:2.0
PRODID:-//SAYVA - ECPv6.15.20//NONSGML v1.0//EN
CALSCALE:GREGORIAN
METHOD:PUBLISH
X-ORIGINAL-URL:https://sayva.us
X-WR-CALDESC:Events for SAYVA
REFRESH-INTERVAL;VALUE=DURATION:PT1H
X-Robots-Tag:noindex
X-PUBLISHED-TTL:PT1H
BEGIN:VTIMEZONE
TZID:UTC
BEGIN:STANDARD
TZOFFSETFROM:+0000
TZOFFSETTO:+0000
TZNAME:UTC
DTSTART:20250101T000000
END:STANDARD
END:VTIMEZONE
BEGIN:VEVENT
DTSTART;TZID=UTC:20260312T140000
DTEND;TZID=UTC:20260312T150000
DTSTAMP:20260424T162602
CREATED:20251113T184445Z
LAST-MODIFIED:20251118T200158Z
UID:10000686-1773324000-1773327600@sayva.us
SUMMARY:Growing Older\, Growing Wiser—In Person
DESCRIPTION:Join Rabbi Raff and Margaret Altschul\, Licensed Marriage and Family Therapist\, for a series of conversations on Zoom about Growing Older\, Growing Wiser! \nIn the four-part series\, we will explore what Jewish tradition teaches about finding meaning and purpose in later adulthood. \nEngage in deep conversations\, share reflections on growing older…how you stay creative and productive in later life and remain connected. Become a B’nei Hochmah\, a child of wisdom as together we will prepare\, learn\, and share a guided process of reflection to forge a new vision for your life’s purpose that reflects what’s important now. \nThursday\, November 13\, 2025 • 22 Cheshvan 5786\n2:00 PM – 3:30 PM-Temple Judea (in person) \nThursday\, January 8\, 2026 • 19 Tevet 5786\n2:00 PM – 3:30 PM-Temple Judea (in person) \nThursday\, March 12\, 2026 • 23 Adar 5786\n2:00 PM – 3:30 PM-Temple Judea (in person) \nThursday\, May 14\, 2026 • 27 Iyar 5786\n2:00 PM – 3:30 PM-Temple Judea (in person)
URL:https://sayva.us/event/growing-older-growing-wiser-in-person/2026-03-12/
CATEGORIES:SAYVA Partner/Network
ATTACH;FMTTYPE=image/jpeg:https://sayva.us/wp-content/uploads/2024/09/OlderWiser.jpg
END:VEVENT
BEGIN:VEVENT
DTSTART;TZID=UTC:20260312T140000
DTEND;TZID=UTC:20260312T153000
DTSTAMP:20260424T162602
CREATED:20260310T011949Z
LAST-MODIFIED:20260310T011949Z
UID:10000714-1773324000-1773329400@sayva.us
SUMMARY:Crucial Conversations—TJ Village ﻿ ﻿Temple Judea
DESCRIPTION:TJ Village\nTemple Judea \nCrucial Conversations \nThurs.\, March 12\, | 2:00 – 3:30 PM \nGrowing Older\, Growing Wiser shifts to a new 3-part Series taught by Rabbi Josh Aaronson and Rabbi Bruce Raff. \nThursday\, March 12 \nSession #1 will focus on Rituals of Mortality\, taught by Rabbi Raff \nThursday\, April 23 \nSession #2 Rituals & Customs of Jewish Mourning\, through the end of the Shana\, taught by Rabbi Aaronson \nThursday\, May 14 \nSession #3 The Legacy We Bequeath: Ethical Wills\, taught by Rabbi Aaronson and Rabbi Raff \nA discussion of the process of growing older\, including end-of-life issues & rituals; preparing for death. \nEveryone is welcome to attend this 3-part series\, regardless if you have attended in the past\, are currently enrolled\, or have never participated in Growing Older\, Growing Wiser. *Please REGISTER for Crucial Conversations: Preparing for the End of Life. \nEven if you are already enrolled for the previously scheduled classes on March 12 & May 24\, 2pm\, *you must enroll!
URL:https://sayva.us/event/crucial-conversations-tj-village-temple-judea/2026-03-12/
ATTACH;FMTTYPE=image/png:https://sayva.us/wp-content/uploads/2024/10/tjudea.png
END:VEVENT
END:VCALENDAR