BEGIN:VCALENDAR
VERSION:2.0
PRODID:-//SAYVA - ECPv6.15.20//NONSGML v1.0//EN
CALSCALE:GREGORIAN
METHOD:PUBLISH
X-WR-CALNAME:SAYVA
X-ORIGINAL-URL:https://sayva.us
X-WR-CALDESC:Events for SAYVA
REFRESH-INTERVAL;VALUE=DURATION:PT1H
X-Robots-Tag:noindex
X-PUBLISHED-TTL:PT1H
BEGIN:VTIMEZONE
TZID:UTC
BEGIN:STANDARD
TZOFFSETFROM:+0000
TZOFFSETTO:+0000
TZNAME:UTC
DTSTART:20250101T000000
END:STANDARD
END:VTIMEZONE
BEGIN:VEVENT
DTSTART;TZID=UTC:20260209T143000
DTEND;TZID=UTC:20260209T163000
DTSTAMP:20260424T175528
CREATED:20251218T175232Z
LAST-MODIFIED:20251218T175232Z
UID:10000695-1770647400-1770654600@sayva.us
SUMMARY:Wise Aging in Everyday Life
DESCRIPTION:6 sessions\, Mondays from 2:30-4:30pm (PT)\nJan 12\, Jan 19\, Jan 26\, Feb 2\, Feb 9\, Feb 16\, 2026\nOn ZOOM only \nParticipants must have taken “Introduction to Wise Aging” or its equivalent in order to be accepted into this class. \nAnyone who isn’t sure whether they’ve met the necessary prerequisites for this class should contact Valerie Edwards at valerie.edwards9999@gmail.com to discuss their individual situation.  Those who register for the class but don’t attend the first session may be dropped from the class. \nZOOM link sent upon registration.
URL:https://sayva.us/event/wise-aging-in-everyday-life/2026-02-09/
ATTACH;FMTTYPE=image/png:https://sayva.us/wp-content/uploads/2025/08/1dfd49d7d1d58bbb4779dcfd2cd2fbda8722140c.png
END:VEVENT
END:VCALENDAR