BEGIN:VCALENDAR
VERSION:2.0
PRODID:-//SAYVA - ECPv6.15.20//NONSGML v1.0//EN
CALSCALE:GREGORIAN
METHOD:PUBLISH
X-WR-CALNAME:SAYVA
X-ORIGINAL-URL:https://sayva.us
X-WR-CALDESC:Events for SAYVA
REFRESH-INTERVAL;VALUE=DURATION:PT1H
X-Robots-Tag:noindex
X-PUBLISHED-TTL:PT1H
BEGIN:VTIMEZONE
TZID:UTC
BEGIN:STANDARD
TZOFFSETFROM:+0000
TZOFFSETTO:+0000
TZNAME:UTC
DTSTART:20240101T000000
END:STANDARD
END:VTIMEZONE
BEGIN:VEVENT
DTSTART;TZID=UTC:20251123T090000
DTEND;TZID=UTC:20251123T110000
DTSTAMP:20260424T220423
CREATED:20251021T225931Z
LAST-MODIFIED:20251021T225931Z
UID:10000680-1763888400-1763895600@sayva.us
SUMMARY:Parashat Lech Lecha: Taking Our Next Step\, with Yiscah Smith
DESCRIPTION:Parashat Lech Lecha: Taking Our Next Step\, with Yiscah Smith\nSunday\, November 23\, 2025 • 3 Kislev 5786\n9:45 AM – 12:00 PM Social Hall —HaMAKOM\nDon’t miss this program with one of our most engaging contemporary Jewish thought leaders.\nYiscah Smith’s book\, Planting Seeds of the Divine\, will be available for purchase at the event. \n“Experiencing deep personal fulfillment\, happiness\, and sustenance comes from feeling connected to our authentic selves\, which involves building an ongoing relationship with the Divine Presence within us”\, says author Yiscah Smith. “Quite organically\, then\, we may begin sensing the Divine in our interactions with other people. This is because for each of us\, our essence\, as a creation by God\, is God.” \nCLICK HERE TO RSVP \n 
URL:https://sayva.us/event/parashat-lech-lecha-taking-our-next-step-with-yiscah-smith/
ATTACH;FMTTYPE=image/png:https://sayva.us/wp-content/uploads/2025/10/Yiscah-Smith-Nov-2025.png
END:VEVENT
BEGIN:VEVENT
DTSTART;TZID=UTC:20251123T110000
DTEND;TZID=UTC:20251123T120000
DTSTAMP:20260424T220423
CREATED:20251111T191847Z
LAST-MODIFIED:20251111T223922Z
UID:10000683-1763895600-1763899200@sayva.us
SUMMARY:SAYVA Presents: A Special Weekend with Cantor Benjamin Kintisch
DESCRIPTION:SAYVA Presents: A Special Weekend with Cantor Benjamin Kintisch Creator and Performer of Life Review: The Hospice Musical—A moving\, uplifting celebration of life\, love\, and loss. \nDescribed as “A Chorus Line meets Fiddler on the Roof\,” the show blends story\, song\, and heart. \nSunday\, Nov 23 | Fountainview at LA Jewish Health\, 6440 Wilbur Ave\, Reseda\, CA 91335 \n\n11:00 AM — West Coast Premiere: Life Review — The Hospice Musical\nExperience Cantor Kintisch’s acclaimed one-man show — moving\, funny\, and profoundly human — performed live with guitar. Limited Space!\n\nPlease enable JavaScript in your browser to complete this form.Please enable JavaScript in your browser to complete this form.Name *FirstLast		\n			How event? Email\n			\n		\n		Email *PhoneHow did you hear about the event?Please indicate how many will be joining.12345678910Please share guest names for security.Please select events you would like to attend. Friday\, Nov 21 | Kol Tikvah\, Woodland Hills5:30 pm Conversation program6:30 pm Shabbat ServicesBothSunday\, Nov. 23 | Fountainview at LA Jewish Health\, Reseda11:00 am—Cantor Kintisch’s live one-man show.Submit
URL:https://sayva.us/event/sayva-presents-a-special-weekend-with-cantor-benjamin-kintisch-2/
CATEGORIES:SAYVA
ATTACH;FMTTYPE=image/png:https://sayva.us/wp-content/uploads/2025/11/b_11.21_11.23-scaled.png
END:VEVENT
END:VCALENDAR