BEGIN:VCALENDAR
VERSION:2.0
PRODID:-//SAYVA - ECPv6.15.20//NONSGML v1.0//EN
CALSCALE:GREGORIAN
METHOD:PUBLISH
X-WR-CALNAME:SAYVA
X-ORIGINAL-URL:https://sayva.us
X-WR-CALDESC:Events for SAYVA
REFRESH-INTERVAL;VALUE=DURATION:PT1H
X-Robots-Tag:noindex
X-PUBLISHED-TTL:PT1H
BEGIN:VTIMEZONE
TZID:UTC
BEGIN:STANDARD
TZOFFSETFROM:+0000
TZOFFSETTO:+0000
TZNAME:UTC
DTSTART:20240101T000000
END:STANDARD
END:VTIMEZONE
BEGIN:VEVENT
DTSTART;TZID=UTC:20250929T100000
DTEND;TZID=UTC:20250929T140000
DTSTAMP:20260424T232930
CREATED:20250904T201539Z
LAST-MODIFIED:20250904T201539Z
UID:10000655-1759140000-1759154400@sayva.us
SUMMARY:Hazak Mondays
DESCRIPTION:11:15 am: Henry VIII and His Rabbis: How the King Relied on Jewish Law to End His First Marriage and Why He Failed \nJerry Rabow\, Retired Attorney\, Author\, and Hazak Member \nWhy did it take King Henry VIII six years of conflict (1527–1533) to end his marriage to Catherine of Aragon and marry Anne Boleyn? \nLunch\, Torah Study and Hot Topics will follow
URL:https://sayva.us/event/hazak-mondays-2/
ATTACH;FMTTYPE=image/png:https://sayva.us/wp-content/uploads/2024/10/vbs.png
END:VEVENT
END:VCALENDAR