BEGIN:VCALENDAR
VERSION:2.0
PRODID:-//SAYVA - ECPv6.15.20//NONSGML v1.0//EN
CALSCALE:GREGORIAN
METHOD:PUBLISH
X-WR-CALNAME:SAYVA
X-ORIGINAL-URL:https://sayva.us
X-WR-CALDESC:Events for SAYVA
REFRESH-INTERVAL;VALUE=DURATION:PT1H
X-Robots-Tag:noindex
X-PUBLISHED-TTL:PT1H
BEGIN:VTIMEZONE
TZID:UTC
BEGIN:STANDARD
TZOFFSETFROM:+0000
TZOFFSETTO:+0000
TZNAME:UTC
DTSTART:20240101T000000
END:STANDARD
END:VTIMEZONE
BEGIN:VEVENT
DTSTART;TZID=UTC:20250919T110000
DTEND;TZID=UTC:20250919T123000
DTSTAMP:20260425T005617
CREATED:20250805T174935Z
LAST-MODIFIED:20250917T195058Z
UID:10000634-1758279600-1758285000@sayva.us
SUMMARY:A 3-Part Storytelling Workshop—Telling Your Story: From Memory to Meaning
DESCRIPTION:Thank you for your interest. Participation in this workshop is now closed \nTelling Your Story: From Memory to Meaning \nA 3-Part Storytelling Workshop\nTurning treasured memories into stories that move\, connect\, and endure\n \nPLEASE NOTE: Registering for the SEPTEMBER 12th workshop automatically signs you up SEPTEMBER 19th AND SEPTEMBER 26th \nFridays: September 12\, 19\, & 26 | 11:00 AM–12:30 PM\nLocation: Valley Beth Shalom \nDo you fancy yourself a storyteller—or have a story you’ve always wanted to tell? \nJoin us for a reflective and inspiring workshop where you’ll explore the art of storytelling\, revisit meaningful life moments\, and craft one personal story with expert guidance. Whether you’re a journaler\, storyteller\, or just someone with memories to share\, this workshop is for you—no experience needed\, just your voice and your stories. \nLed by Ronda Spinak\, Founding Artistic Director of The Braid\, a nationally recognized organization bringing Jewish stories to life through professional stage productions. For more information on The Braid: Click Here \nSpecial Feature:\nRonda helps individuals find\, shape\, and share their personal stories. Participants will be encouraged to submit their work for possible inclusion in The Braid’s 2026 season\, where selected stories may be performed by professional actors. For more information \nIf you are interested in a future workshop please fill out the form below. \nPlease enable JavaScript in your browser to complete this form.Please enable JavaScript in your browser to complete this form.Name *FirstLastEmail *		\n			interests this about\n			\n		\n		AffiliationWhat interests you about this workshop?Submit
URL:https://sayva.us/event/telling-your-story-from-memory-to-meaning/2025-09-19/
CATEGORIES:SAYVA
ATTACH;FMTTYPE=image/jpeg:https://sayva.us/wp-content/uploads/2025/08/FOR-WEBSITE-scaled.jpg
END:VEVENT
END:VCALENDAR