BEGIN:VCALENDAR
VERSION:2.0
PRODID:-//SAYVA - ECPv6.15.20//NONSGML v1.0//EN
CALSCALE:GREGORIAN
METHOD:PUBLISH
X-ORIGINAL-URL:https://sayva.us
X-WR-CALDESC:Events for SAYVA
REFRESH-INTERVAL;VALUE=DURATION:PT1H
X-Robots-Tag:noindex
X-PUBLISHED-TTL:PT1H
BEGIN:VTIMEZONE
TZID:UTC
BEGIN:STANDARD
TZOFFSETFROM:+0000
TZOFFSETTO:+0000
TZNAME:UTC
DTSTART:20240101T000000
END:STANDARD
END:VTIMEZONE
BEGIN:VEVENT
DTSTART;TZID=UTC:20250910T103000
DTEND;TZID=UTC:20250910T113000
DTSTAMP:20260425T005647
CREATED:20250612T183359Z
LAST-MODIFIED:20250612T183359Z
UID:10000382-1757500200-1757503800@sayva.us
SUMMARY:Kibbitz Korner
DESCRIPTION:Wednesdays at Temple Ramat Zion \nCelebrate the spirit of togetherness with us! Our Kibbitz Korner meets every Wednesday at 10:30AM. A different type of program each week: karaoke\, card games\, trivia and more. \n10:30-11:30AM \nFun Games\nCommunity\nEntertainment\nTreats and Beverages
URL:https://sayva.us/event/kibbitz-korner/2025-09-10/
LOCATION:Temple RAMAT ZION\, 17655 Devonshire Street\, Northridge\, CA\, 91325\, United States
CATEGORIES:SAYVA Partner/Network
ATTACH;FMTTYPE=image/png:https://sayva.us/wp-content/uploads/2025/06/KibbitzKornerTRZ.png
END:VEVENT
BEGIN:VEVENT
DTSTART;TZID=UTC:20250910T103000
DTEND;TZID=UTC:20250910T120000
DTSTAMP:20260425T005647
CREATED:20250904T200958Z
LAST-MODIFIED:20250904T200958Z
UID:10000652-1757500200-1757505600@sayva.us
SUMMARY:VBS Hazak: Picnic Wednesdays
DESCRIPTION:Stay connected to Hazak. Come gather at the park for fun and conversation with old friends and acquaintances. \nEncino (Genesta) Park in a small shaded neighborhood park with picnic and public restrooms. \nCLICK HERE to signup
URL:https://sayva.us/event/vbs-hazak-picnic-wednesdays/2025-09-10/
CATEGORIES:SAYVA Partner/Network
ATTACH;FMTTYPE=image/jpeg:https://sayva.us/wp-content/uploads/2025/09/Hazak-Picnics-Flyer.jpg
END:VEVENT
END:VCALENDAR