BEGIN:VCALENDAR
VERSION:2.0
PRODID:-//SAYVA - ECPv6.15.20//NONSGML v1.0//EN
CALSCALE:GREGORIAN
METHOD:PUBLISH
X-ORIGINAL-URL:https://sayva.us
X-WR-CALDESC:Events for SAYVA
REFRESH-INTERVAL;VALUE=DURATION:PT1H
X-Robots-Tag:noindex
X-PUBLISHED-TTL:PT1H
BEGIN:VTIMEZONE
TZID:UTC
BEGIN:STANDARD
TZOFFSETFROM:+0000
TZOFFSETTO:+0000
TZNAME:UTC
DTSTART:20240101T000000
END:STANDARD
END:VTIMEZONE
BEGIN:VEVENT
DTSTART;TZID=UTC:20250908T100000
DTEND;TZID=UTC:20250908T140000
DTSTAMP:20260425T005613
CREATED:20250904T201327Z
LAST-MODIFIED:20250904T201327Z
UID:10000654-1757325600-1757340000@sayva.us
SUMMARY:Hazak Mondays
DESCRIPTION:
URL:https://sayva.us/event/hazak-mondays/
ATTACH;FMTTYPE=image/png:https://sayva.us/wp-content/uploads/2024/10/vbs.png
END:VEVENT
END:VCALENDAR