BEGIN:VCALENDAR
VERSION:2.0
PRODID:-//SAYVA - ECPv6.15.20//NONSGML v1.0//EN
CALSCALE:GREGORIAN
METHOD:PUBLISH
X-WR-CALNAME:SAYVA
X-ORIGINAL-URL:https://sayva.us
X-WR-CALDESC:Events for SAYVA
REFRESH-INTERVAL;VALUE=DURATION:PT1H
X-Robots-Tag:noindex
X-PUBLISHED-TTL:PT1H
BEGIN:VTIMEZONE
TZID:UTC
BEGIN:STANDARD
TZOFFSETFROM:+0000
TZOFFSETTO:+0000
TZNAME:UTC
DTSTART:20240101T000000
END:STANDARD
END:VTIMEZONE
BEGIN:VEVENT
DTSTART;TZID=UTC:20250903T103000
DTEND;TZID=UTC:20250903T113000
DTSTAMP:20260425T010541
CREATED:20250612T183359Z
LAST-MODIFIED:20250612T183359Z
UID:10000381-1756895400-1756899000@sayva.us
SUMMARY:Kibbitz Korner
DESCRIPTION:Wednesdays at Temple Ramat Zion \nCelebrate the spirit of togetherness with us! Our Kibbitz Korner meets every Wednesday at 10:30AM. A different type of program each week: karaoke\, card games\, trivia and more. \n10:30-11:30AM \nFun Games\nCommunity\nEntertainment\nTreats and Beverages
URL:https://sayva.us/event/kibbitz-korner/2025-09-03/
LOCATION:Temple RAMAT ZION\, 17655 Devonshire Street\, Northridge\, CA\, 91325\, United States
CATEGORIES:SAYVA Partner/Network
ATTACH;FMTTYPE=image/png:https://sayva.us/wp-content/uploads/2025/06/KibbitzKornerTRZ.png
END:VEVENT
BEGIN:VEVENT
DTSTART;TZID=UTC:20250903T140000
DTEND;TZID=UTC:20250903T153000
DTSTAMP:20260425T010541
CREATED:20250807T180855Z
LAST-MODIFIED:20250807T180855Z
UID:10000641-1756908000-1756913400@sayva.us
SUMMARY:Growing Older\, Growing Wiser: ZOOM SERIES
DESCRIPTION:ZOOM: \nJoin Rabbi Raff and Margaret Altschul\, Licensed Marriage and Family Therapist\, for a series of conversations on Zoom about Growing Older\, Growing Wiser! \nIn the four-part series\, we will  explore what Jewish tradition teaches about finding meaning and purpose in later adulthood. \nEngage in deep conversations\, share reflections on growing older…how you stay creative and productive in later life and remain connected. Become a B’nei Hochmah\, a child of wisdom as together we will prepare\, learn\, and share a guided process of reflection to forge a new vision for your life’s purpose that reflects what’s important now. \nUpcoming Sessions\n\n1. Wednesday\, September 3\, 2025 • 10 Elul 5785\n2:00 PM – 3:30 PM ON ZOOM \n2. Wednesday\, November 5\, 2025 • 14 Cheshvan 5786\n2:00 PM – 3:30 PM ON ZOOM \n3. Wednesday\, January 7\, 2026 • 18 Tevet 5786\n2:00 PM – 3:30 PM ON ZOOM \n4. Wednesday\, March 4\, 2026 • 15 Adar 5786\n2:00 PM – 3:30 PM ON ZOOM \n5. Wednesday\, May 6\, 2026 • 19 Iyar 5786\n2:00 PM – 3:30 PMON ZOOM \nCLICK HERE for more information.
URL:https://sayva.us/event/growing-older-growing-wiser-zoom-series/2025-09-03/
CATEGORIES:SAYVA,SAYVA Partner/Network
ATTACH;FMTTYPE=image/jpeg:https://sayva.us/wp-content/uploads/2024/09/OlderWiser.jpg
END:VEVENT
END:VCALENDAR